BEGIN:VCALENDAR
VERSION:2.0
PRODID:-//Arcadia Round Barn - ECPv6.15.20//NONSGML v1.0//EN
CALSCALE:GREGORIAN
METHOD:PUBLISH
X-ORIGINAL-URL:https://arcadiaroundbarn.com
X-WR-CALDESC:Events for Arcadia Round Barn
REFRESH-INTERVAL;VALUE=DURATION:PT1H
X-Robots-Tag:noindex
X-PUBLISHED-TTL:PT1H
BEGIN:VTIMEZONE
TZID:America/Chicago
BEGIN:DAYLIGHT
TZOFFSETFROM:-0600
TZOFFSETTO:-0500
TZNAME:CDT
DTSTART:20190310T080000
END:DAYLIGHT
BEGIN:STANDARD
TZOFFSETFROM:-0500
TZOFFSETTO:-0600
TZNAME:CST
DTSTART:20191103T070000
END:STANDARD
BEGIN:DAYLIGHT
TZOFFSETFROM:-0600
TZOFFSETTO:-0500
TZNAME:CDT
DTSTART:20200308T080000
END:DAYLIGHT
BEGIN:STANDARD
TZOFFSETFROM:-0500
TZOFFSETTO:-0600
TZNAME:CST
DTSTART:20201101T070000
END:STANDARD
BEGIN:DAYLIGHT
TZOFFSETFROM:-0600
TZOFFSETTO:-0500
TZNAME:CDT
DTSTART:20210314T080000
END:DAYLIGHT
BEGIN:STANDARD
TZOFFSETFROM:-0500
TZOFFSETTO:-0600
TZNAME:CST
DTSTART:20211107T070000
END:STANDARD
END:VTIMEZONE
BEGIN:VEVENT
DTSTART;TZID=America/Chicago:20201024T103000
DTEND;TZID=America/Chicago:20201024T123000
DTSTAMP:20260424T134547
CREATED:20200922T145624Z
LAST-MODIFIED:20240216T200943Z
UID:10000027-1603535400-1603542600@arcadiaroundbarn.com
SUMMARY:Janice Francis Smith — Saturday Morning Music Sessions
DESCRIPTION:Sponsored by the Arcadia Historical & Preservation Society. All shows are outdoors\, weather permitting. Donations are appreciated. Shows are FREE to the public.
URL:https://arcadiaroundbarn.com/event/janice-francis-smith-saturday-morning-music-sessions/
LOCATION:Arcadia Round Barn\, 107 OK-66\, Arcadia\, OK\, 73034\, United States
CATEGORIES:Music,Saturday Morning Music Sessions
END:VEVENT
BEGIN:VEVENT
DTSTART;TZID=America/Chicago:20201004T133000
DTEND;TZID=America/Chicago:20201004T153000
DTSTAMP:20260424T134547
CREATED:20200922T145842Z
LAST-MODIFIED:20240216T200943Z
UID:10000028-1601818200-1601825400@arcadiaroundbarn.com
SUMMARY:The Regular Joes — Elm Tree Concerts
DESCRIPTION:Sponsored by the Arcadia Historical & Preservation Society. All shows are outdoors\, weather permitting. Donations are appreciated. Shows are FREE to the public.
URL:https://arcadiaroundbarn.com/event/the-regular-joes-elm-tree-concerts/
LOCATION:Arcadia Round Barn\, 107 OK-66\, Arcadia\, OK\, 73034\, United States
CATEGORIES:Elm Tree Concerts,Music
END:VEVENT
BEGIN:VEVENT
DTSTART;TZID=America/Chicago:20200920T120000
DTEND;TZID=America/Chicago:20200920T140000
DTSTAMP:20260424T134547
CREATED:20200916T150052Z
LAST-MODIFIED:20240216T200943Z
UID:10000026-1600603200-1600610400@arcadiaroundbarn.com
SUMMARY:The Round Barn Ramblers — Sunday Casual Concerts
DESCRIPTION:Sponsored by the Arcadia Historical & Preservation Society. All shows are outdoors\, weather permitting. Donations are appreciated. Shows are FREE to the public.
URL:https://arcadiaroundbarn.com/event/the-round-barn-ramblers-sunday-casual-concerts/
LOCATION:Arcadia Round Barn\, 107 OK-66\, Arcadia\, OK\, 73034\, United States
CATEGORIES:Music
END:VEVENT
BEGIN:VEVENT
DTSTART;TZID=America/Chicago:20200808T103000
DTEND;TZID=America/Chicago:20200808T123000
DTSTAMP:20260424T134547
CREATED:20200701T193347Z
LAST-MODIFIED:20200804T225903Z
UID:10000060-1596882600-1596889800@arcadiaroundbarn.com
SUMMARY:Michele Goodman — Saturday Morning Music Sessions
DESCRIPTION:Pawnee musician Michelle Goodman will bring a classic country and gospel music concert to the Arcadia Round Barn on Saturday\, Aug. 8. \nGoodman sings and plays acoustic guitar\, and her brother\, Tim Goodman\, will join her on bass guitar. \nMorning Music is from 10:30 a.m. to 12:30 pm. every Saturday\, beneath the shade of the giant elm tree on the north side of the barn. Admission is free but donations are accepted. \nThe Round Barn Rendezvous is set for noon to 4 p.m. Sunday\, Aug. 9\, with local musicians welcome to join the monthly jam session. \nThe Round Barn is 6 miles east of Interstate 35 on Historic Route 66. Due to the pandemic\, the barn is currently open from Friday though Monday. Check the Arcadia Round Barn website and Facebook page for hours of operation\, which vary based on volunteer availability. Masks are required. \nFor more information about live music at the barn\, call Oklahoma City singer-songwriter Joe Baxter at 405-833-1350. \n  \n  \nSponsored by the Arcadia Historical & Preservation Society. All shows are outdoors\, weather permitting. Donations are appreciated. Shows are FREE to the public.
URL:https://arcadiaroundbarn.com/event/michele-goodman-saturday-morning-music-sessions/
LOCATION:Arcadia Round Barn\, 107 OK-66\, Arcadia\, OK\, 73034\, United States
CATEGORIES:Music,Saturday Morning Music Sessions
END:VEVENT
END:VCALENDAR