BEGIN:VCALENDAR
VERSION:2.0
PRODID:-//Arcadia Round Barn - ECPv6.15.20//NONSGML v1.0//EN
CALSCALE:GREGORIAN
METHOD:PUBLISH
X-WR-CALNAME:Arcadia Round Barn
X-ORIGINAL-URL:https://arcadiaroundbarn.com
X-WR-CALDESC:Events for Arcadia Round Barn
REFRESH-INTERVAL;VALUE=DURATION:PT1H
X-Robots-Tag:noindex
X-PUBLISHED-TTL:PT1H
BEGIN:VTIMEZONE
TZID:America/Chicago
BEGIN:DAYLIGHT
TZOFFSETFROM:-0600
TZOFFSETTO:-0500
TZNAME:CDT
DTSTART:20250309T080000
END:DAYLIGHT
BEGIN:STANDARD
TZOFFSETFROM:-0500
TZOFFSETTO:-0600
TZNAME:CST
DTSTART:20251102T070000
END:STANDARD
BEGIN:DAYLIGHT
TZOFFSETFROM:-0600
TZOFFSETTO:-0500
TZNAME:CDT
DTSTART:20260308T080000
END:DAYLIGHT
BEGIN:STANDARD
TZOFFSETFROM:-0500
TZOFFSETTO:-0600
TZNAME:CST
DTSTART:20261101T070000
END:STANDARD
BEGIN:DAYLIGHT
TZOFFSETFROM:-0600
TZOFFSETTO:-0500
TZNAME:CDT
DTSTART:20270314T080000
END:DAYLIGHT
BEGIN:STANDARD
TZOFFSETFROM:-0500
TZOFFSETTO:-0600
TZNAME:CST
DTSTART:20271107T070000
END:STANDARD
END:VTIMEZONE
BEGIN:VEVENT
DTSTART;TZID=America/Chicago:20260503T130000
DTEND;TZID=America/Chicago:20260503T150000
DTSTAMP:20260423T044702
CREATED:20260211T201908Z
LAST-MODIFIED:20260413T145032Z
UID:10000501-1777813200-1777820400@arcadiaroundbarn.com
SUMMARY:GYPSY TWANG to present Elm Tree Concert on MAY 3rd
DESCRIPTION:Tulsa singer-songwriters GYPSY TWANG will present an Elm Tree concert on Sunday\, May 3rd\, at the Arcadia Round Barn. The concert will be from 1 to 3 p.m. beneath the shade of the giant elm tree on the north side of the barn. \n\n\n\nGypsy Twang was established in May of 2009. Husband and wife Steve and Sarah Huhn had both done a few other things musically\, but had always wanted to form a band together. We rounded up a couple of friends to play a gig with us\, and the next thing we knew we were booking more dates and thinking up a name for the band (“Gypsy Twang” is a nod to both Bob Childers and Country & Western music). \n\n\n\nOur unique brand of music includes original\, traditional\, singer/songwriter\, and vintage country tunes.  As we’ve progressed\, we have found ourselves leaning more and more towards original tunes penned by John and Sarah as well as dipping in to our traditional country and Red Dirt roots.  Steve’s dad was a boogie-woogie piano player\, and often invited friends to their home for jam sessions.  His taste ran to jazz and standards\, so that’s the music Steve grew up with.  Sarah’s dad\, on the other hand\, wasn’t a musician himself.  But he loved music\, and passed along his love of Country and Western music to her from an early age.  John is one of the best songwriters on the Red Dirt scene\, and has a heart for traditional country as well.  Frenchie plays all over the place\, and we consider ourselves lucky to be part of his band family! \n\n\n\nToday\, we perform Sarah’s and John’s original songs\, tunes written by fellow Okies\, country keepsakes\, alt-country\, Americana\, traditional and folk songs.  Current band members include Sarah Barker Huhn on lead vocals and guitar\, Steve Huhn on upright bass\, John Williams on vocals\, guitar\, harmonica and Kurt “Frenchie” Nielsen on mandolin and tenor guitar.  \n\n\n\nCome out and Hang with the Twang! \n\n\n\nAll concerts are free\, but donations are accepted for the maintenance of the barn\, which is located six miles east of Interstate 35 on historic Route 66. For more information about live music at the barn\, call Joe Baxter at 405-833-1350. \n\n\n\n\nPhoto by M Tim Blake\n\n\n\nPhoto by David Nowels
URL:https://arcadiaroundbarn.com/event/gypsy-twang-concert-okie-roots/
LOCATION:Arcadia Round Barn\, 107 OK-66\, Arcadia\, OK\, 73034\, United States
CATEGORIES:Elm Tree Concerts,Music
ATTACH;FMTTYPE=image/jpeg:https://eadn-wc04-4235393.nxedge.io/wp-content/uploads/2026/04/01_Gypsy-Twang-band-photo_by-M-Tim-Blake_SM.jpeg
END:VEVENT
END:VCALENDAR