BEGIN:VCALENDAR
VERSION:2.0
PRODID:-//Arcadia Round Barn - ECPv6.15.20//NONSGML v1.0//EN
CALSCALE:GREGORIAN
METHOD:PUBLISH
X-ORIGINAL-URL:https://arcadiaroundbarn.com
X-WR-CALDESC:Events for Arcadia Round Barn
REFRESH-INTERVAL;VALUE=DURATION:PT1H
X-Robots-Tag:noindex
X-PUBLISHED-TTL:PT1H
BEGIN:VTIMEZONE
TZID:America/Chicago
BEGIN:DAYLIGHT
TZOFFSETFROM:-0600
TZOFFSETTO:-0500
TZNAME:CDT
DTSTART:20240310T080000
END:DAYLIGHT
BEGIN:STANDARD
TZOFFSETFROM:-0500
TZOFFSETTO:-0600
TZNAME:CST
DTSTART:20241103T070000
END:STANDARD
BEGIN:DAYLIGHT
TZOFFSETFROM:-0600
TZOFFSETTO:-0500
TZNAME:CDT
DTSTART:20250309T080000
END:DAYLIGHT
BEGIN:STANDARD
TZOFFSETFROM:-0500
TZOFFSETTO:-0600
TZNAME:CST
DTSTART:20251102T070000
END:STANDARD
BEGIN:DAYLIGHT
TZOFFSETFROM:-0600
TZOFFSETTO:-0500
TZNAME:CDT
DTSTART:20260308T080000
END:DAYLIGHT
BEGIN:STANDARD
TZOFFSETFROM:-0500
TZOFFSETTO:-0600
TZNAME:CST
DTSTART:20261101T070000
END:STANDARD
END:VTIMEZONE
BEGIN:VEVENT
DTSTART;TZID=America/Chicago:20250928T130000
DTEND;TZID=America/Chicago:20250928T150000
DTSTAMP:20260423T180512
CREATED:20250218T235217Z
LAST-MODIFIED:20250922T154354Z
UID:10000247-1759064400-1759071600@arcadiaroundbarn.com
SUMMARY:Terry Ware & The Sunday Flyers — Rock & Roll — Elm Tree Concerts
DESCRIPTION:The Sunday Flyers will play their mix of modern pop rock on Sunday\, Sept. 28th at 1 p.m. This is the last of the Summer series of Elm Tree Concerts outdoors in the shade of the large\, historic elm tree next to the 1898 Round Barn. \n\n\n\nThe Sunday Flyers are a rock band based out of Norman\, Oklahoma. They perform original music and other tunes that cover a wide variety of styles. Their songs are perfected by seasoned professional musicians who love what they do! \n\n\n\nSome have called Terry Ware the undisputed professor emeritus of rock guitar in the state of Oklahoma. Since 1967\, he has honed his guitar skills as a touring musician with Ray Wylie Hubbard\, Jimmy LaFave\, Wanda Jackson and dozens more. For over 25 years\,Terry has led the house band at the Woody Guthrie Folk Festival. \n\n\n\nStarting piano lessons at nine\, he got his first guitar at 14\, purchased by his parents with S & H Green Stamps. In Vintage Guitar magazine\, Ware said\, “I loved Duane Eddy\, and the The Ventures. Seeing The Beatles on Ed Sullivan was what really put me over the top.” Although he’s got a surf guitar element\, there’s so much more that Ware loves and he’s a real fan of melody\, no matter what the genre. “I work at crafting good melodies and chord progressions. Brian Wilson is one of my favorite composers\, as is Jimmie Webb\, and Laura Nyro.” \n\n\n\nWare’s main guitars are a ’76 Telecaster\, plus a ’56 Strat\, ’56 Les Paul goldtop\, along with several vintage amps. \n\n\n\nIn 2024\, Rose State College created the documentary film “Ware the Buffalo Roams” (The Life and Times of Musician Terry Buffalo Ware) which has received high praise and several film awards. \n\n\n\nDo yourself a favor and check out this revered musician with his band The Sunday Flyers for a free rock n’ roll concert on Sunday\, Sept. 28th at the Arcadia Round Barn\, 107 OK-66 in Arcadia\, Oklahoma 73007.  \n\n\n\n\n\n\n\nThe Sunday Flyers  Concert Details \n\n\n\n\nWhere: Arcadia Round Barn\, six miles east of I-35 on Historic Route 66\n\n\n\nWhen: Sunday\, September 28 @ 1:00 p.m. to 3 p.m.\n\n\n\nAdmission: Free\, donations accepted to support the Round Barn\n\n\n\nSeating: Bring a lawn chair or use available picnic tables\n\n\n\n\nThe Arcadia Round Barn\, a beloved Route 66 landmark\, is operated by the nonprofit Arcadia Historical Society and staffed with dedicated volunteers. It is open daily from 10 a.m. to 5 p.m. \n\n\n\nFor more information about live music at the barn\, contact Joe Baxter at 405-833-1350. \n\n\n\n\n\n\n\n\n\n\n\n\n\n\n\nSponsored by The Arcadia Historical & Preservation Society
URL:https://arcadiaroundbarn.com/event/elm-tree-concerts-22/
LOCATION:Arcadia Round Barn\, 107 OK-66\, Arcadia\, OK\, 73034\, United States
CATEGORIES:Elm Tree Concerts,Live Concerts,Music
END:VEVENT
BEGIN:VEVENT
DTSTART;TZID=America/Chicago:20251004T103000
DTEND;TZID=America/Chicago:20251004T123000
DTSTAMP:20260423T180512
CREATED:20250113T225724Z
LAST-MODIFIED:20250811T213109Z
UID:10000313-1759573800-1759581000@arcadiaroundbarn.com
SUMMARY:Saturday Morning Music Sessions
DESCRIPTION:“Saturday Morning Music Sessions” features revolving weekly acoustic music performances by guest musicians\, by our own house bands\, Joe Baxter & The Lost Cause\, and the Round Barn Music’s new project\, “The RoundAbouts”. There is a professional invite-only songwriters group that meets monthly on 4th Saturdays. The Public is Invited to ALL music events.
URL:https://arcadiaroundbarn.com/event/saturday-morning-music-sessions-2/2025-10-04/
LOCATION:Arcadia Round Barn\, 107 OK-66\, Arcadia\, OK\, 73034\, United States
CATEGORIES:Music
ATTACH;FMTTYPE=image/jpeg:https://eadn-wc04-4235393.nxedge.io/wp-content/uploads/2025/01/Saturday-Morning-Music-Sessions-logo-idea_SM.jpg
END:VEVENT
BEGIN:VEVENT
DTSTART;TZID=America/Chicago:20251004T130000
DTEND;TZID=America/Chicago:20251004T133000
DTSTAMP:20260423T180512
CREATED:20250115T182804Z
LAST-MODIFIED:20250123T204425Z
UID:10000471-1759582800-1759584600@arcadiaroundbarn.com
SUMMARY:Arcadia Round Barn Public Tours — Saturdays
DESCRIPTION:Would you like to learn more about one of the most photographed icon on Route 66 in Oklahoma? Join  us for a free\, guided public tour every Saturday afternoon at 1 p.m. at the Arcadia Round Barn. \n\n\n\nOur tour guides are trained in the history of the 1898 landmark that is also listed on the National Register of Historic Places. \n\n\n\nTours will take place from 1 to 1:30 p.m. at 107 E. Highway 66 inside the Arcadia Round Barn. Please arrive five minutes before the start time in the lower level gift shop of the barn. Allow 30 minutes for the guided tour and then browse the grounds\, gift shop and museum at your leisure. The Round Barn is six miles east of Interstate 35 on historic Route 66 and is open every day from 10 a.m. to 5 p.m. Please park in the designated parking lot behind the Arcadia Round Barn. For more information about the public tours at the Round Barn\, call Andrea at 405-822-6156 or 405-396-0824. \n\n\n\nReserve Your Spot\n\n\n\nThis is a free\, guided public tour. \n\n\n\n\n                \n                        \n                            This is a free\, guided public tour. \n                        \n                        Name(Required)\n                            \n                            \n                                                    \n                                                    First\n                                                \n                            \n                            \n                                                    \n                                                    Last\n                                                \n                            \n                        Email(Required)\n                            \n                        Phone(Required)Date(Required)Pick your Saturday.\n                            \n                            MM slash DD slash YYYY\n                        \n                        Number in Party(Required)\n          \n            \n            \n            \n            \n            \n            \n            \n            \n            \n            \n            \n            \n            \n        \n                        \n                        \n\n\n\nArcadia Round Barn Tour (photo by Shellee Graham)Pictured: Andrea Moon (Round Barn Events Coordinator) with visitors from Vermont and Ohio.\n\n\n\nFOR PHOTOGRAPHYContact Shellee Graham • PR at the Arcadia Round Barn • 405-650-3309 • shellee66@earthlink.net \n\n\n\nArcadia Round Barn on Route 66(photo by Shellee Graham)
URL:https://arcadiaroundbarn.com/event/r-b-public-tour/2025-10-04/
LOCATION:Arcadia Round Barn\, 107 OK-66\, Arcadia\, OK\, 73034\, United States
ATTACH;FMTTYPE=image/jpeg:https://eadn-wc04-4235393.nxedge.io/wp-content/uploads/2025/01/IMG_7699_Andrea-Moon-giving-a-tour-to-visitors-Jonathan-Elliot-Reuben-kneeling_Jan-15_2025_SM_Shellee-Graham-photo.jpg
END:VEVENT
END:VCALENDAR