BEGIN:VCALENDAR
VERSION:2.0
PRODID:-//Arcadia Round Barn - ECPv6.15.20//NONSGML v1.0//EN
CALSCALE:GREGORIAN
METHOD:PUBLISH
X-ORIGINAL-URL:https://arcadiaroundbarn.com
X-WR-CALDESC:Events for Arcadia Round Barn
REFRESH-INTERVAL;VALUE=DURATION:PT1H
X-Robots-Tag:noindex
X-PUBLISHED-TTL:PT1H
BEGIN:VTIMEZONE
TZID:America/Chicago
BEGIN:DAYLIGHT
TZOFFSETFROM:-0600
TZOFFSETTO:-0500
TZNAME:CDT
DTSTART:20240310T080000
END:DAYLIGHT
BEGIN:STANDARD
TZOFFSETFROM:-0500
TZOFFSETTO:-0600
TZNAME:CST
DTSTART:20241103T070000
END:STANDARD
BEGIN:DAYLIGHT
TZOFFSETFROM:-0600
TZOFFSETTO:-0500
TZNAME:CDT
DTSTART:20250309T080000
END:DAYLIGHT
BEGIN:STANDARD
TZOFFSETFROM:-0500
TZOFFSETTO:-0600
TZNAME:CST
DTSTART:20251102T070000
END:STANDARD
BEGIN:DAYLIGHT
TZOFFSETFROM:-0600
TZOFFSETTO:-0500
TZNAME:CDT
DTSTART:20260308T080000
END:DAYLIGHT
BEGIN:STANDARD
TZOFFSETFROM:-0500
TZOFFSETTO:-0600
TZNAME:CST
DTSTART:20261101T070000
END:STANDARD
END:VTIMEZONE
BEGIN:VEVENT
DTSTART;TZID=America/Chicago:20250525T130000
DTEND;TZID=America/Chicago:20250525T150000
DTSTAMP:20260424T025929
CREATED:20250218T222841Z
LAST-MODIFIED:20250512T161501Z
UID:10000243-1748178000-1748185200@arcadiaroundbarn.com
SUMMARY:Miss Brown To You — Americana — Elm Tree Concerts
DESCRIPTION:Miss Brown To You will play incomparable cool jazz and Americana on Sunday\, May 25th \n\n\n\nJoin us on Sunday\, March 25 for an outdoor concert under the shade and cool breeze of the historic Elm tree on the grounds of the Round Barn in Arcadia\, Oklahoma. The band Miss Brown to You is a dynamic musical duo known for their soulful blend of jazz\, folk and blues. You’ll enjoy the incredible vocals of Mary Reynolds and the masterful multi-instrumentalist Louise Goldberg. Their music is a journey through rich melodies and heartfelt storytelling. \n\n\n\n“Louise Goldberg is a superb pianist\, whose deft and subtle playing is the perfect accompanist … I can’t think of anyone who interprets other great songwriter’s songs better than Mary Reynolds and Louise Goldberg. They can take a song that has been covered by the best and pull the strongest elements from all of them\, and then inhabit the song in such a way that it transcends all the others. They are that good!” —Scott Aycock\, KWGS Folk Salad \n\n\n\n“Mary Reynolds has the most beautiful voice in the world … her pipes ring like the bells of heaven.” —Thomas Conner\, Chicago Tribune.  Nashville writer John Hadley calls Louise “not only an astonishly accomplished musician\, multi-instrumentalist and performer\, she’s a gifted composer and song writer as well.” \n\n\n\n“It’s no secret that where Mary Reynolds & Louise Goldberg come from jazz\, blues and folk music have always shared equal space. Those influences are front and center on songs that allow Goldberg’s piano and Reynolds’ voice to shine. They connect so effortlessly that you feel like you are hearing a singular voice.” —Greg Johnson\, KOSU For the Sake of the Song \n\n\n\nMiss Brown To You \n\n\n\nConcert Details: \n\n\n\n\nWhere: Arcadia Round Barn\, six miles east of I-35 on Historic Route 66\n\n\n\nWhen: Sunday\, March 25\, 1 p.m.\n\n\n\nAdmission: Free\, donations accepted to support the Round Barn\n\n\n\nSeating: Bring a lawn chair or use available picnic tables\n\n\n\n\nThe Arcadia Round Barn\, a beloved Route 66 landmark\, is operated by the nonprofit Arcadia Historical Society and staffed with dedicated volunteers. It is open daily from 10 a.m. to 5 p.m. \n\n\n\nFor more information about live music at the barn\, contact Joe Baxter at 405-833-1350. \n\n\n\n\n\n\n\nSponsored by The Arcadia Historical & Preservation Society
URL:https://arcadiaroundbarn.com/event/miss-brown-to-you-americana-elm-tree-concerts/
LOCATION:Arcadia Round Barn\, 107 OK-66\, Arcadia\, OK\, 73034\, United States
CATEGORIES:Elm Tree Concerts,Live Concerts,Music
ATTACH;FMTTYPE=image/jpeg:https://eadn-wc04-4235393.nxedge.io/wp-content/uploads/2025/02/MISS-BROWN-POSTER_May-25_SM.jpeg
END:VEVENT
BEGIN:VEVENT
DTSTART;TZID=America/Chicago:20250531T103000
DTEND;TZID=America/Chicago:20250531T123000
DTSTAMP:20260424T025929
CREATED:20250113T225724Z
LAST-MODIFIED:20250811T213109Z
UID:10000295-1748687400-1748694600@arcadiaroundbarn.com
SUMMARY:Saturday Morning Music Sessions
DESCRIPTION:“Saturday Morning Music Sessions” features revolving weekly acoustic music performances by guest musicians\, by our own house bands\, Joe Baxter & The Lost Cause\, and the Round Barn Music’s new project\, “The RoundAbouts”. There is a professional invite-only songwriters group that meets monthly on 4th Saturdays. The Public is Invited to ALL music events.
URL:https://arcadiaroundbarn.com/event/saturday-morning-music-sessions-2/2025-05-31/
LOCATION:Arcadia Round Barn\, 107 OK-66\, Arcadia\, OK\, 73034\, United States
CATEGORIES:Music
ATTACH;FMTTYPE=image/jpeg:https://eadn-wc04-4235393.nxedge.io/wp-content/uploads/2025/01/Saturday-Morning-Music-Sessions-logo-idea_SM.jpg
END:VEVENT
BEGIN:VEVENT
DTSTART;TZID=America/Chicago:20250531T130000
DTEND;TZID=America/Chicago:20250531T133000
DTSTAMP:20260424T025929
CREATED:20250115T182804Z
LAST-MODIFIED:20250123T204425Z
UID:10000453-1748696400-1748698200@arcadiaroundbarn.com
SUMMARY:Arcadia Round Barn Public Tours — Saturdays
DESCRIPTION:Would you like to learn more about one of the most photographed icon on Route 66 in Oklahoma? Join  us for a free\, guided public tour every Saturday afternoon at 1 p.m. at the Arcadia Round Barn. \n\n\n\nOur tour guides are trained in the history of the 1898 landmark that is also listed on the National Register of Historic Places. \n\n\n\nTours will take place from 1 to 1:30 p.m. at 107 E. Highway 66 inside the Arcadia Round Barn. Please arrive five minutes before the start time in the lower level gift shop of the barn. Allow 30 minutes for the guided tour and then browse the grounds\, gift shop and museum at your leisure. The Round Barn is six miles east of Interstate 35 on historic Route 66 and is open every day from 10 a.m. to 5 p.m. Please park in the designated parking lot behind the Arcadia Round Barn. For more information about the public tours at the Round Barn\, call Andrea at 405-822-6156 or 405-396-0824. \n\n\n\nReserve Your Spot\n\n\n\nThis is a free\, guided public tour. \n\n\n\n\n                \n                        \n                            This is a free\, guided public tour. \n                        \n                        Name(Required)\n                            \n                            \n                                                    \n                                                    First\n                                                \n                            \n                            \n                                                    \n                                                    Last\n                                                \n                            \n                        Email(Required)\n                            \n                        Phone(Required)Date(Required)Pick your Saturday.\n                            \n                            MM slash DD slash YYYY\n                        \n                        Number in Party(Required)\n          \n            \n            \n            \n            \n            \n            \n            \n            \n            \n            \n            \n            \n            \n        \n                        \n                        \n\n\n\nArcadia Round Barn Tour (photo by Shellee Graham)Pictured: Andrea Moon (Round Barn Events Coordinator) with visitors from Vermont and Ohio.\n\n\n\nFOR PHOTOGRAPHYContact Shellee Graham • PR at the Arcadia Round Barn • 405-650-3309 • shellee66@earthlink.net \n\n\n\nArcadia Round Barn on Route 66(photo by Shellee Graham)
URL:https://arcadiaroundbarn.com/event/r-b-public-tour/2025-05-31/
LOCATION:Arcadia Round Barn\, 107 OK-66\, Arcadia\, OK\, 73034\, United States
ATTACH;FMTTYPE=image/jpeg:https://eadn-wc04-4235393.nxedge.io/wp-content/uploads/2025/01/IMG_7699_Andrea-Moon-giving-a-tour-to-visitors-Jonathan-Elliot-Reuben-kneeling_Jan-15_2025_SM_Shellee-Graham-photo.jpg
END:VEVENT
END:VCALENDAR