BEGIN:VCALENDAR
VERSION:2.0
PRODID:-//Arcadia Round Barn - ECPv6.15.20//NONSGML v1.0//EN
CALSCALE:GREGORIAN
METHOD:PUBLISH
X-WR-CALNAME:Arcadia Round Barn
X-ORIGINAL-URL:https://arcadiaroundbarn.com
X-WR-CALDESC:Events for Arcadia Round Barn
REFRESH-INTERVAL;VALUE=DURATION:PT1H
X-Robots-Tag:noindex
X-PUBLISHED-TTL:PT1H
BEGIN:VTIMEZONE
TZID:America/Chicago
BEGIN:DAYLIGHT
TZOFFSETFROM:-0600
TZOFFSETTO:-0500
TZNAME:CDT
DTSTART:20240310T080000
END:DAYLIGHT
BEGIN:STANDARD
TZOFFSETFROM:-0500
TZOFFSETTO:-0600
TZNAME:CST
DTSTART:20241103T070000
END:STANDARD
BEGIN:DAYLIGHT
TZOFFSETFROM:-0600
TZOFFSETTO:-0500
TZNAME:CDT
DTSTART:20250309T080000
END:DAYLIGHT
BEGIN:STANDARD
TZOFFSETFROM:-0500
TZOFFSETTO:-0600
TZNAME:CST
DTSTART:20251102T070000
END:STANDARD
BEGIN:DAYLIGHT
TZOFFSETFROM:-0600
TZOFFSETTO:-0500
TZNAME:CDT
DTSTART:20260308T080000
END:DAYLIGHT
BEGIN:STANDARD
TZOFFSETFROM:-0500
TZOFFSETTO:-0600
TZNAME:CST
DTSTART:20261101T070000
END:STANDARD
END:VTIMEZONE
BEGIN:VEVENT
DTSTART;TZID=America/Chicago:20250518T130000
DTEND;TZID=America/Chicago:20250518T150000
DTSTAMP:20260424T052928
CREATED:20250218T224616Z
LAST-MODIFIED:20250502T202431Z
UID:10000489-1747573200-1747580400@arcadiaroundbarn.com
SUMMARY:The McKedys — Classic Country — Elm Tree Concerts
DESCRIPTION:ARCADIA\, OK—Are you a fan of country music? We’re talkin’ Traditional Country and Western  Swing. The McKedy Band is a family band that has been making great music for years.  “We are passionate about country music and our performances have been a hit with audiences of all ages\,” said Mackynsie McKedy by phone. \n\n\n\nTheir unique sound comes from a father-daughter-son trio with father\, Byron McKedy\, on steel guitar & vocals\, 21-year-old daughter Mackynsie McKedy\, on fiddle & vocals\, and 18-year-old son\, Austin McKedy\,  on lead guitar & vocals. The McKedys hometown is McLoud\, Oklahoma. \n\n\n\nWhile chatting with Mackynsie\, I learned some fun facts: Austin McKedy is also a bull rider on the rodeo circuit. He loves it. Mackynsie is a music therapy major in college and the reigning Miss Lincoln County.  She qualified for the Miss Oklahoma Pageant.  \n\n\n\nAll three of the McKedys have solo careers and have several singles on all musical platforms. Both Mackynsie and Austin are represented by Clarksville Creative Sound in Nashville.  \n\n\n\nThe Arcadia Round Barn has been a second home to the McKedy family. They’ve been playing as a family for about 15 years and going to musical jams at the Round Barn for nine years.  Round Barn music director  Joe Baxter said\, “The McKedy kids practically grew up at the Round Barn\, playing here at every opportunity\, honing their skills.” \n\n\n\nThe McKedy Band has won several awards\, including the Oklahoma Country Music Singers Association and the Josie Music Awards. \n\n\n\nSo you like country music? We’ve got your concert right here at the Round Barn on May 18th! \n\n\n\nThe McKedy Band CONCERT DETAILS : \n\n\n\n\nWhen: Sunday\, May 18th @ 1 p.m.\n\n\n\nWhere: Arcadia Round Barn\,  north side  (6 miles east of I-35 on Route 66)\n\n\n\nAdmission: FREE  (donations accepted)\n\n\n\nExtras: Bring a lawn chair or grab a picnic table; the museum is open 10 a.m. – 5 p.m.\n\n\n\n\nFor updates\, call 405-833-1350 or visit the Round Barn’s website.  \n\n\n\n\nDownload Flyer
URL:https://arcadiaroundbarn.com/event/the-mckedys-elm-tree-concerts/
LOCATION:OK
CATEGORIES:Elm Tree Concerts,Music
ATTACH;FMTTYPE=image/jpeg:https://eadn-wc04-4235393.nxedge.io/wp-content/uploads/2025/05/The-McKedys-band-photo-with-logo_SM.jpg
END:VEVENT
BEGIN:VEVENT
DTSTART;TZID=America/Chicago:20250524T103000
DTEND;TZID=America/Chicago:20250524T123000
DTSTAMP:20260424T052928
CREATED:20250113T225724Z
LAST-MODIFIED:20250811T213109Z
UID:10000294-1748082600-1748089800@arcadiaroundbarn.com
SUMMARY:Saturday Morning Music Sessions
DESCRIPTION:“Saturday Morning Music Sessions” features revolving weekly acoustic music performances by guest musicians\, by our own house bands\, Joe Baxter & The Lost Cause\, and the Round Barn Music’s new project\, “The RoundAbouts”. There is a professional invite-only songwriters group that meets monthly on 4th Saturdays. The Public is Invited to ALL music events.
URL:https://arcadiaroundbarn.com/event/saturday-morning-music-sessions-2/2025-05-24/
LOCATION:Arcadia Round Barn\, 107 OK-66\, Arcadia\, OK\, 73034\, United States
CATEGORIES:Music
ATTACH;FMTTYPE=image/jpeg:https://eadn-wc04-4235393.nxedge.io/wp-content/uploads/2025/01/Saturday-Morning-Music-Sessions-logo-idea_SM.jpg
END:VEVENT
BEGIN:VEVENT
DTSTART;TZID=America/Chicago:20250524T130000
DTEND;TZID=America/Chicago:20250524T133000
DTSTAMP:20260424T052928
CREATED:20250115T182804Z
LAST-MODIFIED:20250123T204425Z
UID:10000452-1748091600-1748093400@arcadiaroundbarn.com
SUMMARY:Arcadia Round Barn Public Tours — Saturdays
DESCRIPTION:Would you like to learn more about one of the most photographed icon on Route 66 in Oklahoma? Join  us for a free\, guided public tour every Saturday afternoon at 1 p.m. at the Arcadia Round Barn. \n\n\n\nOur tour guides are trained in the history of the 1898 landmark that is also listed on the National Register of Historic Places. \n\n\n\nTours will take place from 1 to 1:30 p.m. at 107 E. Highway 66 inside the Arcadia Round Barn. Please arrive five minutes before the start time in the lower level gift shop of the barn. Allow 30 minutes for the guided tour and then browse the grounds\, gift shop and museum at your leisure. The Round Barn is six miles east of Interstate 35 on historic Route 66 and is open every day from 10 a.m. to 5 p.m. Please park in the designated parking lot behind the Arcadia Round Barn. For more information about the public tours at the Round Barn\, call Andrea at 405-822-6156 or 405-396-0824. \n\n\n\nReserve Your Spot\n\n\n\nThis is a free\, guided public tour. \n\n\n\n\n                \n                        \n                            This is a free\, guided public tour. \n                        \n                        Name(Required)\n                            \n                            \n                                                    \n                                                    First\n                                                \n                            \n                            \n                                                    \n                                                    Last\n                                                \n                            \n                        Email(Required)\n                            \n                        Phone(Required)Date(Required)Pick your Saturday.\n                            \n                            MM slash DD slash YYYY\n                        \n                        Number in Party(Required)\n          \n            \n            \n            \n            \n            \n            \n            \n            \n            \n            \n            \n            \n            \n        \n                        \n                        \n\n\n\nArcadia Round Barn Tour (photo by Shellee Graham)Pictured: Andrea Moon (Round Barn Events Coordinator) with visitors from Vermont and Ohio.\n\n\n\nFOR PHOTOGRAPHYContact Shellee Graham • PR at the Arcadia Round Barn • 405-650-3309 • shellee66@earthlink.net \n\n\n\nArcadia Round Barn on Route 66(photo by Shellee Graham)
URL:https://arcadiaroundbarn.com/event/r-b-public-tour/2025-05-24/
LOCATION:Arcadia Round Barn\, 107 OK-66\, Arcadia\, OK\, 73034\, United States
ATTACH;FMTTYPE=image/jpeg:https://eadn-wc04-4235393.nxedge.io/wp-content/uploads/2025/01/IMG_7699_Andrea-Moon-giving-a-tour-to-visitors-Jonathan-Elliot-Reuben-kneeling_Jan-15_2025_SM_Shellee-Graham-photo.jpg
END:VEVENT
END:VCALENDAR