BEGIN:VCALENDAR
VERSION:2.0
PRODID:-//Arcadia Round Barn - ECPv6.15.20//NONSGML v1.0//EN
CALSCALE:GREGORIAN
METHOD:PUBLISH
X-WR-CALNAME:Arcadia Round Barn
X-ORIGINAL-URL:https://arcadiaroundbarn.com
X-WR-CALDESC:Events for Arcadia Round Barn
REFRESH-INTERVAL;VALUE=DURATION:PT1H
X-Robots-Tag:noindex
X-PUBLISHED-TTL:PT1H
BEGIN:VTIMEZONE
TZID:America/Chicago
BEGIN:DAYLIGHT
TZOFFSETFROM:-0600
TZOFFSETTO:-0500
TZNAME:CDT
DTSTART:20240310T080000
END:DAYLIGHT
BEGIN:STANDARD
TZOFFSETFROM:-0500
TZOFFSETTO:-0600
TZNAME:CST
DTSTART:20241103T070000
END:STANDARD
BEGIN:DAYLIGHT
TZOFFSETFROM:-0600
TZOFFSETTO:-0500
TZNAME:CDT
DTSTART:20250309T080000
END:DAYLIGHT
BEGIN:STANDARD
TZOFFSETFROM:-0500
TZOFFSETTO:-0600
TZNAME:CST
DTSTART:20251102T070000
END:STANDARD
BEGIN:DAYLIGHT
TZOFFSETFROM:-0600
TZOFFSETTO:-0500
TZNAME:CDT
DTSTART:20260308T080000
END:DAYLIGHT
BEGIN:STANDARD
TZOFFSETFROM:-0500
TZOFFSETTO:-0600
TZNAME:CST
DTSTART:20261101T070000
END:STANDARD
END:VTIMEZONE
BEGIN:VEVENT
DTSTART;TZID=America/Chicago:20250427T130000
DTEND;TZID=America/Chicago:20250427T150000
DTSTAMP:20260424T031736
CREATED:20250218T164823Z
LAST-MODIFIED:20250403T213930Z
UID:10000242-1745758800-1745766000@arcadiaroundbarn.com
SUMMARY:Mighty Green — Reggae — Elm Tree Concerts
DESCRIPTION:Free outdoor show at the Round Barn on April 27 features classic reggae\, rock reinvented\, and fiery bluegrass talent \n\n\n\nARCADIA\, OK — Get ready for a genre-bending musical journey when singer-songwriter Marco Tello (pronounced Tay-oh) and his five-piece reggae band The Mighty Green take the stage at the Elm Tree Concert Series on Sunday\, April 27\, at 1 p.m. The free show kicks off beneath the shade of the historic Round Barn’s towering elm tree\, blending classic reggae\, reimagined rock hits\, and Tello’s renowned bluegrass prowess. \n\n\n\nA versatile performer who’s “bored playing any one style\,” Tello shifts seamlessly from Americana to roots rock—but on this afternoon\, he’ll be all about the groove. The Mighty Green delivers authentic 1970s reggae (think Bob Marley) alongside fresh twists on classic rock\, powered by lush harmonies and a dynamic lineup: John Green (lead vocals)\, Don Hecker (bass)\, Dusty Douglas (drums)\, Karl Wilburn (keyboards)\, and Blake Bricker (multi-instrumentalist). \n\n\n\nEvent Details: \n\n\n\n\nWhen: Sunday\, April 27 at 1 p.m.\n\n\n\nWhere: Arcadia Round Barn\, north side (6 miles east of I-35 on Route 66)\n\n\n\nAdmission: Free (donations welcome)\n\n\n\nExtras: Bring a chair or grab a picnic table; the museum is open 10 a.m. – 5 p.m.\n\n\n\n\n“The Elm Tree Series is all about community and great music in a one-of-a-kind setting\,” said Joe Baxter of the Arcadia Historical and Preservation Society. “Marco’s band brings that energy every time.” \n\n\n\nFor updates\, call 405-833-1350 or visit the Round Barn’s website. \n\n\n\nFree outdoor show at the Round Barn on April 27 features classic reggae\, rock reinvented\, and fiery bluegrass talent \n\n\n\nARCADIA\, OK — Get ready for a genre-bending musical journey when singer-songwriter Marco Tello (pronounced Tay-oh) and his five-piece reggae band The Mighty Green take the stage at the Elm Tree Concert Series on Sunday\, April 27\, at 1 p.m. The free show kicks off beneath the shade of the historic Round Barn’s towering elm tree\, blending classic reggae\, reimagined rock hits\, and Tello’s renowned bluegrass prowess. \n\n\n\nA versatile performer who’s “bored playing any one style\,” Tello shifts seamlessly from Americana to roots rock—but on this afternoon\, he’ll be all about the groove. The Mighty Green delivers authentic 1970s reggae (think Bob Marley) alongside fresh twists on classic rock\, powered by lush harmonies and a dynamic lineup: John Green (lead vocals)\, Don Hecker (bass)\, Dusty Douglas (drums)\, Karl Wilburn (keyboards)\, and Blake Bricker (multi-instrumentalist). \n\n\n\nEvent Details: \n\n\n\n\nWhen: Sunday\, April 27 at 1 p.m.\n\n\n\nWhere: Arcadia Round Barn\, north side (6 miles east of I-35 on Route 66)\n\n\n\nAdmission: Free (donations welcome)\n\n\n\nExtras: Bring a chair or grab a picnic table; the museum is open 10 a.m. – 5 p.m.\n\n\n\n\n“The Elm Tree Series is all about community and great music in a one-of-a-kind setting\,” said Joe Baxter of the Arcadia Historical and Preservation Society. “Marco’s band brings that energy every time.” \n\n\n\nFor updates\, call 405-833-1350 or visit the Round Barn’s website. \n\n\n\nSponsored by The Arcadia Historical & Preservation Society
URL:https://arcadiaroundbarn.com/event/mighty-green-reggae-elm-tree-concerts/
LOCATION:Arcadia Round Barn\, 107 OK-66\, Arcadia\, OK\, 73034\, United States
CATEGORIES:Elm Tree Concerts,Live Concerts,Music
END:VEVENT
BEGIN:VEVENT
DTSTART;TZID=America/Chicago:20250503T103000
DTEND;TZID=America/Chicago:20250503T123000
DTSTAMP:20260424T031736
CREATED:20250113T225724Z
LAST-MODIFIED:20250811T213109Z
UID:10000291-1746268200-1746275400@arcadiaroundbarn.com
SUMMARY:Saturday Morning Music Sessions
DESCRIPTION:“Saturday Morning Music Sessions” features revolving weekly acoustic music performances by guest musicians\, by our own house bands\, Joe Baxter & The Lost Cause\, and the Round Barn Music’s new project\, “The RoundAbouts”. There is a professional invite-only songwriters group that meets monthly on 4th Saturdays. The Public is Invited to ALL music events.
URL:https://arcadiaroundbarn.com/event/saturday-morning-music-sessions-2/2025-05-03/
LOCATION:Arcadia Round Barn\, 107 OK-66\, Arcadia\, OK\, 73034\, United States
CATEGORIES:Music
ATTACH;FMTTYPE=image/jpeg:https://eadn-wc04-4235393.nxedge.io/wp-content/uploads/2025/01/Saturday-Morning-Music-Sessions-logo-idea_SM.jpg
END:VEVENT
BEGIN:VEVENT
DTSTART;TZID=America/Chicago:20250503T130000
DTEND;TZID=America/Chicago:20250503T133000
DTSTAMP:20260424T031736
CREATED:20250115T182804Z
LAST-MODIFIED:20250123T204425Z
UID:10000449-1746277200-1746279000@arcadiaroundbarn.com
SUMMARY:Arcadia Round Barn Public Tours — Saturdays
DESCRIPTION:Would you like to learn more about one of the most photographed icon on Route 66 in Oklahoma? Join  us for a free\, guided public tour every Saturday afternoon at 1 p.m. at the Arcadia Round Barn. \n\n\n\nOur tour guides are trained in the history of the 1898 landmark that is also listed on the National Register of Historic Places. \n\n\n\nTours will take place from 1 to 1:30 p.m. at 107 E. Highway 66 inside the Arcadia Round Barn. Please arrive five minutes before the start time in the lower level gift shop of the barn. Allow 30 minutes for the guided tour and then browse the grounds\, gift shop and museum at your leisure. The Round Barn is six miles east of Interstate 35 on historic Route 66 and is open every day from 10 a.m. to 5 p.m. Please park in the designated parking lot behind the Arcadia Round Barn. For more information about the public tours at the Round Barn\, call Andrea at 405-822-6156 or 405-396-0824. \n\n\n\nReserve Your Spot\n\n\n\nThis is a free\, guided public tour. \n\n\n\n\n                \n                        \n                            This is a free\, guided public tour. \n                        \n                        Name(Required)\n                            \n                            \n                                                    \n                                                    First\n                                                \n                            \n                            \n                                                    \n                                                    Last\n                                                \n                            \n                        Email(Required)\n                            \n                        Phone(Required)Date(Required)Pick your Saturday.\n                            \n                            MM slash DD slash YYYY\n                        \n                        Number in Party(Required)\n          \n            \n            \n            \n            \n            \n            \n            \n            \n            \n            \n            \n            \n            \n        \n                        \n                        \n\n\n\nArcadia Round Barn Tour (photo by Shellee Graham)Pictured: Andrea Moon (Round Barn Events Coordinator) with visitors from Vermont and Ohio.\n\n\n\nFOR PHOTOGRAPHYContact Shellee Graham • PR at the Arcadia Round Barn • 405-650-3309 • shellee66@earthlink.net \n\n\n\nArcadia Round Barn on Route 66(photo by Shellee Graham)
URL:https://arcadiaroundbarn.com/event/r-b-public-tour/2025-05-03/
LOCATION:Arcadia Round Barn\, 107 OK-66\, Arcadia\, OK\, 73034\, United States
ATTACH;FMTTYPE=image/jpeg:https://eadn-wc04-4235393.nxedge.io/wp-content/uploads/2025/01/IMG_7699_Andrea-Moon-giving-a-tour-to-visitors-Jonathan-Elliot-Reuben-kneeling_Jan-15_2025_SM_Shellee-Graham-photo.jpg
END:VEVENT
END:VCALENDAR