BEGIN:VCALENDAR
VERSION:2.0
PRODID:-//Arcadia Round Barn - ECPv6.15.20//NONSGML v1.0//EN
CALSCALE:GREGORIAN
METHOD:PUBLISH
X-WR-CALNAME:Arcadia Round Barn
X-ORIGINAL-URL:https://arcadiaroundbarn.com
X-WR-CALDESC:Events for Arcadia Round Barn
REFRESH-INTERVAL;VALUE=DURATION:PT1H
X-Robots-Tag:noindex
X-PUBLISHED-TTL:PT1H
BEGIN:VTIMEZONE
TZID:America/Chicago
BEGIN:DAYLIGHT
TZOFFSETFROM:-0600
TZOFFSETTO:-0500
TZNAME:CDT
DTSTART:20250309T080000
END:DAYLIGHT
BEGIN:STANDARD
TZOFFSETFROM:-0500
TZOFFSETTO:-0600
TZNAME:CST
DTSTART:20251102T070000
END:STANDARD
BEGIN:DAYLIGHT
TZOFFSETFROM:-0600
TZOFFSETTO:-0500
TZNAME:CDT
DTSTART:20260308T080000
END:DAYLIGHT
BEGIN:STANDARD
TZOFFSETFROM:-0500
TZOFFSETTO:-0600
TZNAME:CST
DTSTART:20261101T070000
END:STANDARD
BEGIN:DAYLIGHT
TZOFFSETFROM:-0600
TZOFFSETTO:-0500
TZNAME:CDT
DTSTART:20270314T080000
END:DAYLIGHT
BEGIN:STANDARD
TZOFFSETFROM:-0500
TZOFFSETTO:-0600
TZNAME:CST
DTSTART:20271107T070000
END:STANDARD
END:VTIMEZONE
BEGIN:VEVENT
DTSTART;TZID=America/Chicago:20260628T130000
DTEND;TZID=America/Chicago:20260628T150000
DTSTAMP:20260423T144529
CREATED:20260211T204717Z
LAST-MODIFIED:20260211T204750Z
UID:10000256-1782651600-1782658800@arcadiaroundbarn.com
SUMMARY:Joe Baxter concert — Barn Music
DESCRIPTION:Live Acoustic Shows / In the Shade \n\n\n\nSponsored by The Arcadia Historical & Preservation Society
URL:https://arcadiaroundbarn.com/event/joe-baxter-concert-barn-music/
LOCATION:Arcadia Round Barn\, 107 OK-66\, Arcadia\, OK\, 73034\, United States
CATEGORIES:Elm Tree Concerts,Live Concerts,Music
ATTACH;FMTTYPE=image/jpeg:https://eadn-wc04-4235393.nxedge.io/wp-content/uploads/2025/06/Elm-Tree-Concerts-logo_with-Arcadia-Round-Barn-TYPE_April-23_2025_flat.jpeg
END:VEVENT
BEGIN:VEVENT
DTSTART;TZID=America/Chicago:20260726T130000
DTEND;TZID=America/Chicago:20260726T150000
DTSTAMP:20260423T144529
CREATED:20260211T205203Z
LAST-MODIFIED:20260211T205205Z
UID:10000257-1785070800-1785078000@arcadiaroundbarn.com
SUMMARY:The McKedys concert — Good Country Music
DESCRIPTION:Live Acoustic Shows / In the Shade \n\n\n\nSponsored by The Arcadia Historical & Preservation Society
URL:https://arcadiaroundbarn.com/event/the-mckedys-concert-good-country-music/
LOCATION:Arcadia Round Barn\, 107 OK-66\, Arcadia\, OK\, 73034\, United States
CATEGORIES:Elm Tree Concerts,Live Concerts,Music
ATTACH;FMTTYPE=image/jpeg:https://eadn-wc04-4235393.nxedge.io/wp-content/uploads/2025/06/Elm-Tree-Concerts-logo_with-Arcadia-Round-Barn-TYPE_April-23_2025_flat.jpeg
END:VEVENT
BEGIN:VEVENT
DTSTART;TZID=America/Chicago:20260830T130000
DTEND;TZID=America/Chicago:20260830T150000
DTSTAMP:20260423T144529
CREATED:20260211T210156Z
LAST-MODIFIED:20260211T210157Z
UID:10000258-1788094800-1788102000@arcadiaroundbarn.com
SUMMARY:Susan Herndon concert — Songwriter
DESCRIPTION:Live Acoustic Shows / In the Shade \n\n\n\nSponsored by The Arcadia Historical & Preservation Society
URL:https://arcadiaroundbarn.com/event/susan-herndon-concert-songwriter/
LOCATION:Arcadia Round Barn\, 107 OK-66\, Arcadia\, OK\, 73034\, United States
CATEGORIES:Elm Tree Concerts,Live Concerts,Music
ATTACH;FMTTYPE=image/jpeg:https://eadn-wc04-4235393.nxedge.io/wp-content/uploads/2025/06/Elm-Tree-Concerts-logo_with-Arcadia-Round-Barn-TYPE_April-23_2025_flat.jpeg
END:VEVENT
BEGIN:VEVENT
DTSTART;TZID=America/Chicago:20260927T130000
DTEND;TZID=America/Chicago:20260927T150000
DTSTAMP:20260423T144529
CREATED:20260211T211214Z
LAST-MODIFIED:20260211T211215Z
UID:10000259-1790514000-1790521200@arcadiaroundbarn.com
SUMMARY:The Sunday Flyers concert — Original Folk Rock
DESCRIPTION:Live Acoustic Shows / In the Shade \n\n\n\nSponsored by The Arcadia Historical & Preservation Society
URL:https://arcadiaroundbarn.com/event/the-sunday-flyers-concert-original-folk-rock/
LOCATION:Arcadia Round Barn\, 107 OK-66\, Arcadia\, OK\, 73034\, United States
CATEGORIES:Elm Tree Concerts,Live Concerts,Music
ATTACH;FMTTYPE=image/jpeg:https://eadn-wc04-4235393.nxedge.io/wp-content/uploads/2025/06/Elm-Tree-Concerts-logo_with-Arcadia-Round-Barn-TYPE_April-23_2025_flat.jpeg
END:VEVENT
END:VCALENDAR