BEGIN:VCALENDAR
VERSION:2.0
PRODID:-//Arcadia Round Barn - ECPv6.15.20//NONSGML v1.0//EN
CALSCALE:GREGORIAN
METHOD:PUBLISH
X-ORIGINAL-URL:https://arcadiaroundbarn.com
X-WR-CALDESC:Events for Arcadia Round Barn
REFRESH-INTERVAL;VALUE=DURATION:PT1H
X-Robots-Tag:noindex
X-PUBLISHED-TTL:PT1H
BEGIN:VTIMEZONE
TZID:America/Chicago
BEGIN:DAYLIGHT
TZOFFSETFROM:-0600
TZOFFSETTO:-0500
TZNAME:CDT
DTSTART:20250309T080000
END:DAYLIGHT
BEGIN:STANDARD
TZOFFSETFROM:-0500
TZOFFSETTO:-0600
TZNAME:CST
DTSTART:20251102T070000
END:STANDARD
BEGIN:DAYLIGHT
TZOFFSETFROM:-0600
TZOFFSETTO:-0500
TZNAME:CDT
DTSTART:20260308T080000
END:DAYLIGHT
BEGIN:STANDARD
TZOFFSETFROM:-0500
TZOFFSETTO:-0600
TZNAME:CST
DTSTART:20261101T070000
END:STANDARD
BEGIN:DAYLIGHT
TZOFFSETFROM:-0600
TZOFFSETTO:-0500
TZNAME:CDT
DTSTART:20270314T080000
END:DAYLIGHT
BEGIN:STANDARD
TZOFFSETFROM:-0500
TZOFFSETTO:-0600
TZNAME:CST
DTSTART:20271107T070000
END:STANDARD
END:VTIMEZONE
BEGIN:VEVENT
DTSTART;TZID=America/Chicago:20261011T120000
DTEND;TZID=America/Chicago:20261011T160000
DTSTAMP:20260423T132234
CREATED:20250218T161346Z
LAST-MODIFIED:20250218T161643Z
UID:10000148-1791720000-1791734400@arcadiaroundbarn.com
SUMMARY:Round Barn Rendezvous
DESCRIPTION:Round Barn Rendezvous Open JamFree \n\n\n\n\n\n\n\n2ND SUNDAY EVERY MONTHAll Acoustic Musicians Welcome. \n\n\n\nGET YOUR KICKS ON HISTORIC ROUTE 66 (107 E. HIGHWAY 66 ‹ ARCADIA\, OK)
URL:https://arcadiaroundbarn.com/event/round-barn-rendezvous-8/2026-10-11/
LOCATION:Arcadia Round Barn\, 107 OK-66\, Arcadia\, OK\, 73034\, United States
CATEGORIES:Music,Round Barn Rendezvous
ATTACH;FMTTYPE=image/jpeg:https://eadn-wc04-4235393.nxedge.io/wp-content/uploads/2025/04/Round-Barn-Rendezvous-LOGO_simplified_May-4_SM-1.jpg
END:VEVENT
BEGIN:VEVENT
DTSTART;TZID=America/Chicago:20261017T000000
DTEND;TZID=America/Chicago:20261017T235959
DTSTAMP:20260423T132234
CREATED:20250321T155605Z
LAST-MODIFIED:20260211T211434Z
UID:10000493-1792195200-1792281599@arcadiaroundbarn.com
SUMMARY:Round Barn ROUND-UP — A Route 66 Centennial Event
DESCRIPTION:The Oklahoma Route 66 Association is teaming up with the Round Barn to host a lively music and arts festival\, featuring the Otto Funk Fiddle Contest\, line dancing\, food & family fun. This is an all-day event.
URL:https://arcadiaroundbarn.com/event/round-barn-roundup-centennial-event/
LOCATION:OK
CATEGORIES:Annual Event
END:VEVENT
BEGIN:VEVENT
DTSTART;TZID=America/Chicago:20261024T120000
DTEND;TZID=America/Chicago:20261024T160000
DTSTAMP:20260423T132234
CREATED:20260212T180321Z
LAST-MODIFIED:20260212T180322Z
UID:10000515-1792843200-1792857600@arcadiaroundbarn.com
SUMMARY:Fall Music Swap Meet
DESCRIPTION:Music-related items for sale or trade. 
URL:https://arcadiaroundbarn.com/event/fall-music-swap-meet/
LOCATION:OK
CATEGORIES:Loft
END:VEVENT
END:VCALENDAR