BEGIN:VCALENDAR
VERSION:2.0
PRODID:-//Arcadia Round Barn - ECPv6.15.20//NONSGML v1.0//EN
CALSCALE:GREGORIAN
METHOD:PUBLISH
X-WR-CALNAME:Arcadia Round Barn
X-ORIGINAL-URL:https://arcadiaroundbarn.com
X-WR-CALDESC:Events for Arcadia Round Barn
REFRESH-INTERVAL;VALUE=DURATION:PT1H
X-Robots-Tag:noindex
X-PUBLISHED-TTL:PT1H
BEGIN:VTIMEZONE
TZID:America/Chicago
BEGIN:DAYLIGHT
TZOFFSETFROM:-0600
TZOFFSETTO:-0500
TZNAME:CDT
DTSTART:20240310T080000
END:DAYLIGHT
BEGIN:STANDARD
TZOFFSETFROM:-0500
TZOFFSETTO:-0600
TZNAME:CST
DTSTART:20241103T070000
END:STANDARD
BEGIN:DAYLIGHT
TZOFFSETFROM:-0600
TZOFFSETTO:-0500
TZNAME:CDT
DTSTART:20250309T080000
END:DAYLIGHT
BEGIN:STANDARD
TZOFFSETFROM:-0500
TZOFFSETTO:-0600
TZNAME:CST
DTSTART:20251102T070000
END:STANDARD
BEGIN:DAYLIGHT
TZOFFSETFROM:-0600
TZOFFSETTO:-0500
TZNAME:CDT
DTSTART:20260308T080000
END:DAYLIGHT
BEGIN:STANDARD
TZOFFSETFROM:-0500
TZOFFSETTO:-0600
TZNAME:CST
DTSTART:20261101T070000
END:STANDARD
END:VTIMEZONE
BEGIN:VEVENT
DTSTART;TZID=America/Chicago:20250802T103000
DTEND;TZID=America/Chicago:20250802T123000
DTSTAMP:20260423T162822
CREATED:20250113T225724Z
LAST-MODIFIED:20250811T213109Z
UID:10000304-1754130600-1754137800@arcadiaroundbarn.com
SUMMARY:Saturday Morning Music Sessions
DESCRIPTION:“Saturday Morning Music Sessions” features revolving weekly acoustic music performances by guest musicians\, by our own house bands\, Joe Baxter & The Lost Cause\, and the Round Barn Music’s new project\, “The RoundAbouts”. There is a professional invite-only songwriters group that meets monthly on 4th Saturdays. The Public is Invited to ALL music events.
URL:https://arcadiaroundbarn.com/event/saturday-morning-music-sessions-2/2025-08-02/
LOCATION:Arcadia Round Barn\, 107 OK-66\, Arcadia\, OK\, 73034\, United States
CATEGORIES:Music
ATTACH;FMTTYPE=image/jpeg:https://eadn-wc04-4235393.nxedge.io/wp-content/uploads/2025/01/Saturday-Morning-Music-Sessions-logo-idea_SM.jpg
END:VEVENT
BEGIN:VEVENT
DTSTART;TZID=America/Chicago:20250802T130000
DTEND;TZID=America/Chicago:20250802T133000
DTSTAMP:20260423T162822
CREATED:20250115T182804Z
LAST-MODIFIED:20250123T204425Z
UID:10000462-1754139600-1754141400@arcadiaroundbarn.com
SUMMARY:Arcadia Round Barn Public Tours — Saturdays
DESCRIPTION:Would you like to learn more about one of the most photographed icon on Route 66 in Oklahoma? Join  us for a free\, guided public tour every Saturday afternoon at 1 p.m. at the Arcadia Round Barn. \n\n\n\nOur tour guides are trained in the history of the 1898 landmark that is also listed on the National Register of Historic Places. \n\n\n\nTours will take place from 1 to 1:30 p.m. at 107 E. Highway 66 inside the Arcadia Round Barn. Please arrive five minutes before the start time in the lower level gift shop of the barn. Allow 30 minutes for the guided tour and then browse the grounds\, gift shop and museum at your leisure. The Round Barn is six miles east of Interstate 35 on historic Route 66 and is open every day from 10 a.m. to 5 p.m. Please park in the designated parking lot behind the Arcadia Round Barn. For more information about the public tours at the Round Barn\, call Andrea at 405-822-6156 or 405-396-0824. \n\n\n\nReserve Your Spot\n\n\n\nThis is a free\, guided public tour. \n\n\n\n\n                \n                        \n                            This is a free\, guided public tour. \n                        \n                        Name(Required)\n                            \n                            \n                                                    \n                                                    First\n                                                \n                            \n                            \n                                                    \n                                                    Last\n                                                \n                            \n                        Email(Required)\n                            \n                        Phone(Required)Date(Required)Pick your Saturday.\n                            \n                            MM slash DD slash YYYY\n                        \n                        Number in Party(Required)\n          \n            \n            \n            \n            \n            \n            \n            \n            \n            \n            \n            \n            \n            \n        \n                        \n                        \n\n\n\nArcadia Round Barn Tour (photo by Shellee Graham)Pictured: Andrea Moon (Round Barn Events Coordinator) with visitors from Vermont and Ohio.\n\n\n\nFOR PHOTOGRAPHYContact Shellee Graham • PR at the Arcadia Round Barn • 405-650-3309 • shellee66@earthlink.net \n\n\n\nArcadia Round Barn on Route 66(photo by Shellee Graham)
URL:https://arcadiaroundbarn.com/event/r-b-public-tour/2025-08-02/
LOCATION:Arcadia Round Barn\, 107 OK-66\, Arcadia\, OK\, 73034\, United States
ATTACH;FMTTYPE=image/jpeg:https://eadn-wc04-4235393.nxedge.io/wp-content/uploads/2025/01/IMG_7699_Andrea-Moon-giving-a-tour-to-visitors-Jonathan-Elliot-Reuben-kneeling_Jan-15_2025_SM_Shellee-Graham-photo.jpg
END:VEVENT
BEGIN:VEVENT
DTSTART;TZID=America/Chicago:20250809T103000
DTEND;TZID=America/Chicago:20250809T123000
DTSTAMP:20260423T162822
CREATED:20250113T225724Z
LAST-MODIFIED:20250811T213109Z
UID:10000305-1754735400-1754742600@arcadiaroundbarn.com
SUMMARY:Saturday Morning Music Sessions
DESCRIPTION:“Saturday Morning Music Sessions” features revolving weekly acoustic music performances by guest musicians\, by our own house bands\, Joe Baxter & The Lost Cause\, and the Round Barn Music’s new project\, “The RoundAbouts”. There is a professional invite-only songwriters group that meets monthly on 4th Saturdays. The Public is Invited to ALL music events.
URL:https://arcadiaroundbarn.com/event/saturday-morning-music-sessions-2/2025-08-09/
LOCATION:Arcadia Round Barn\, 107 OK-66\, Arcadia\, OK\, 73034\, United States
CATEGORIES:Music
ATTACH;FMTTYPE=image/jpeg:https://eadn-wc04-4235393.nxedge.io/wp-content/uploads/2025/01/Saturday-Morning-Music-Sessions-logo-idea_SM.jpg
END:VEVENT
BEGIN:VEVENT
DTSTART;TZID=America/Chicago:20250809T130000
DTEND;TZID=America/Chicago:20250809T133000
DTSTAMP:20260423T162822
CREATED:20250115T182804Z
LAST-MODIFIED:20250123T204425Z
UID:10000463-1754744400-1754746200@arcadiaroundbarn.com
SUMMARY:Arcadia Round Barn Public Tours — Saturdays
DESCRIPTION:Would you like to learn more about one of the most photographed icon on Route 66 in Oklahoma? Join  us for a free\, guided public tour every Saturday afternoon at 1 p.m. at the Arcadia Round Barn. \n\n\n\nOur tour guides are trained in the history of the 1898 landmark that is also listed on the National Register of Historic Places. \n\n\n\nTours will take place from 1 to 1:30 p.m. at 107 E. Highway 66 inside the Arcadia Round Barn. Please arrive five minutes before the start time in the lower level gift shop of the barn. Allow 30 minutes for the guided tour and then browse the grounds\, gift shop and museum at your leisure. The Round Barn is six miles east of Interstate 35 on historic Route 66 and is open every day from 10 a.m. to 5 p.m. Please park in the designated parking lot behind the Arcadia Round Barn. For more information about the public tours at the Round Barn\, call Andrea at 405-822-6156 or 405-396-0824. \n\n\n\nReserve Your Spot\n\n\n\nThis is a free\, guided public tour. \n\n\n\n                \n                        \n                            This is a free\, guided public tour. \n                        \n                        Name(Required)\n                            \n                            \n                                                    \n                                                    First\n                                                \n                            \n                            \n                                                    \n                                                    Last\n                                                \n                            \n                        Email(Required)\n                            \n                        Phone(Required)Date(Required)Pick your Saturday.\n                            \n                            MM slash DD slash YYYY\n                        \n                        Number in Party(Required)\n          \n            \n            \n            \n            \n            \n            \n            \n            \n            \n            \n            \n            \n            \n        \n                        \n                        \n\n\n\nArcadia Round Barn Tour (photo by Shellee Graham)Pictured: Andrea Moon (Round Barn Events Coordinator) with visitors from Vermont and Ohio.\n\n\n\nFOR PHOTOGRAPHYContact Shellee Graham • PR at the Arcadia Round Barn • 405-650-3309 • shellee66@earthlink.net \n\n\n\nArcadia Round Barn on Route 66(photo by Shellee Graham)
URL:https://arcadiaroundbarn.com/event/r-b-public-tour/2025-08-09/
LOCATION:Arcadia Round Barn\, 107 OK-66\, Arcadia\, OK\, 73034\, United States
ATTACH;FMTTYPE=image/jpeg:https://eadn-wc04-4235393.nxedge.io/wp-content/uploads/2025/01/IMG_7699_Andrea-Moon-giving-a-tour-to-visitors-Jonathan-Elliot-Reuben-kneeling_Jan-15_2025_SM_Shellee-Graham-photo.jpg
END:VEVENT
BEGIN:VEVENT
DTSTART;TZID=America/Chicago:20250810T120000
DTEND;TZID=America/Chicago:20250810T160000
DTSTAMP:20260423T162822
CREATED:20250218T161346Z
LAST-MODIFIED:20250218T161643Z
UID:10000134-1754827200-1754841600@arcadiaroundbarn.com
SUMMARY:Round Barn Rendezvous
DESCRIPTION:Round Barn Rendezvous Open JamFree \n\n\n\n\n\n\n\n2ND SUNDAY EVERY MONTHAll Acoustic Musicians Welcome. \n\n\n\nGET YOUR KICKS ON HISTORIC ROUTE 66 (107 E. HIGHWAY 66 ‹ ARCADIA\, OK)
URL:https://arcadiaroundbarn.com/event/round-barn-rendezvous-8/2025-08-10/
LOCATION:Arcadia Round Barn\, 107 OK-66\, Arcadia\, OK\, 73034\, United States
CATEGORIES:Music,Round Barn Rendezvous
ATTACH;FMTTYPE=image/jpeg:https://eadn-wc04-4235393.nxedge.io/wp-content/uploads/2025/04/Round-Barn-Rendezvous-LOGO_simplified_May-4_SM-1.jpg
END:VEVENT
BEGIN:VEVENT
DTSTART;TZID=America/Chicago:20250816T103000
DTEND;TZID=America/Chicago:20250816T123000
DTSTAMP:20260423T162822
CREATED:20250113T225724Z
LAST-MODIFIED:20250811T213109Z
UID:10000306-1755340200-1755347400@arcadiaroundbarn.com
SUMMARY:Saturday Morning Music Sessions
DESCRIPTION:“Saturday Morning Music Sessions” features revolving weekly acoustic music performances by guest musicians\, by our own house bands\, Joe Baxter & The Lost Cause\, and the Round Barn Music’s new project\, “The RoundAbouts”. There is a professional invite-only songwriters group that meets monthly on 4th Saturdays. The Public is Invited to ALL music events.
URL:https://arcadiaroundbarn.com/event/saturday-morning-music-sessions-2/2025-08-16/
LOCATION:Arcadia Round Barn\, 107 OK-66\, Arcadia\, OK\, 73034\, United States
CATEGORIES:Music
ATTACH;FMTTYPE=image/jpeg:https://eadn-wc04-4235393.nxedge.io/wp-content/uploads/2025/01/Saturday-Morning-Music-Sessions-logo-idea_SM.jpg
END:VEVENT
BEGIN:VEVENT
DTSTART;TZID=America/Chicago:20250816T130000
DTEND;TZID=America/Chicago:20250816T133000
DTSTAMP:20260423T162822
CREATED:20250115T182804Z
LAST-MODIFIED:20250123T204425Z
UID:10000464-1755349200-1755351000@arcadiaroundbarn.com
SUMMARY:Arcadia Round Barn Public Tours — Saturdays
DESCRIPTION:Would you like to learn more about one of the most photographed icon on Route 66 in Oklahoma? Join  us for a free\, guided public tour every Saturday afternoon at 1 p.m. at the Arcadia Round Barn. \n\n\n\nOur tour guides are trained in the history of the 1898 landmark that is also listed on the National Register of Historic Places. \n\n\n\nTours will take place from 1 to 1:30 p.m. at 107 E. Highway 66 inside the Arcadia Round Barn. Please arrive five minutes before the start time in the lower level gift shop of the barn. Allow 30 minutes for the guided tour and then browse the grounds\, gift shop and museum at your leisure. The Round Barn is six miles east of Interstate 35 on historic Route 66 and is open every day from 10 a.m. to 5 p.m. Please park in the designated parking lot behind the Arcadia Round Barn. For more information about the public tours at the Round Barn\, call Andrea at 405-822-6156 or 405-396-0824. \n\n\n\nReserve Your Spot\n\n\n\nThis is a free\, guided public tour. \n\n\n\n                \n                        \n                            This is a free\, guided public tour. \n                        \n                        Name(Required)\n                            \n                            \n                                                    \n                                                    First\n                                                \n                            \n                            \n                                                    \n                                                    Last\n                                                \n                            \n                        Email(Required)\n                            \n                        Phone(Required)Date(Required)Pick your Saturday.\n                            \n                            MM slash DD slash YYYY\n                        \n                        Number in Party(Required)\n          \n            \n            \n            \n            \n            \n            \n            \n            \n            \n            \n            \n            \n            \n        \n                        \n                        \n\n\n\nArcadia Round Barn Tour (photo by Shellee Graham)Pictured: Andrea Moon (Round Barn Events Coordinator) with visitors from Vermont and Ohio.\n\n\n\nFOR PHOTOGRAPHYContact Shellee Graham • PR at the Arcadia Round Barn • 405-650-3309 • shellee66@earthlink.net \n\n\n\nArcadia Round Barn on Route 66(photo by Shellee Graham)
URL:https://arcadiaroundbarn.com/event/r-b-public-tour/2025-08-16/
LOCATION:Arcadia Round Barn\, 107 OK-66\, Arcadia\, OK\, 73034\, United States
ATTACH;FMTTYPE=image/jpeg:https://eadn-wc04-4235393.nxedge.io/wp-content/uploads/2025/01/IMG_7699_Andrea-Moon-giving-a-tour-to-visitors-Jonathan-Elliot-Reuben-kneeling_Jan-15_2025_SM_Shellee-Graham-photo.jpg
END:VEVENT
BEGIN:VEVENT
DTSTART;TZID=America/Chicago:20250823T103000
DTEND;TZID=America/Chicago:20250823T123000
DTSTAMP:20260423T162822
CREATED:20250113T225724Z
LAST-MODIFIED:20250811T213109Z
UID:10000307-1755945000-1755952200@arcadiaroundbarn.com
SUMMARY:Saturday Morning Music Sessions
DESCRIPTION:“Saturday Morning Music Sessions” features revolving weekly acoustic music performances by guest musicians\, by our own house bands\, Joe Baxter & The Lost Cause\, and the Round Barn Music’s new project\, “The RoundAbouts”. There is a professional invite-only songwriters group that meets monthly on 4th Saturdays. The Public is Invited to ALL music events.
URL:https://arcadiaroundbarn.com/event/saturday-morning-music-sessions-2/2025-08-23/
LOCATION:Arcadia Round Barn\, 107 OK-66\, Arcadia\, OK\, 73034\, United States
CATEGORIES:Music
ATTACH;FMTTYPE=image/jpeg:https://eadn-wc04-4235393.nxedge.io/wp-content/uploads/2025/01/Saturday-Morning-Music-Sessions-logo-idea_SM.jpg
END:VEVENT
BEGIN:VEVENT
DTSTART;TZID=America/Chicago:20250823T130000
DTEND;TZID=America/Chicago:20250823T133000
DTSTAMP:20260423T162822
CREATED:20250115T182804Z
LAST-MODIFIED:20250123T204425Z
UID:10000465-1755954000-1755955800@arcadiaroundbarn.com
SUMMARY:Arcadia Round Barn Public Tours — Saturdays
DESCRIPTION:Would you like to learn more about one of the most photographed icon on Route 66 in Oklahoma? Join  us for a free\, guided public tour every Saturday afternoon at 1 p.m. at the Arcadia Round Barn. \n\n\n\nOur tour guides are trained in the history of the 1898 landmark that is also listed on the National Register of Historic Places. \n\n\n\nTours will take place from 1 to 1:30 p.m. at 107 E. Highway 66 inside the Arcadia Round Barn. Please arrive five minutes before the start time in the lower level gift shop of the barn. Allow 30 minutes for the guided tour and then browse the grounds\, gift shop and museum at your leisure. The Round Barn is six miles east of Interstate 35 on historic Route 66 and is open every day from 10 a.m. to 5 p.m. Please park in the designated parking lot behind the Arcadia Round Barn. For more information about the public tours at the Round Barn\, call Andrea at 405-822-6156 or 405-396-0824. \n\n\n\nReserve Your Spot\n\n\n\nThis is a free\, guided public tour. \n\n\n\n                \n                        \n                            This is a free\, guided public tour. \n                        \n                        Name(Required)\n                            \n                            \n                                                    \n                                                    First\n                                                \n                            \n                            \n                                                    \n                                                    Last\n                                                \n                            \n                        Email(Required)\n                            \n                        Phone(Required)Date(Required)Pick your Saturday.\n                            \n                            MM slash DD slash YYYY\n                        \n                        Number in Party(Required)\n          \n            \n            \n            \n            \n            \n            \n            \n            \n            \n            \n            \n            \n            \n        \n                        \n                        \n\n\n\nArcadia Round Barn Tour (photo by Shellee Graham)Pictured: Andrea Moon (Round Barn Events Coordinator) with visitors from Vermont and Ohio.\n\n\n\nFOR PHOTOGRAPHYContact Shellee Graham • PR at the Arcadia Round Barn • 405-650-3309 • shellee66@earthlink.net \n\n\n\nArcadia Round Barn on Route 66(photo by Shellee Graham)
URL:https://arcadiaroundbarn.com/event/r-b-public-tour/2025-08-23/
LOCATION:Arcadia Round Barn\, 107 OK-66\, Arcadia\, OK\, 73034\, United States
ATTACH;FMTTYPE=image/jpeg:https://eadn-wc04-4235393.nxedge.io/wp-content/uploads/2025/01/IMG_7699_Andrea-Moon-giving-a-tour-to-visitors-Jonathan-Elliot-Reuben-kneeling_Jan-15_2025_SM_Shellee-Graham-photo.jpg
END:VEVENT
BEGIN:VEVENT
DTSTART;TZID=America/Chicago:20250830T103000
DTEND;TZID=America/Chicago:20250830T123000
DTSTAMP:20260423T162822
CREATED:20250113T225724Z
LAST-MODIFIED:20250811T213109Z
UID:10000308-1756549800-1756557000@arcadiaroundbarn.com
SUMMARY:Saturday Morning Music Sessions
DESCRIPTION:“Saturday Morning Music Sessions” features revolving weekly acoustic music performances by guest musicians\, by our own house bands\, Joe Baxter & The Lost Cause\, and the Round Barn Music’s new project\, “The RoundAbouts”. There is a professional invite-only songwriters group that meets monthly on 4th Saturdays. The Public is Invited to ALL music events.
URL:https://arcadiaroundbarn.com/event/saturday-morning-music-sessions-2/2025-08-30/
LOCATION:Arcadia Round Barn\, 107 OK-66\, Arcadia\, OK\, 73034\, United States
CATEGORIES:Music
ATTACH;FMTTYPE=image/jpeg:https://eadn-wc04-4235393.nxedge.io/wp-content/uploads/2025/01/Saturday-Morning-Music-Sessions-logo-idea_SM.jpg
END:VEVENT
BEGIN:VEVENT
DTSTART;TZID=America/Chicago:20250830T130000
DTEND;TZID=America/Chicago:20250830T133000
DTSTAMP:20260423T162822
CREATED:20250115T182804Z
LAST-MODIFIED:20250123T204425Z
UID:10000466-1756558800-1756560600@arcadiaroundbarn.com
SUMMARY:Arcadia Round Barn Public Tours — Saturdays
DESCRIPTION:Would you like to learn more about one of the most photographed icon on Route 66 in Oklahoma? Join  us for a free\, guided public tour every Saturday afternoon at 1 p.m. at the Arcadia Round Barn. \n\n\n\nOur tour guides are trained in the history of the 1898 landmark that is also listed on the National Register of Historic Places. \n\n\n\nTours will take place from 1 to 1:30 p.m. at 107 E. Highway 66 inside the Arcadia Round Barn. Please arrive five minutes before the start time in the lower level gift shop of the barn. Allow 30 minutes for the guided tour and then browse the grounds\, gift shop and museum at your leisure. The Round Barn is six miles east of Interstate 35 on historic Route 66 and is open every day from 10 a.m. to 5 p.m. Please park in the designated parking lot behind the Arcadia Round Barn. For more information about the public tours at the Round Barn\, call Andrea at 405-822-6156 or 405-396-0824. \n\n\n\nReserve Your Spot\n\n\n\nThis is a free\, guided public tour. \n\n\n\n                \n                        \n                            This is a free\, guided public tour. \n                        \n                        Name(Required)\n                            \n                            \n                                                    \n                                                    First\n                                                \n                            \n                            \n                                                    \n                                                    Last\n                                                \n                            \n                        Email(Required)\n                            \n                        Phone(Required)Date(Required)Pick your Saturday.\n                            \n                            MM slash DD slash YYYY\n                        \n                        Number in Party(Required)\n          \n            \n            \n            \n            \n            \n            \n            \n            \n            \n            \n            \n            \n            \n        \n                        \n                        \n\n\n\nArcadia Round Barn Tour (photo by Shellee Graham)Pictured: Andrea Moon (Round Barn Events Coordinator) with visitors from Vermont and Ohio.\n\n\n\nFOR PHOTOGRAPHYContact Shellee Graham • PR at the Arcadia Round Barn • 405-650-3309 • shellee66@earthlink.net \n\n\n\nArcadia Round Barn on Route 66(photo by Shellee Graham)
URL:https://arcadiaroundbarn.com/event/r-b-public-tour/2025-08-30/
LOCATION:Arcadia Round Barn\, 107 OK-66\, Arcadia\, OK\, 73034\, United States
ATTACH;FMTTYPE=image/jpeg:https://eadn-wc04-4235393.nxedge.io/wp-content/uploads/2025/01/IMG_7699_Andrea-Moon-giving-a-tour-to-visitors-Jonathan-Elliot-Reuben-kneeling_Jan-15_2025_SM_Shellee-Graham-photo.jpg
END:VEVENT
BEGIN:VEVENT
DTSTART;TZID=America/Chicago:20250831T130000
DTEND;TZID=America/Chicago:20250831T150000
DTSTAMP:20260423T162822
CREATED:20250218T235051Z
LAST-MODIFIED:20250818T150748Z
UID:10000246-1756645200-1756652400@arcadiaroundbarn.com
SUMMARY:Gypsy Twang — Tulsa Red Dirt — Elm Tree Concerts
DESCRIPTION:Gypsy Twang\, an outstanding band\, filled with musical talent and sweet harmonies\, will perform on Sunday\, August 31st at the Arcadia Round Barn\, under the shade of the Elm tree\, 1 p.m. to 3 p.m. \n\n\n\nCurrent band members include Sarah Barker Huhn on lead vocals and guitar\, Steve Huhn on upright bass\, John Williams on vocals\, guitar\, harmonica and Kurt “Frenchie” Nielsen on mandolin and tenor guitar. \n\n\n\nGypsy Twang was established in May of 2009. Husband and wife Steve and Sarah Huhn had both done a few other things musically\, but had always wanted to form a band together. “We rounded up a couple of friends to play a gig with us\, and the next thing we knew we were booking more dates and thinking up a name for the band (Gypsy Twang is a nod to both Bob Childers and Country & Western music). \n\n\n\n“Our unique brand of music includes original\, traditional\, singer/ songwriter\, and vintage country tunes. As we progressed\, we found ourselves leaning more and more towards original tunes penned by John and Sarah as well as dipping in to our traditional country and Red Dirt roots.” Steveʼs dad was a boogie-woogiepiano player\, and often invited friends to their home for jam sessions. His taste ran to jazz and standards\, and thatʼs the music \n\n\n\nSteve grew up with. Sarahʼs dad\, on the other hand\, wasnʼt a musician himself. But he loved music\, and passed along his love of Country and Western music to her from an early age. John (Williams) is one of the best songwriters on the Red Dirt scene\, and has a heart for traditional country as well. “Frenchie plays all over the place\, and we consider ourselves lucky to be part of his band family!” \n\n\n\nToday\, we perform Sarahʼs and Johnʼs original songs\, as well as tunes written by fellow Okies\, country keepsakes\, alt-country\, Americana\, traditional\, and folk songs. \n\n\n\nCome out and Hang with the Twang at the Round Barn on Sunday\, August 31st. Weʼd love to see your smiling face! \n\n\n\n\n\n\n\nIndividual Bios \n\n\n\nSarah Barker Huhn is an Oklahoma-born musician who makes her home in Tulsa. She fronts the band Gypsy Twang\, John and Sarah both sing\, play and write Okie songs with Gypsy soul\, drawing upon their respective family backgrounds and small town roots. A bit of a late bloomer\, she bought her first guitar at the age of forty\, started writing songs right away and found a home in the Oklahoma music community. These days youʼre just as likely to find her with a camera in her hands\, capturing photos of musicians and events around the state. \n\n\n\n\n\n\n\nJohn Williams is perhaps best known in Red Dirt circles for his scorching blues harmonica skills. He taught himself to play aboard a Navy destroyer ship many moons ago and is a sought-after session harp player as well as playing live with several bands through the years up to the present \n\n\n\n\n\n\n\nSteve Huhn plays a 1939 Kay upright bass in Gypsy Twang. Steveʼs bass playing is the heartbeat of Gypsy Twang. Well-versed in music theory\, he never bats an eye when we decide to change keys\, has a savvy ear for arrangements and can ‘Nashville chartʼ a song like nobodyʼs business! Steve is as rock steady as the soulful beat he keeps on the bass. He is our foundation\, and without him there would be no band. \n\n\n\n\n\n\n\nSponsored by The Arcadia Historical & Preservation Society
URL:https://arcadiaroundbarn.com/event/gypsy-twang-tulsa-red-dirt-elm-tree-concerts/
LOCATION:Arcadia Round Barn\, 107 OK-66\, Arcadia\, OK\, 73034\, United States
CATEGORIES:Elm Tree Concerts,Live Concerts,Music
ATTACH;FMTTYPE=image/jpeg:https://eadn-wc04-4235393.nxedge.io/wp-content/uploads/2025/08/GYPSY-TWANG-photo-by-David-Nowels.jpg
END:VEVENT
END:VCALENDAR