BEGIN:VCALENDAR
VERSION:2.0
PRODID:-//Arcadia Round Barn - ECPv6.15.20//NONSGML v1.0//EN
CALSCALE:GREGORIAN
METHOD:PUBLISH
X-WR-CALNAME:Arcadia Round Barn
X-ORIGINAL-URL:https://arcadiaroundbarn.com
X-WR-CALDESC:Events for Arcadia Round Barn
REFRESH-INTERVAL;VALUE=DURATION:PT1H
X-Robots-Tag:noindex
X-PUBLISHED-TTL:PT1H
BEGIN:VTIMEZONE
TZID:America/Chicago
BEGIN:DAYLIGHT
TZOFFSETFROM:-0600
TZOFFSETTO:-0500
TZNAME:CDT
DTSTART:20240310T080000
END:DAYLIGHT
BEGIN:STANDARD
TZOFFSETFROM:-0500
TZOFFSETTO:-0600
TZNAME:CST
DTSTART:20241103T070000
END:STANDARD
BEGIN:DAYLIGHT
TZOFFSETFROM:-0600
TZOFFSETTO:-0500
TZNAME:CDT
DTSTART:20250309T080000
END:DAYLIGHT
BEGIN:STANDARD
TZOFFSETFROM:-0500
TZOFFSETTO:-0600
TZNAME:CST
DTSTART:20251102T070000
END:STANDARD
BEGIN:DAYLIGHT
TZOFFSETFROM:-0600
TZOFFSETTO:-0500
TZNAME:CDT
DTSTART:20260308T080000
END:DAYLIGHT
BEGIN:STANDARD
TZOFFSETFROM:-0500
TZOFFSETTO:-0600
TZNAME:CST
DTSTART:20261101T070000
END:STANDARD
END:VTIMEZONE
BEGIN:VEVENT
DTSTART;TZID=America/Chicago:20250607T103000
DTEND;TZID=America/Chicago:20250607T123000
DTSTAMP:20260423T194226
CREATED:20250113T225724Z
LAST-MODIFIED:20250811T213109Z
UID:10000296-1749292200-1749299400@arcadiaroundbarn.com
SUMMARY:Saturday Morning Music Sessions
DESCRIPTION:“Saturday Morning Music Sessions” features revolving weekly acoustic music performances by guest musicians\, by our own house bands\, Joe Baxter & The Lost Cause\, and the Round Barn Music’s new project\, “The RoundAbouts”. There is a professional invite-only songwriters group that meets monthly on 4th Saturdays. The Public is Invited to ALL music events.
URL:https://arcadiaroundbarn.com/event/saturday-morning-music-sessions-2/2025-06-07/
LOCATION:Arcadia Round Barn\, 107 OK-66\, Arcadia\, OK\, 73034\, United States
CATEGORIES:Music
ATTACH;FMTTYPE=image/jpeg:https://eadn-wc04-4235393.nxedge.io/wp-content/uploads/2025/01/Saturday-Morning-Music-Sessions-logo-idea_SM.jpg
END:VEVENT
BEGIN:VEVENT
DTSTART;TZID=America/Chicago:20250607T130000
DTEND;TZID=America/Chicago:20250607T133000
DTSTAMP:20260423T194226
CREATED:20250115T182804Z
LAST-MODIFIED:20250123T204425Z
UID:10000454-1749301200-1749303000@arcadiaroundbarn.com
SUMMARY:Arcadia Round Barn Public Tours — Saturdays
DESCRIPTION:Would you like to learn more about one of the most photographed icon on Route 66 in Oklahoma? Join  us for a free\, guided public tour every Saturday afternoon at 1 p.m. at the Arcadia Round Barn. \n\n\n\nOur tour guides are trained in the history of the 1898 landmark that is also listed on the National Register of Historic Places. \n\n\n\nTours will take place from 1 to 1:30 p.m. at 107 E. Highway 66 inside the Arcadia Round Barn. Please arrive five minutes before the start time in the lower level gift shop of the barn. Allow 30 minutes for the guided tour and then browse the grounds\, gift shop and museum at your leisure. The Round Barn is six miles east of Interstate 35 on historic Route 66 and is open every day from 10 a.m. to 5 p.m. Please park in the designated parking lot behind the Arcadia Round Barn. For more information about the public tours at the Round Barn\, call Andrea at 405-822-6156 or 405-396-0824. \n\n\n\nReserve Your Spot\n\n\n\nThis is a free\, guided public tour. \n\n\n\n\n                \n                        \n                            This is a free\, guided public tour. \n                        \n                        Name(Required)\n                            \n                            \n                                                    \n                                                    First\n                                                \n                            \n                            \n                                                    \n                                                    Last\n                                                \n                            \n                        Email(Required)\n                            \n                        Phone(Required)Date(Required)Pick your Saturday.\n                            \n                            MM slash DD slash YYYY\n                        \n                        Number in Party(Required)\n          \n            \n            \n            \n            \n            \n            \n            \n            \n            \n            \n            \n            \n            \n        \n                        \n                        \n\n\n\nArcadia Round Barn Tour (photo by Shellee Graham)Pictured: Andrea Moon (Round Barn Events Coordinator) with visitors from Vermont and Ohio.\n\n\n\nFOR PHOTOGRAPHYContact Shellee Graham • PR at the Arcadia Round Barn • 405-650-3309 • shellee66@earthlink.net \n\n\n\nArcadia Round Barn on Route 66(photo by Shellee Graham)
URL:https://arcadiaroundbarn.com/event/r-b-public-tour/2025-06-07/
LOCATION:Arcadia Round Barn\, 107 OK-66\, Arcadia\, OK\, 73034\, United States
ATTACH;FMTTYPE=image/jpeg:https://eadn-wc04-4235393.nxedge.io/wp-content/uploads/2025/01/IMG_7699_Andrea-Moon-giving-a-tour-to-visitors-Jonathan-Elliot-Reuben-kneeling_Jan-15_2025_SM_Shellee-Graham-photo.jpg
END:VEVENT
BEGIN:VEVENT
DTSTART;TZID=America/Chicago:20250608T120000
DTEND;TZID=America/Chicago:20250608T160000
DTSTAMP:20260423T194226
CREATED:20250218T161346Z
LAST-MODIFIED:20250218T161643Z
UID:10000132-1749384000-1749398400@arcadiaroundbarn.com
SUMMARY:Round Barn Rendezvous
DESCRIPTION:Round Barn Rendezvous Open JamFree \n\n\n\n\n\n\n\n2ND SUNDAY EVERY MONTHAll Acoustic Musicians Welcome. \n\n\n\nGET YOUR KICKS ON HISTORIC ROUTE 66 (107 E. HIGHWAY 66 ‹ ARCADIA\, OK)
URL:https://arcadiaroundbarn.com/event/round-barn-rendezvous-8/2025-06-08/
LOCATION:Arcadia Round Barn\, 107 OK-66\, Arcadia\, OK\, 73034\, United States
CATEGORIES:Music,Round Barn Rendezvous
ATTACH;FMTTYPE=image/jpeg:https://eadn-wc04-4235393.nxedge.io/wp-content/uploads/2025/04/Round-Barn-Rendezvous-LOGO_simplified_May-4_SM-1.jpg
END:VEVENT
BEGIN:VEVENT
DTSTART;TZID=America/Chicago:20250614T103000
DTEND;TZID=America/Chicago:20250614T123000
DTSTAMP:20260423T194226
CREATED:20250113T225724Z
LAST-MODIFIED:20250811T213109Z
UID:10000297-1749897000-1749904200@arcadiaroundbarn.com
SUMMARY:Saturday Morning Music Sessions
DESCRIPTION:“Saturday Morning Music Sessions” features revolving weekly acoustic music performances by guest musicians\, by our own house bands\, Joe Baxter & The Lost Cause\, and the Round Barn Music’s new project\, “The RoundAbouts”. There is a professional invite-only songwriters group that meets monthly on 4th Saturdays. The Public is Invited to ALL music events.
URL:https://arcadiaroundbarn.com/event/saturday-morning-music-sessions-2/2025-06-14/
LOCATION:Arcadia Round Barn\, 107 OK-66\, Arcadia\, OK\, 73034\, United States
CATEGORIES:Music
ATTACH;FMTTYPE=image/jpeg:https://eadn-wc04-4235393.nxedge.io/wp-content/uploads/2025/01/Saturday-Morning-Music-Sessions-logo-idea_SM.jpg
END:VEVENT
BEGIN:VEVENT
DTSTART;TZID=America/Chicago:20250614T130000
DTEND;TZID=America/Chicago:20250614T133000
DTSTAMP:20260423T194226
CREATED:20250115T182804Z
LAST-MODIFIED:20250123T204425Z
UID:10000455-1749906000-1749907800@arcadiaroundbarn.com
SUMMARY:Arcadia Round Barn Public Tours — Saturdays
DESCRIPTION:Would you like to learn more about one of the most photographed icon on Route 66 in Oklahoma? Join  us for a free\, guided public tour every Saturday afternoon at 1 p.m. at the Arcadia Round Barn. \n\n\n\nOur tour guides are trained in the history of the 1898 landmark that is also listed on the National Register of Historic Places. \n\n\n\nTours will take place from 1 to 1:30 p.m. at 107 E. Highway 66 inside the Arcadia Round Barn. Please arrive five minutes before the start time in the lower level gift shop of the barn. Allow 30 minutes for the guided tour and then browse the grounds\, gift shop and museum at your leisure. The Round Barn is six miles east of Interstate 35 on historic Route 66 and is open every day from 10 a.m. to 5 p.m. Please park in the designated parking lot behind the Arcadia Round Barn. For more information about the public tours at the Round Barn\, call Andrea at 405-822-6156 or 405-396-0824. \n\n\n\nReserve Your Spot\n\n\n\nThis is a free\, guided public tour. \n\n\n\n                \n                        \n                            This is a free\, guided public tour. \n                        \n                        Name(Required)\n                            \n                            \n                                                    \n                                                    First\n                                                \n                            \n                            \n                                                    \n                                                    Last\n                                                \n                            \n                        Email(Required)\n                            \n                        Phone(Required)Date(Required)Pick your Saturday.\n                            \n                            MM slash DD slash YYYY\n                        \n                        Number in Party(Required)\n          \n            \n            \n            \n            \n            \n            \n            \n            \n            \n            \n            \n            \n            \n        \n                        \n                        \n\n\n\nArcadia Round Barn Tour (photo by Shellee Graham)Pictured: Andrea Moon (Round Barn Events Coordinator) with visitors from Vermont and Ohio.\n\n\n\nFOR PHOTOGRAPHYContact Shellee Graham • PR at the Arcadia Round Barn • 405-650-3309 • shellee66@earthlink.net \n\n\n\nArcadia Round Barn on Route 66(photo by Shellee Graham)
URL:https://arcadiaroundbarn.com/event/r-b-public-tour/2025-06-14/
LOCATION:Arcadia Round Barn\, 107 OK-66\, Arcadia\, OK\, 73034\, United States
ATTACH;FMTTYPE=image/jpeg:https://eadn-wc04-4235393.nxedge.io/wp-content/uploads/2025/01/IMG_7699_Andrea-Moon-giving-a-tour-to-visitors-Jonathan-Elliot-Reuben-kneeling_Jan-15_2025_SM_Shellee-Graham-photo.jpg
END:VEVENT
BEGIN:VEVENT
DTSTART;TZID=America/Chicago:20250621T103000
DTEND;TZID=America/Chicago:20250621T123000
DTSTAMP:20260423T194226
CREATED:20250113T225724Z
LAST-MODIFIED:20250811T213109Z
UID:10000298-1750501800-1750509000@arcadiaroundbarn.com
SUMMARY:Saturday Morning Music Sessions
DESCRIPTION:“Saturday Morning Music Sessions” features revolving weekly acoustic music performances by guest musicians\, by our own house bands\, Joe Baxter & The Lost Cause\, and the Round Barn Music’s new project\, “The RoundAbouts”. There is a professional invite-only songwriters group that meets monthly on 4th Saturdays. The Public is Invited to ALL music events.
URL:https://arcadiaroundbarn.com/event/saturday-morning-music-sessions-2/2025-06-21/
LOCATION:Arcadia Round Barn\, 107 OK-66\, Arcadia\, OK\, 73034\, United States
CATEGORIES:Music
ATTACH;FMTTYPE=image/jpeg:https://eadn-wc04-4235393.nxedge.io/wp-content/uploads/2025/01/Saturday-Morning-Music-Sessions-logo-idea_SM.jpg
END:VEVENT
BEGIN:VEVENT
DTSTART;TZID=America/Chicago:20250621T130000
DTEND;TZID=America/Chicago:20250621T133000
DTSTAMP:20260423T194226
CREATED:20250115T182804Z
LAST-MODIFIED:20250123T204425Z
UID:10000456-1750510800-1750512600@arcadiaroundbarn.com
SUMMARY:Arcadia Round Barn Public Tours — Saturdays
DESCRIPTION:Would you like to learn more about one of the most photographed icon on Route 66 in Oklahoma? Join  us for a free\, guided public tour every Saturday afternoon at 1 p.m. at the Arcadia Round Barn. \n\n\n\nOur tour guides are trained in the history of the 1898 landmark that is also listed on the National Register of Historic Places. \n\n\n\nTours will take place from 1 to 1:30 p.m. at 107 E. Highway 66 inside the Arcadia Round Barn. Please arrive five minutes before the start time in the lower level gift shop of the barn. Allow 30 minutes for the guided tour and then browse the grounds\, gift shop and museum at your leisure. The Round Barn is six miles east of Interstate 35 on historic Route 66 and is open every day from 10 a.m. to 5 p.m. Please park in the designated parking lot behind the Arcadia Round Barn. For more information about the public tours at the Round Barn\, call Andrea at 405-822-6156 or 405-396-0824. \n\n\n\nReserve Your Spot\n\n\n\nThis is a free\, guided public tour. \n\n\n\n                \n                        \n                            This is a free\, guided public tour. \n                        \n                        Name(Required)\n                            \n                            \n                                                    \n                                                    First\n                                                \n                            \n                            \n                                                    \n                                                    Last\n                                                \n                            \n                        Email(Required)\n                            \n                        Phone(Required)Date(Required)Pick your Saturday.\n                            \n                            MM slash DD slash YYYY\n                        \n                        Number in Party(Required)\n          \n            \n            \n            \n            \n            \n            \n            \n            \n            \n            \n            \n            \n            \n        \n                        \n                        \n\n\n\nArcadia Round Barn Tour (photo by Shellee Graham)Pictured: Andrea Moon (Round Barn Events Coordinator) with visitors from Vermont and Ohio.\n\n\n\nFOR PHOTOGRAPHYContact Shellee Graham • PR at the Arcadia Round Barn • 405-650-3309 • shellee66@earthlink.net \n\n\n\nArcadia Round Barn on Route 66(photo by Shellee Graham)
URL:https://arcadiaroundbarn.com/event/r-b-public-tour/2025-06-21/
LOCATION:Arcadia Round Barn\, 107 OK-66\, Arcadia\, OK\, 73034\, United States
ATTACH;FMTTYPE=image/jpeg:https://eadn-wc04-4235393.nxedge.io/wp-content/uploads/2025/01/IMG_7699_Andrea-Moon-giving-a-tour-to-visitors-Jonathan-Elliot-Reuben-kneeling_Jan-15_2025_SM_Shellee-Graham-photo.jpg
END:VEVENT
BEGIN:VEVENT
DTSTART;TZID=America/Chicago:20250622T143000
DTEND;TZID=America/Chicago:20250622T163000
DTSTAMP:20260423T194226
CREATED:20250218T234842Z
LAST-MODIFIED:20250610T223406Z
UID:10000490-1750602600-1750609800@arcadiaroundbarn.com
SUMMARY:Edgar Cruz — Virtuoso Guitar — Elm Tree Concerts
DESCRIPTION:Live Acoustic Shows / In the Shade \n\n\n\nSponsored by The Arcadia Historical & Preservation Society
URL:https://arcadiaroundbarn.com/event/edgar-cruz-elm-tree-concerts/
LOCATION:OK
CATEGORIES:Elm Tree Concerts,Music
ATTACH;FMTTYPE=image/jpeg:https://eadn-wc04-4235393.nxedge.io/wp-content/uploads/2025/06/Elm-Tree-Concerts-logo_with-Arcadia-Round-Barn-TYPE_April-23_2025_flat.jpeg
END:VEVENT
BEGIN:VEVENT
DTSTART;TZID=America/Chicago:20250628T103000
DTEND;TZID=America/Chicago:20250628T123000
DTSTAMP:20260423T194226
CREATED:20250114T160439Z
LAST-MODIFIED:20250114T160440Z
UID:10000299-1751106600-1751113800@arcadiaroundbarn.com
SUMMARY:Joe Baxter & The Lost Cause — Saturday Morning Music Sessions
DESCRIPTION:Joe Baxter & The Lost Cause \n\n\n\n(Gift Shop)
URL:https://arcadiaroundbarn.com/event/saturday-morning-music-sessions-3/
LOCATION:OK
CATEGORIES:Music
END:VEVENT
BEGIN:VEVENT
DTSTART;TZID=America/Chicago:20250628T130000
DTEND;TZID=America/Chicago:20250628T133000
DTSTAMP:20260423T194226
CREATED:20250115T182804Z
LAST-MODIFIED:20250123T204425Z
UID:10000457-1751115600-1751117400@arcadiaroundbarn.com
SUMMARY:Arcadia Round Barn Public Tours — Saturdays
DESCRIPTION:Would you like to learn more about one of the most photographed icon on Route 66 in Oklahoma? Join  us for a free\, guided public tour every Saturday afternoon at 1 p.m. at the Arcadia Round Barn. \n\n\n\nOur tour guides are trained in the history of the 1898 landmark that is also listed on the National Register of Historic Places. \n\n\n\nTours will take place from 1 to 1:30 p.m. at 107 E. Highway 66 inside the Arcadia Round Barn. Please arrive five minutes before the start time in the lower level gift shop of the barn. Allow 30 minutes for the guided tour and then browse the grounds\, gift shop and museum at your leisure. The Round Barn is six miles east of Interstate 35 on historic Route 66 and is open every day from 10 a.m. to 5 p.m. Please park in the designated parking lot behind the Arcadia Round Barn. For more information about the public tours at the Round Barn\, call Andrea at 405-822-6156 or 405-396-0824. \n\n\n\nReserve Your Spot\n\n\n\nThis is a free\, guided public tour. \n\n\n\n                \n                        \n                            This is a free\, guided public tour. \n                        \n                        Name(Required)\n                            \n                            \n                                                    \n                                                    First\n                                                \n                            \n                            \n                                                    \n                                                    Last\n                                                \n                            \n                        Email(Required)\n                            \n                        Phone(Required)Date(Required)Pick your Saturday.\n                            \n                            MM slash DD slash YYYY\n                        \n                        Number in Party(Required)\n          \n            \n            \n            \n            \n            \n            \n            \n            \n            \n            \n            \n            \n            \n        \n                        \n                        \n\n\n\nArcadia Round Barn Tour (photo by Shellee Graham)Pictured: Andrea Moon (Round Barn Events Coordinator) with visitors from Vermont and Ohio.\n\n\n\nFOR PHOTOGRAPHYContact Shellee Graham • PR at the Arcadia Round Barn • 405-650-3309 • shellee66@earthlink.net \n\n\n\nArcadia Round Barn on Route 66(photo by Shellee Graham)
URL:https://arcadiaroundbarn.com/event/r-b-public-tour/2025-06-28/
LOCATION:Arcadia Round Barn\, 107 OK-66\, Arcadia\, OK\, 73034\, United States
ATTACH;FMTTYPE=image/jpeg:https://eadn-wc04-4235393.nxedge.io/wp-content/uploads/2025/01/IMG_7699_Andrea-Moon-giving-a-tour-to-visitors-Jonathan-Elliot-Reuben-kneeling_Jan-15_2025_SM_Shellee-Graham-photo.jpg
END:VEVENT
BEGIN:VEVENT
DTSTART;TZID=America/Chicago:20250629T130000
DTEND;TZID=America/Chicago:20250629T150000
DTSTAMP:20260423T194226
CREATED:20250218T234915Z
LAST-MODIFIED:20250613T205847Z
UID:10000244-1751202000-1751209200@arcadiaroundbarn.com
SUMMARY:Joe Baxter — Barn Music — Elm Tree Concerts
DESCRIPTION:JOE BAXTER is an excellent storyteller. That’s why he’s also prolific songwriter and performer. We get to hear Joe Baxter tell stories and sing songs on Sunday\, June 29th at 1 p.m. \n\n\n\nBaxter is a fourth-generation Okie; a proud descendent of original hard-scrabble homesteaders. He’s retired from doing any actual WORK\, but continues to perform as much as possible.  \n\n\n\nJoe has been knocking around the Oklahoma music scene for several decades. Known as a capable and copius songwriter\, Joe’s songs deal with Everyman’s Every Day. Love\, hate\, pain\, joy\, silly\, and serious. All of Joe’s followers\, friends\, and family have a “favorite” JB song.  A few of his songs have won awards. My personal favorite is “Romeo’s Girl.” \n\n\n\nThe discography spans thirty years\, and includes 11 all­ original albums from 1994’s “ Blue Tape” through 2023’s “ Interesting Times”. Joe’s songwriting mantra is “We record\, therefore we are! ” \n\n\n\nIn Joe Baxter’s own words\, he is: “A long-suffering\, little-known\, hometown\, pre-Americana\, redneck\, short-haired\, red-faced\, irreverent\, irresponsible\, quirkily well-read\, bombastic yet insightful\, mouth-breathing\, loud-laughing\, dog-loving\, nap-taking\, no-workin’\, fish-catching\, backroad-driving … Okie song writer.”    \n\n\n\nYou’ll find Baxter at the Round Barn 2-3 times a week\, often he plays with his friends Curt and Richard\, who play mandolin and fiddle. Together they are the Round Barn Ramblers. When Baxter was interviewed (by KFOR’s Galen Culver)\, Joe explained that “BARN MUSIC is a subgenre of OKIE NOIR.”  I loved that JB quote and I learned that Okie Noir is sub-genre created by Oklahoma’s best-selling auhor Faith Phillips.  \n\n\n\nLucky for the Round Barn\, Baxter also happens to be the Music Director. He’s responsible for recruiting professional musicians for dozens of FREE concerts at the Barn every year. “We’re so fortunate to have him\, Joe is a fantastic volunteeer in addition to being a dynamic songwriter and musician\,” said Linda Simonton\, President of Arcadia Historical & Preservation Society.  \n\n\n\nCheck out JOE BAXTER and the Lost Cause under the shade of the historic Elm tree\, outside of the 1898 Round Barn in Arcadia. You’ll be glad you did. \n\n\n\n\n\n\n\n•• JOE BAXTER Concert Details •• \n\n\n\n\nWHEN: Sunday\, June 29th @ 1 p.m.\n\n\n\nWHERE: The Arcadia Round Barn is located in Arcadia\, OK. 107 OK-66\, Arcadia\, OK  73007 •  Six miles east of Interstate 35 on Route 66.  \n\n\n\nADMISSION: FREE\, but donations for the upkeep of the Round Barn are appreciated\n\n\n\nEXTRAS: Bring a lawn chair in the back of the car\, or grab one of the picnic tables. The show always goes on—rain or shine; we just move upstairs into the loft. \n\n\n\n\n \n\n\n\nSponsored by The Arcadia Historical & Preservation Society
URL:https://arcadiaroundbarn.com/event/joe-baxter-barn-music-elm-tree-concerts/
LOCATION:Arcadia Round Barn\, 107 OK-66\, Arcadia\, OK\, 73034\, United States
CATEGORIES:Elm Tree Concerts,Live Concerts,Music
ATTACH;FMTTYPE=image/png:https://eadn-wc04-4235393.nxedge.io/wp-content/uploads/2025/06/Joe-Baxter.png
END:VEVENT
END:VCALENDAR