BEGIN:VCALENDAR
VERSION:2.0
PRODID:-//Arcadia Round Barn - ECPv6.15.20//NONSGML v1.0//EN
CALSCALE:GREGORIAN
METHOD:PUBLISH
X-ORIGINAL-URL:https://arcadiaroundbarn.com
X-WR-CALDESC:Events for Arcadia Round Barn
REFRESH-INTERVAL;VALUE=DURATION:PT1H
X-Robots-Tag:noindex
X-PUBLISHED-TTL:PT1H
BEGIN:VTIMEZONE
TZID:America/Chicago
BEGIN:DAYLIGHT
TZOFFSETFROM:-0600
TZOFFSETTO:-0500
TZNAME:CDT
DTSTART:20230312T080000
END:DAYLIGHT
BEGIN:STANDARD
TZOFFSETFROM:-0500
TZOFFSETTO:-0600
TZNAME:CST
DTSTART:20231105T070000
END:STANDARD
BEGIN:DAYLIGHT
TZOFFSETFROM:-0600
TZOFFSETTO:-0500
TZNAME:CDT
DTSTART:20240310T080000
END:DAYLIGHT
BEGIN:STANDARD
TZOFFSETFROM:-0500
TZOFFSETTO:-0600
TZNAME:CST
DTSTART:20241103T070000
END:STANDARD
BEGIN:DAYLIGHT
TZOFFSETFROM:-0600
TZOFFSETTO:-0500
TZNAME:CDT
DTSTART:20250309T080000
END:DAYLIGHT
BEGIN:STANDARD
TZOFFSETFROM:-0500
TZOFFSETTO:-0600
TZNAME:CST
DTSTART:20251102T070000
END:STANDARD
END:VTIMEZONE
BEGIN:VEVENT
DTSTART;TZID=America/Chicago:20241102T103000
DTEND;TZID=America/Chicago:20241102T123000
DTSTAMP:20260424T091728
CREATED:20240219T174557Z
LAST-MODIFIED:20240219T175327Z
UID:10000231-1730543400-1730550600@arcadiaroundbarn.com
SUMMARY:Saturday Morning Music Sessions
DESCRIPTION:Live Acoustic Music – In the Gift Shopwith the Round Barn RamblersSaturdays / 10:30 AM – 12:30 PM
URL:https://arcadiaroundbarn.com/event/saturday-morning-music-sessions/2024-11-02/
LOCATION:OK
CATEGORIES:Music,Saturday Morning Music Sessions
ATTACH;FMTTYPE=image/png:https://eadn-wc04-4235393.nxedge.io/wp-content/uploads/2022/03/THE-ROUND-BARN-RAMBLERS-sign.png
END:VEVENT
BEGIN:VEVENT
DTSTART;TZID=America/Chicago:20241109T103000
DTEND;TZID=America/Chicago:20241109T123000
DTSTAMP:20260424T091728
CREATED:20240219T174557Z
LAST-MODIFIED:20240219T175327Z
UID:10000232-1731148200-1731155400@arcadiaroundbarn.com
SUMMARY:Saturday Morning Music Sessions
DESCRIPTION:Live Acoustic Music – In the Gift Shopwith the Round Barn RamblersSaturdays / 10:30 AM – 12:30 PM
URL:https://arcadiaroundbarn.com/event/saturday-morning-music-sessions/2024-11-09/
LOCATION:OK
CATEGORIES:Music,Saturday Morning Music Sessions
ATTACH;FMTTYPE=image/png:https://eadn-wc04-4235393.nxedge.io/wp-content/uploads/2022/03/THE-ROUND-BARN-RAMBLERS-sign.png
END:VEVENT
BEGIN:VEVENT
DTSTART;TZID=America/Chicago:20241110T120000
DTEND;TZID=America/Chicago:20241110T160000
DTSTAMP:20260424T091728
CREATED:20240201T184442Z
LAST-MODIFIED:20240216T200941Z
UID:10000125-1731240000-1731254400@arcadiaroundbarn.com
SUMMARY:Round Barn Rendezvous
DESCRIPTION:Free
URL:https://arcadiaroundbarn.com/event/round-barn-rendezvous-5/2024-11-10/
LOCATION:Arcadia Round Barn\, 107 OK-66\, Arcadia\, OK\, 73034\, United States
CATEGORIES:Music,Round Barn Rendezvous
ATTACH;FMTTYPE=image/jpeg:https://eadn-wc04-4235393.nxedge.io/wp-content/uploads/2025/04/Round-Barn-Rendezvous-LOGO_simplified_May-4_SM.jpg
END:VEVENT
BEGIN:VEVENT
DTSTART;TZID=America/Chicago:20241116T103000
DTEND;TZID=America/Chicago:20241116T123000
DTSTAMP:20260424T091728
CREATED:20240219T174557Z
LAST-MODIFIED:20240219T175327Z
UID:10000233-1731753000-1731760200@arcadiaroundbarn.com
SUMMARY:Saturday Morning Music Sessions
DESCRIPTION:Live Acoustic Music – In the Gift Shopwith the Round Barn RamblersSaturdays / 10:30 AM – 12:30 PM
URL:https://arcadiaroundbarn.com/event/saturday-morning-music-sessions/2024-11-16/
LOCATION:OK
CATEGORIES:Music,Saturday Morning Music Sessions
ATTACH;FMTTYPE=image/png:https://eadn-wc04-4235393.nxedge.io/wp-content/uploads/2022/03/THE-ROUND-BARN-RAMBLERS-sign.png
END:VEVENT
BEGIN:VEVENT
DTSTART;TZID=America/Chicago:20241123T103000
DTEND;TZID=America/Chicago:20241123T123000
DTSTAMP:20260424T091728
CREATED:20240219T174557Z
LAST-MODIFIED:20240219T175327Z
UID:10000234-1732357800-1732365000@arcadiaroundbarn.com
SUMMARY:Saturday Morning Music Sessions
DESCRIPTION:Live Acoustic Music – In the Gift Shopwith the Round Barn RamblersSaturdays / 10:30 AM – 12:30 PM
URL:https://arcadiaroundbarn.com/event/saturday-morning-music-sessions/2024-11-23/
LOCATION:OK
CATEGORIES:Music,Saturday Morning Music Sessions
ATTACH;FMTTYPE=image/png:https://eadn-wc04-4235393.nxedge.io/wp-content/uploads/2022/03/THE-ROUND-BARN-RAMBLERS-sign.png
END:VEVENT
BEGIN:VEVENT
DTSTART;TZID=America/Chicago:20241130T103000
DTEND;TZID=America/Chicago:20241130T123000
DTSTAMP:20260424T091728
CREATED:20240219T174557Z
LAST-MODIFIED:20240219T175327Z
UID:10000235-1732962600-1732969800@arcadiaroundbarn.com
SUMMARY:Saturday Morning Music Sessions
DESCRIPTION:Live Acoustic Music – In the Gift Shopwith the Round Barn RamblersSaturdays / 10:30 AM – 12:30 PM
URL:https://arcadiaroundbarn.com/event/saturday-morning-music-sessions/2024-11-30/
LOCATION:OK
CATEGORIES:Music,Saturday Morning Music Sessions
ATTACH;FMTTYPE=image/png:https://eadn-wc04-4235393.nxedge.io/wp-content/uploads/2022/03/THE-ROUND-BARN-RAMBLERS-sign.png
END:VEVENT
END:VCALENDAR