BEGIN:VCALENDAR
VERSION:2.0
PRODID:-//Arcadia Round Barn - ECPv6.15.20//NONSGML v1.0//EN
CALSCALE:GREGORIAN
METHOD:PUBLISH
X-WR-CALNAME:Arcadia Round Barn
X-ORIGINAL-URL:https://arcadiaroundbarn.com
X-WR-CALDESC:Events for Arcadia Round Barn
REFRESH-INTERVAL;VALUE=DURATION:PT1H
X-Robots-Tag:noindex
X-PUBLISHED-TTL:PT1H
BEGIN:VTIMEZONE
TZID:America/Chicago
BEGIN:DAYLIGHT
TZOFFSETFROM:-0600
TZOFFSETTO:-0500
TZNAME:CDT
DTSTART:20210314T080000
END:DAYLIGHT
BEGIN:STANDARD
TZOFFSETFROM:-0500
TZOFFSETTO:-0600
TZNAME:CST
DTSTART:20211107T070000
END:STANDARD
BEGIN:DAYLIGHT
TZOFFSETFROM:-0600
TZOFFSETTO:-0500
TZNAME:CDT
DTSTART:20220313T080000
END:DAYLIGHT
BEGIN:STANDARD
TZOFFSETFROM:-0500
TZOFFSETTO:-0600
TZNAME:CST
DTSTART:20221106T070000
END:STANDARD
BEGIN:DAYLIGHT
TZOFFSETFROM:-0600
TZOFFSETTO:-0500
TZNAME:CDT
DTSTART:20230312T080000
END:DAYLIGHT
BEGIN:STANDARD
TZOFFSETFROM:-0500
TZOFFSETTO:-0600
TZNAME:CST
DTSTART:20231105T070000
END:STANDARD
BEGIN:DAYLIGHT
TZOFFSETFROM:-0600
TZOFFSETTO:-0500
TZNAME:CDT
DTSTART:20240310T080000
END:DAYLIGHT
BEGIN:STANDARD
TZOFFSETFROM:-0500
TZOFFSETTO:-0600
TZNAME:CST
DTSTART:20241103T070000
END:STANDARD
END:VTIMEZONE
BEGIN:VEVENT
DTSTART;TZID=America/Chicago:20230910T120000
DTEND;TZID=America/Chicago:20230910T180000
DTSTAMP:20260425T200407
CREATED:20230424T193334Z
LAST-MODIFIED:20240216T200941Z
UID:10000112-1694347200-1694368800@arcadiaroundbarn.com
SUMMARY:UKEFEST!
DESCRIPTION:See all of your favorite ukulele performers at the 5th Annual Round Barn Ukulele Festival! \n\n\n\n\n\n\n\nElm Tree Concerts are held on Sundays beneath the shade of the giant elm tree on the north side of the barn. \n\n\n\nThe concert is sponsored by the Arcadia Preservation and Historical Society.
URL:https://arcadiaroundbarn.com/event/ukefest/
LOCATION:Arcadia Round Barn\, 107 OK-66\, Arcadia\, OK\, 73034\, United States
CATEGORIES:Elm Tree Concerts,Live Concerts,Music
ATTACH;FMTTYPE=image/jpeg:https://eadn-wc04-4235393.nxedge.io/wp-content/uploads/2023/04/Ukulele-Festival-Sept-10-2023.jpg
END:VEVENT
BEGIN:VEVENT
DTSTART;TZID=America/Chicago:20230903T130000
DTEND;TZID=America/Chicago:20230903T150000
DTSTAMP:20260425T200407
CREATED:20230424T193334Z
LAST-MODIFIED:20240216T200941Z
UID:10000111-1693746000-1693753200@arcadiaroundbarn.com
SUMMARY:Susan Herndon & Felix Linden with Jahruba — Elm Tree Concert
DESCRIPTION:Elm Tree Concerts are held Sundays a month beneath the shade of the giant elm tree on the north side of the barn. \n\n\n\nThe concert is sponsored by the Arcadia Preservation and Historical Society.
URL:https://arcadiaroundbarn.com/event/fred-hill-saturday-show-elm-tree-concert/
LOCATION:Arcadia Round Barn\, 107 OK-66\, Arcadia\, OK\, 73034\, United States
CATEGORIES:Elm Tree Concerts,Live Concerts,Music
END:VEVENT
BEGIN:VEVENT
DTSTART;TZID=America/Chicago:20230827T130000
DTEND;TZID=America/Chicago:20230827T150000
DTSTAMP:20260425T200407
CREATED:20230424T193334Z
LAST-MODIFIED:20240216T200941Z
UID:10000110-1693141200-1693148400@arcadiaroundbarn.com
SUMMARY:Miss Brown To You — Elm Tree Concert
DESCRIPTION:Elm Tree Concerts are held Sundays a month beneath the shade of the giant elm tree on the north side of the barn. \n\n\n\nThe concert is sponsored by the Arcadia Preservation and Historical Society.
URL:https://arcadiaroundbarn.com/event/miss-brown-to-you-elm-tree-concert/
LOCATION:Arcadia Round Barn\, 107 OK-66\, Arcadia\, OK\, 73034\, United States
CATEGORIES:Elm Tree Concerts,Live Concerts,Music
END:VEVENT
BEGIN:VEVENT
DTSTART;TZID=America/Chicago:20230820T130000
DTEND;TZID=America/Chicago:20230820T150000
DTSTAMP:20260425T200407
CREATED:20230424T193334Z
LAST-MODIFIED:20240216T200941Z
UID:10000109-1692536400-1692543600@arcadiaroundbarn.com
SUMMARY:The Round Barn Ramblers — Elm Tree Concert
DESCRIPTION:Elm Tree Concerts are held Sundays a month beneath the shade of the giant elm tree on the north side of the barn. \n\n\n\nThe concert is sponsored by the Arcadia Preservation and Historical Society.
URL:https://arcadiaroundbarn.com/event/the-round-barn-ramblers-elm-tree-concert/
LOCATION:Arcadia Round Barn\, 107 OK-66\, Arcadia\, OK\, 73034\, United States
CATEGORIES:Elm Tree Concerts,Live Concerts,Music
ATTACH;FMTTYPE=image/png:https://eadn-wc04-4235393.nxedge.io/wp-content/uploads/2022/03/THE-ROUND-BARN-RAMBLERS-sign.png
END:VEVENT
BEGIN:VEVENT
DTSTART;TZID=America/Chicago:20230806T130000
DTEND;TZID=America/Chicago:20230806T150000
DTSTAMP:20260425T200407
CREATED:20230424T193334Z
LAST-MODIFIED:20240216T200941Z
UID:10000108-1691326800-1691334000@arcadiaroundbarn.com
SUMMARY:Rachel Lynch & Griffin Wade — Elm Tree Concert
DESCRIPTION:Elm Tree Concerts are held Sundays a month beneath the shade of the giant elm tree on the north side of the barn. \n\n\n\nThe concert is sponsored by the Arcadia Preservation and Historical Society.
URL:https://arcadiaroundbarn.com/event/rachel-lynch-griffin-wade-elm-tree-concert/
LOCATION:Arcadia Round Barn\, 107 OK-66\, Arcadia\, OK\, 73034\, United States
CATEGORIES:Elm Tree Concerts,Live Concerts,Music
END:VEVENT
BEGIN:VEVENT
DTSTART;TZID=America/Chicago:20230730T130000
DTEND;TZID=America/Chicago:20230730T150000
DTSTAMP:20260425T200407
CREATED:20230424T193334Z
LAST-MODIFIED:20240216T200941Z
UID:10000107-1690722000-1690729200@arcadiaroundbarn.com
SUMMARY:Daniel Burgess & Carter Combs — Elm Tree Concert
DESCRIPTION:Elm Tree Concerts are held Sundays a month beneath the shade of the giant elm tree on the north side of the barn. \n\n\n\nThe concert is sponsored by the Arcadia Preservation and Historical Society.
URL:https://arcadiaroundbarn.com/event/daniel-burgess-carter-combs-elm-tree-concert/
LOCATION:Arcadia Round Barn\, 107 OK-66\, Arcadia\, OK\, 73034\, United States
CATEGORIES:Elm Tree Concerts,Live Concerts,Music
END:VEVENT
BEGIN:VEVENT
DTSTART;TZID=America/Chicago:20230723T130000
DTEND;TZID=America/Chicago:20230723T150000
DTSTAMP:20260425T200407
CREATED:20230424T193334Z
LAST-MODIFIED:20240216T200941Z
UID:10000106-1690117200-1690124400@arcadiaroundbarn.com
SUMMARY:The McKedys — Elm Tree Concert
DESCRIPTION:Elm Tree Concerts are held Sundays a month beneath the shade of the giant elm tree on the north side of the barn. \n\n\n\nThe concert is sponsored by the Arcadia Preservation and Historical Society.
URL:https://arcadiaroundbarn.com/event/the-mckedys-elm-tree-concert/
LOCATION:Arcadia Round Barn\, 107 OK-66\, Arcadia\, OK\, 73034\, United States
CATEGORIES:Elm Tree Concerts,Live Concerts,Music
END:VEVENT
BEGIN:VEVENT
DTSTART;TZID=America/Chicago:20230716T130000
DTEND;TZID=America/Chicago:20230716T150000
DTSTAMP:20260425T200407
CREATED:20230424T193334Z
LAST-MODIFIED:20240216T200941Z
UID:10000105-1689512400-1689519600@arcadiaroundbarn.com
SUMMARY:'Ruba & The Flea — Elm Tree Concert
DESCRIPTION:Elm Tree Concerts are held Sundays a month beneath the shade of the giant elm tree on the north side of the barn. \n\n\n\nThe concert is sponsored by the Arcadia Preservation and Historical Society.
URL:https://arcadiaroundbarn.com/event/ruba-the-flea-elm-tree-concert/
LOCATION:Arcadia Round Barn\, 107 OK-66\, Arcadia\, OK\, 73034\, United States
CATEGORIES:Elm Tree Concerts,Live Concerts,Music
END:VEVENT
BEGIN:VEVENT
DTSTART;TZID=America/Chicago:20230702T130000
DTEND;TZID=America/Chicago:20230702T150000
DTSTAMP:20260425T200407
CREATED:20230424T193334Z
LAST-MODIFIED:20240216T200941Z
UID:10000104-1688302800-1688310000@arcadiaroundbarn.com
SUMMARY:Middle Sister — Elm Tree Concert
DESCRIPTION:Elm Tree Concerts are held Sundays a month beneath the shade of the giant elm tree on the north side of the barn. \n\n\n\nThe concert is sponsored by the Arcadia Preservation and Historical Society.
URL:https://arcadiaroundbarn.com/event/middle-sister-elm-tree-concert-2023/
LOCATION:Arcadia Round Barn\, 107 OK-66\, Arcadia\, OK\, 73034\, United States
CATEGORIES:Elm Tree Concerts,Live Concerts,Music
END:VEVENT
BEGIN:VEVENT
DTSTART;TZID=America/Chicago:20230625T130000
DTEND;TZID=America/Chicago:20230625T150000
DTSTAMP:20260425T200407
CREATED:20230424T193334Z
LAST-MODIFIED:20240216T200941Z
UID:10000103-1687698000-1687705200@arcadiaroundbarn.com
SUMMARY:Joe Baxter & The New Lost Cause — Elm Tree Concert
DESCRIPTION:Elm Tree Concerts are held Sundays a month beneath the shade of the giant elm tree on the north side of the barn. \n\n\n\nThe concert is sponsored by the Arcadia Preservation and Historical Society.
URL:https://arcadiaroundbarn.com/event/joe-baxter-the-new-lost-cause-elm-tree-concert/
LOCATION:Arcadia Round Barn\, 107 OK-66\, Arcadia\, OK\, 73034\, United States
CATEGORIES:Elm Tree Concerts,Live Concerts,Music
END:VEVENT
BEGIN:VEVENT
DTSTART;TZID=America/Chicago:20230618T130000
DTEND;TZID=America/Chicago:20230618T150000
DTSTAMP:20260425T200407
CREATED:20230424T193334Z
LAST-MODIFIED:20240216T200941Z
UID:10000102-1687093200-1687100400@arcadiaroundbarn.com
SUMMARY:Chuck Dunlap — Elm Tree Concert
DESCRIPTION:Elm Tree Concerts are held Sundays a month beneath the shade of the giant elm tree on the north side of the barn. \n\n\n\nThe concert is sponsored by the Arcadia Preservation and Historical Society.
URL:https://arcadiaroundbarn.com/event/chuck-dunlap-elm-tree-concert/
LOCATION:Arcadia Round Barn\, 107 OK-66\, Arcadia\, OK\, 73034\, United States
CATEGORIES:Elm Tree Concerts,Live Concerts,Music
END:VEVENT
BEGIN:VEVENT
DTSTART;TZID=America/Chicago:20230604T130000
DTEND;TZID=America/Chicago:20230604T150000
DTSTAMP:20260425T200407
CREATED:20230424T193334Z
LAST-MODIFIED:20240216T200941Z
UID:10000101-1685883600-1685890800@arcadiaroundbarn.com
SUMMARY:Gypsy Twang — Elm Tree Concert
DESCRIPTION:Elm Tree Concerts are held Sundays a month beneath the shade of the giant elm tree on the north side of the barn. \n\n\n\nThe concert is sponsored by the Arcadia Preservation and Historical Society.
URL:https://arcadiaroundbarn.com/event/gypsy-twang-elm-tree-concert/
LOCATION:Arcadia Round Barn\, 107 OK-66\, Arcadia\, OK\, 73034\, United States
CATEGORIES:Elm Tree Concerts,Live Concerts,Music
END:VEVENT
BEGIN:VEVENT
DTSTART;TZID=America/Chicago:20230528T130000
DTEND;TZID=America/Chicago:20230528T150000
DTSTAMP:20260425T200407
CREATED:20230424T193334Z
LAST-MODIFIED:20240216T200941Z
UID:10000100-1685278800-1685286000@arcadiaroundbarn.com
SUMMARY:Buffalo Rogers — Elm Tree Concert
DESCRIPTION:Elm Tree Concerts are held Sundays a month beneath the shade of the giant elm tree on the north side of the barn. \n\n\n\nThe concert is sponsored by the Arcadia Preservation and Historical Society.
URL:https://arcadiaroundbarn.com/event/buffalo-rogers-elm-tree-concert/
LOCATION:Arcadia Round Barn\, 107 OK-66\, Arcadia\, OK\, 73034\, United States
CATEGORIES:Elm Tree Concerts,Live Concerts,Music
END:VEVENT
BEGIN:VEVENT
DTSTART;TZID=America/Chicago:20230527T130000
DTEND;TZID=America/Chicago:20230527T150000
DTSTAMP:20260425T200407
CREATED:20230424T193334Z
LAST-MODIFIED:20240216T200941Z
UID:10000099-1685192400-1685199600@arcadiaroundbarn.com
SUMMARY:The Lightfoot Family Band (Saturday Show) — Elm Tree Concert
DESCRIPTION:Elm Tree Concerts are held Sundays a month beneath the shade of the giant elm tree on the north side of the barn. \n\n\n\nThe concert is sponsored by the Arcadia Preservation and Historical Society.
URL:https://arcadiaroundbarn.com/event/the-lightfoot-family-band-saturday-show-elm-tree-concert/
LOCATION:Arcadia Round Barn\, 107 OK-66\, Arcadia\, OK\, 73034\, United States
CATEGORIES:Elm Tree Concerts,Live Concerts,Music
END:VEVENT
BEGIN:VEVENT
DTSTART;TZID=America/Chicago:20230521T130000
DTEND;TZID=America/Chicago:20230521T150000
DTSTAMP:20260425T200407
CREATED:20230424T193334Z
LAST-MODIFIED:20240216T200941Z
UID:10000098-1684674000-1684681200@arcadiaroundbarn.com
SUMMARY:And Then There Were Two — Elm Tree Concert
DESCRIPTION:Elm Tree Concerts are held Sundays a month beneath the shade of the giant elm tree on the north side of the barn. \n\n\n\nThe concert is sponsored by the Arcadia Preservation and Historical Society.
URL:https://arcadiaroundbarn.com/event/and-then-there-were-two-elm-tree-concert-2023/
LOCATION:Arcadia Round Barn\, 107 OK-66\, Arcadia\, OK\, 73034\, United States
CATEGORIES:Elm Tree Concerts,Live Concerts,Music
END:VEVENT
BEGIN:VEVENT
DTSTART;TZID=America/Chicago:20230427T060000
DTEND;TZID=America/Chicago:20230427T090000
DTSTAMP:20260425T200407
CREATED:20230426T180640Z
LAST-MODIFIED:20240216T200941Z
UID:10000115-1682575200-1682586000@arcadiaroundbarn.com
SUMMARY:Great American Road Trip with WJOL's Scott Slocum
DESCRIPTION:
URL:https://arcadiaroundbarn.com/event/great-american-road-trip-with-wjols-scott-slocum/
LOCATION:Arcadia Round Barn\, 107 OK-66\, Arcadia\, OK\, 73034\, United States
CATEGORIES:Music
ATTACH;FMTTYPE=image/png:https://eadn-wc04-4235393.nxedge.io/wp-content/uploads/2023/04/Round-Barn-WJOL.png
END:VEVENT
BEGIN:VEVENT
DTSTART;TZID=America/Chicago:20230319T140000
DTEND;TZID=America/Chicago:20230319T160000
DTSTAMP:20260425T200407
CREATED:20230227T182344Z
LAST-MODIFIED:20240216T200941Z
UID:10000068-1679234400-1679241600@arcadiaroundbarn.com
SUMMARY:Spring Elm Tree Kickoff Concert — Edgar Cruz and Antsy McClain
DESCRIPTION:Spring Elm Tree Kickoff Concert with very special guest performers Edgar Cruz and Antsy McClain \n\n\n\nAt The Round Barn on Route #66 in Arcadia\, 107 E. Hwy. #66\, Arcadia\, Oklahoma
URL:https://arcadiaroundbarn.com/event/spring-elm-tree-kickoff-concert-edgar-cruz-and-antsy-mcclain/
LOCATION:Arcadia Round Barn\, 107 OK-66\, Arcadia\, OK\, 73034\, United States
ATTACH;FMTTYPE=image/jpeg:https://eadn-wc04-4235393.nxedge.io/wp-content/uploads/2023/02/March-ETC-Flyer.jpg
END:VEVENT
BEGIN:VEVENT
DTSTART;TZID=America/Chicago:20230312T120000
DTEND;TZID=America/Chicago:20230312T160000
DTSTAMP:20260425T200407
CREATED:20230227T223602Z
LAST-MODIFIED:20240216T200942Z
UID:10000097-1678622400-1678636800@arcadiaroundbarn.com
SUMMARY:Round Barn Rendezvous
DESCRIPTION:Jam Session \n\n\n\nSponsored by the Arcadia Historical & Preservation Society. All shows are outdoors\, weather permitting. Donations are appreciated. Shows are FREE to the public.
URL:https://arcadiaroundbarn.com/event/round-barn-rendezvous-4/
LOCATION:Arcadia Round Barn\, 107 OK-66\, Arcadia\, OK\, 73034\, United States
CATEGORIES:Music
ATTACH;FMTTYPE=image/png:https://eadn-wc04-4235393.nxedge.io/wp-content/uploads/2022/03/THE-ROUND-BARN-RAMBLERS-sign.png
END:VEVENT
BEGIN:VEVENT
DTSTART;TZID=America/Chicago:20220925T010000
DTEND;TZID=America/Chicago:20220925T150000
DTSTAMP:20260425T200407
CREATED:20220301T223058Z
LAST-MODIFIED:20240216T200942Z
UID:10000089-1664067600-1664118000@arcadiaroundbarn.com
SUMMARY:The Elm Tree Concerts featuring Terry Ware and The Shambles / The Sunday Fliers
DESCRIPTION:Live Acoustic Shows / In The Shade \n\n\n\nSundays / 1:00PM to 3:00PM(EXCEPT 2nd SUNDAYS)May 1st through September 25thw/Special Holiday Saturday Shows \n\n\n\nSponsored By The Arcadia Historical & Preservation Society
URL:https://arcadiaroundbarn.com/event/the-elm-tree-concerts-2022-05-15-2022-09-25/
LOCATION:Arcadia Round Barn\, 107 OK-66\, Arcadia\, OK\, 73034\, United States
CATEGORIES:Elm Tree Concerts,Music
END:VEVENT
BEGIN:VEVENT
DTSTART;TZID=America/Chicago:20220918T010000
DTEND;TZID=America/Chicago:20220918T150000
DTSTAMP:20260425T200407
CREATED:20220301T223058Z
LAST-MODIFIED:20240216T200942Z
UID:10000088-1663462800-1663513200@arcadiaroundbarn.com
SUMMARY:The Elm Tree Concerts featuring Melissa Hembree and The Union
DESCRIPTION:Live Acoustic Shows / In The Shade \n\n\n\nSundays / 1:00PM to 3:00PM(EXCEPT 2nd SUNDAYS)May 1st through September 25thw/Special Holiday Saturday Shows \n\n\n\nSponsored By The Arcadia Historical & Preservation Society
URL:https://arcadiaroundbarn.com/event/the-elm-tree-concerts-2022-05-15-2022-09-18/
LOCATION:Arcadia Round Barn\, 107 OK-66\, Arcadia\, OK\, 73034\, United States
CATEGORIES:Elm Tree Concerts,Music
END:VEVENT
BEGIN:VEVENT
DTSTART;TZID=America/Chicago:20220911T120000
DTEND;TZID=America/Chicago:20220911T163000
DTSTAMP:20260425T200407
CREATED:20220301T221514Z
LAST-MODIFIED:20240216T200942Z
UID:10000016-1662897600-1662913800@arcadiaroundbarn.com
SUMMARY:5th Annual Round Barn UkeFest
DESCRIPTION:Ukulele Music All Afternoon! \n\n\n\nFree to the publicDonations appreciatedBring a chair or a blanket – BYOBWater available and restrooms open\n\n\n\nSponsored By The Arcadia Historical & Preservation Society
URL:https://arcadiaroundbarn.com/event/round-barn-rendezvoused-2022-09-11/
LOCATION:Arcadia Round Barn\, 107 OK-66\, Arcadia\, OK\, 73034\, United States
CATEGORIES:Music,Round Barn Rendezvous
ATTACH;FMTTYPE=image/jpeg:https://eadn-wc04-4235393.nxedge.io/wp-content/uploads/2022/03/UKEFEST-2022.jpg
END:VEVENT
BEGIN:VEVENT
DTSTART;TZID=America/Chicago:20220904T010000
DTEND;TZID=America/Chicago:20220904T150000
DTSTAMP:20260425T200407
CREATED:20220301T223058Z
LAST-MODIFIED:20240216T200942Z
UID:10000087-1662253200-1662303600@arcadiaroundbarn.com
SUMMARY:The Elm Tree Concerts featuring Greg Jacobs / Bob Wiles / Joe Baxter
DESCRIPTION:Live Acoustic Shows / In The Shade \n\n\n\nSundays / 1:00PM to 3:00PM(EXCEPT 2nd SUNDAYS)May 1st through September 25thw/Special Holiday Saturday Shows \n\n\n\nSponsored By The Arcadia Historical & Preservation Society
URL:https://arcadiaroundbarn.com/event/the-elm-tree-concerts-2022-05-15-2022-09-04/
LOCATION:Arcadia Round Barn\, 107 OK-66\, Arcadia\, OK\, 73034\, United States
CATEGORIES:Elm Tree Concerts,Music
END:VEVENT
BEGIN:VEVENT
DTSTART;TZID=America/Chicago:20220903T010000
DTEND;TZID=America/Chicago:20220903T150000
DTSTAMP:20260425T200407
CREATED:20220610T223912Z
LAST-MODIFIED:20240216T200942Z
UID:10000094-1662166800-1662217200@arcadiaroundbarn.com
SUMMARY:The Elm Tree Concerts featuring Hi-Fi Hillbillies
DESCRIPTION:Live Acoustic Shows / In The Shade \n\n\n\nSundays / 1:00PM to 3:00PM(EXCEPT 2nd SUNDAYS)May 1st through September 25thw/Special Holiday Saturday Shows \n\n\n\nSponsored By The Arcadia Historical & Preservation Society
URL:https://arcadiaroundbarn.com/event/the-elm-tree-concerts-featuring-hi-fi-hillbillies/
LOCATION:Arcadia Round Barn\, 107 OK-66\, Arcadia\, OK\, 73034\, United States
CATEGORIES:Elm Tree Concerts,Music
END:VEVENT
BEGIN:VEVENT
DTSTART;TZID=America/Chicago:20220828T010000
DTEND;TZID=America/Chicago:20220828T150000
DTSTAMP:20260425T200407
CREATED:20220301T223058Z
LAST-MODIFIED:20240216T200942Z
UID:10000086-1661648400-1661698800@arcadiaroundbarn.com
SUMMARY:The Elm Tree Concerts featuring Miss Brown To You
DESCRIPTION:Live Acoustic Shows / In The Shade \n\n\n\nSundays / 1:00PM to 3:00PM(EXCEPT 2nd SUNDAYS)May 1st through September 25thw/Special Holiday Saturday Shows \n\n\n\nSponsored By The Arcadia Historical & Preservation Society
URL:https://arcadiaroundbarn.com/event/the-elm-tree-concerts-2022-05-15-2022-08-28/
LOCATION:Arcadia Round Barn\, 107 OK-66\, Arcadia\, OK\, 73034\, United States
CATEGORIES:Elm Tree Concerts,Music
END:VEVENT
BEGIN:VEVENT
DTSTART;TZID=America/Chicago:20220821T010000
DTEND;TZID=America/Chicago:20220821T150000
DTSTAMP:20260425T200407
CREATED:20220301T223058Z
LAST-MODIFIED:20240216T200942Z
UID:10000085-1661043600-1661094000@arcadiaroundbarn.com
SUMMARY:The Elm Tree Concerts featuring Scott Taylor
DESCRIPTION:Live Acoustic Shows / In The Shade \n\n\n\nSundays / 1:00PM to 3:00PM(EXCEPT 2nd SUNDAYS)May 1st through September 25thw/Special Holiday Saturday Shows \n\n\n\nSponsored By The Arcadia Historical & Preservation Society
URL:https://arcadiaroundbarn.com/event/the-elm-tree-concerts-2022-05-15-2022-08-21/
LOCATION:Arcadia Round Barn\, 107 OK-66\, Arcadia\, OK\, 73034\, United States
CATEGORIES:Elm Tree Concerts,Music
END:VEVENT
BEGIN:VEVENT
DTSTART;TZID=America/Chicago:20220814T120000
DTEND;TZID=America/Chicago:20220814T160000
DTSTAMP:20260425T200407
CREATED:20220301T221514Z
LAST-MODIFIED:20240216T200942Z
UID:10000015-1660478400-1660492800@arcadiaroundbarn.com
SUMMARY:CANCELLED: Round Barn Rendezvous
DESCRIPTION:Open Acoustic Jam \n\n\n\nSponsored By The Arcadia Historical & Preservation Society
URL:https://arcadiaroundbarn.com/event/round-barn-rendezvoused-2022-08-14/
LOCATION:Arcadia Round Barn\, 107 OK-66\, Arcadia\, OK\, 73034\, United States
CATEGORIES:Music,Round Barn Rendezvous
END:VEVENT
BEGIN:VEVENT
DTSTART;TZID=America/Chicago:20220807T010000
DTEND;TZID=America/Chicago:20220807T150000
DTSTAMP:20260425T200407
CREATED:20220301T223058Z
LAST-MODIFIED:20240216T200942Z
UID:10000084-1659834000-1659884400@arcadiaroundbarn.com
SUMMARY:CANCELLED: The Elm Tree Concerts featuring Cowboy Jones
DESCRIPTION:Live Acoustic Shows / In The Shade \n\n\n\nSundays / 1:00PM to 3:00PM(EXCEPT 2nd SUNDAYS)May 1st through September 25thw/Special Holiday Saturday Shows \n\n\n\nSponsored By The Arcadia Historical & Preservation Society
URL:https://arcadiaroundbarn.com/event/the-elm-tree-concerts-2022-05-15-2022-08-07/
LOCATION:Arcadia Round Barn\, 107 OK-66\, Arcadia\, OK\, 73034\, United States
CATEGORIES:Elm Tree Concerts,Music
END:VEVENT
BEGIN:VEVENT
DTSTART;TZID=America/Chicago:20220731T010000
DTEND;TZID=America/Chicago:20220731T150000
DTSTAMP:20260425T200407
CREATED:20220301T223058Z
LAST-MODIFIED:20240216T200942Z
UID:10000083-1659229200-1659279600@arcadiaroundbarn.com
SUMMARY:The Elm Tree Concerts featuring T.Z. Wright
DESCRIPTION:Live Acoustic Shows / In The Shade \n\n\n\nSundays / 1:00PM to 3:00PM(EXCEPT 2nd SUNDAYS)May 1st through September 25thw/Special Holiday Saturday Shows \n\n\n\nSponsored By The Arcadia Historical & Preservation Society
URL:https://arcadiaroundbarn.com/event/the-elm-tree-concerts-2022-05-15-2022-07-31/
LOCATION:Arcadia Round Barn\, 107 OK-66\, Arcadia\, OK\, 73034\, United States
CATEGORIES:Elm Tree Concerts,Music
END:VEVENT
BEGIN:VEVENT
DTSTART;TZID=America/Chicago:20220724T010000
DTEND;TZID=America/Chicago:20220724T150000
DTSTAMP:20260425T200407
CREATED:20220301T223058Z
LAST-MODIFIED:20240216T200942Z
UID:10000082-1658624400-1658674800@arcadiaroundbarn.com
SUMMARY:The Elm Tree Concerts featuring Edgar Cruz and Michael Kelsey
DESCRIPTION:Live Acoustic Shows / In The Shade \n\n\n\nSundays / 1:00PM to 3:00PM(EXCEPT 2nd SUNDAYS)May 1st through September 25thw/Special Holiday Saturday Shows \n\n\n\nSponsored By The Arcadia Historical & Preservation Society
URL:https://arcadiaroundbarn.com/event/the-elm-tree-concerts-2022-05-15-2022-07-24/
LOCATION:Arcadia Round Barn\, 107 OK-66\, Arcadia\, OK\, 73034\, United States
CATEGORIES:Elm Tree Concerts,Music
END:VEVENT
BEGIN:VEVENT
DTSTART;TZID=America/Chicago:20220723T100000
DTEND;TZID=America/Chicago:20220724T220000
DTSTAMP:20260425T200407
CREATED:20220719T152632Z
LAST-MODIFIED:20240216T200942Z
UID:10000096-1658570400-1658700000@arcadiaroundbarn.com
SUMMARY:A Celebration of Animals on the Mother Road
DESCRIPTION:You’re invited to the tenth anniversary celebration of Safe & Humane\, a program of Kirkpatrick Foundation to protect Oklahoma animals of all kinds—from farm animals and wildlife to homeless pets in shelters. Please join us for a lineup of free and fun events the whole family can enjoy! \n\n\n\n\n\n\n\n\nDownload Poster PDF
URL:https://arcadiaroundbarn.com/event/a-celebration-of-animals-on-the-mother-road/
LOCATION:Arcadia Round Barn\, 107 OK-66\, Arcadia\, OK\, 73034\, United States
ATTACH;FMTTYPE=image/jpeg:https://eadn-wc04-4235393.nxedge.io/wp-content/uploads/2022/07/KF-10X20-Babe-KF-Route-66-Poster-scaled.jpg
END:VEVENT
END:VCALENDAR