BEGIN:VCALENDAR
VERSION:2.0
PRODID:-//Arcadia Round Barn - ECPv6.15.20//NONSGML v1.0//EN
CALSCALE:GREGORIAN
METHOD:PUBLISH
X-ORIGINAL-URL:https://arcadiaroundbarn.com
X-WR-CALDESC:Events for Arcadia Round Barn
REFRESH-INTERVAL;VALUE=DURATION:PT1H
X-Robots-Tag:noindex
X-PUBLISHED-TTL:PT1H
BEGIN:VTIMEZONE
TZID:America/Chicago
BEGIN:DAYLIGHT
TZOFFSETFROM:-0600
TZOFFSETTO:-0500
TZNAME:CDT
DTSTART:20190310T080000
END:DAYLIGHT
BEGIN:STANDARD
TZOFFSETFROM:-0500
TZOFFSETTO:-0600
TZNAME:CST
DTSTART:20191103T070000
END:STANDARD
BEGIN:DAYLIGHT
TZOFFSETFROM:-0600
TZOFFSETTO:-0500
TZNAME:CDT
DTSTART:20200308T080000
END:DAYLIGHT
BEGIN:STANDARD
TZOFFSETFROM:-0500
TZOFFSETTO:-0600
TZNAME:CST
DTSTART:20201101T070000
END:STANDARD
BEGIN:DAYLIGHT
TZOFFSETFROM:-0600
TZOFFSETTO:-0500
TZNAME:CDT
DTSTART:20210314T080000
END:DAYLIGHT
BEGIN:STANDARD
TZOFFSETFROM:-0500
TZOFFSETTO:-0600
TZNAME:CST
DTSTART:20211107T070000
END:STANDARD
BEGIN:DAYLIGHT
TZOFFSETFROM:-0600
TZOFFSETTO:-0500
TZNAME:CDT
DTSTART:20220313T080000
END:DAYLIGHT
BEGIN:STANDARD
TZOFFSETFROM:-0500
TZOFFSETTO:-0600
TZNAME:CST
DTSTART:20221106T070000
END:STANDARD
BEGIN:DAYLIGHT
TZOFFSETFROM:-0600
TZOFFSETTO:-0500
TZNAME:CDT
DTSTART:20230312T080000
END:DAYLIGHT
BEGIN:STANDARD
TZOFFSETFROM:-0500
TZOFFSETTO:-0600
TZNAME:CST
DTSTART:20231105T070000
END:STANDARD
BEGIN:DAYLIGHT
TZOFFSETFROM:-0600
TZOFFSETTO:-0500
TZNAME:CDT
DTSTART:20240310T080000
END:DAYLIGHT
BEGIN:STANDARD
TZOFFSETFROM:-0500
TZOFFSETTO:-0600
TZNAME:CST
DTSTART:20241103T070000
END:STANDARD
BEGIN:DAYLIGHT
TZOFFSETFROM:-0600
TZOFFSETTO:-0500
TZNAME:CDT
DTSTART:20250309T080000
END:DAYLIGHT
BEGIN:STANDARD
TZOFFSETFROM:-0500
TZOFFSETTO:-0600
TZNAME:CST
DTSTART:20251102T070000
END:STANDARD
BEGIN:DAYLIGHT
TZOFFSETFROM:-0600
TZOFFSETTO:-0500
TZNAME:CDT
DTSTART:20260308T080000
END:DAYLIGHT
BEGIN:STANDARD
TZOFFSETFROM:-0500
TZOFFSETTO:-0600
TZNAME:CST
DTSTART:20261101T070000
END:STANDARD
END:VTIMEZONE
BEGIN:VEVENT
DTSTART;TZID=America/Chicago:20250608T120000
DTEND;TZID=America/Chicago:20250608T160000
DTSTAMP:20260425T192156
CREATED:20250218T161346Z
LAST-MODIFIED:20250218T161643Z
UID:10000132-1749384000-1749398400@arcadiaroundbarn.com
SUMMARY:Round Barn Rendezvous
DESCRIPTION:Round Barn Rendezvous Open JamFree \n\n\n\n\n\n\n\n2ND SUNDAY EVERY MONTHAll Acoustic Musicians Welcome. \n\n\n\nGET YOUR KICKS ON HISTORIC ROUTE 66 (107 E. HIGHWAY 66 ‹ ARCADIA\, OK)
URL:https://arcadiaroundbarn.com/event/round-barn-rendezvous-8/2025-06-08/
LOCATION:Arcadia Round Barn\, 107 OK-66\, Arcadia\, OK\, 73034\, United States
CATEGORIES:Music,Round Barn Rendezvous
ATTACH;FMTTYPE=image/jpeg:https://eadn-wc04-4235393.nxedge.io/wp-content/uploads/2025/04/Round-Barn-Rendezvous-LOGO_simplified_May-4_SM-1.jpg
END:VEVENT
BEGIN:VEVENT
DTSTART;TZID=America/Chicago:20250511T120000
DTEND;TZID=America/Chicago:20250511T160000
DTSTAMP:20260425T192156
CREATED:20250218T161346Z
LAST-MODIFIED:20250218T161643Z
UID:10000131-1746964800-1746979200@arcadiaroundbarn.com
SUMMARY:Round Barn Rendezvous
DESCRIPTION:Round Barn Rendezvous Open JamFree \n\n\n\n\n\n\n\n2ND SUNDAY EVERY MONTHAll Acoustic Musicians Welcome. \n\n\n\nGET YOUR KICKS ON HISTORIC ROUTE 66 (107 E. HIGHWAY 66 ‹ ARCADIA\, OK)
URL:https://arcadiaroundbarn.com/event/round-barn-rendezvous-8/2025-05-11/
LOCATION:Arcadia Round Barn\, 107 OK-66\, Arcadia\, OK\, 73034\, United States
CATEGORIES:Music,Round Barn Rendezvous
ATTACH;FMTTYPE=image/jpeg:https://eadn-wc04-4235393.nxedge.io/wp-content/uploads/2025/04/Round-Barn-Rendezvous-LOGO_simplified_May-4_SM-1.jpg
END:VEVENT
BEGIN:VEVENT
DTSTART;TZID=America/Chicago:20250413T120000
DTEND;TZID=America/Chicago:20250413T160000
DTSTAMP:20260425T192156
CREATED:20250218T161346Z
LAST-MODIFIED:20250218T161643Z
UID:10000130-1744545600-1744560000@arcadiaroundbarn.com
SUMMARY:Round Barn Rendezvous
DESCRIPTION:Round Barn Rendezvous Open JamFree \n\n\n\n\n\n\n\n2ND SUNDAY EVERY MONTHAll Acoustic Musicians Welcome. \n\n\n\nGET YOUR KICKS ON HISTORIC ROUTE 66 (107 E. HIGHWAY 66 ‹ ARCADIA\, OK)
URL:https://arcadiaroundbarn.com/event/round-barn-rendezvous-8/2025-04-13/
LOCATION:Arcadia Round Barn\, 107 OK-66\, Arcadia\, OK\, 73034\, United States
CATEGORIES:Music,Round Barn Rendezvous
ATTACH;FMTTYPE=image/jpeg:https://eadn-wc04-4235393.nxedge.io/wp-content/uploads/2025/04/Round-Barn-Rendezvous-LOGO_simplified_May-4_SM-1.jpg
END:VEVENT
BEGIN:VEVENT
DTSTART;TZID=America/Chicago:20250309T120000
DTEND;TZID=America/Chicago:20250309T160000
DTSTAMP:20260425T192156
CREATED:20250218T161346Z
LAST-MODIFIED:20250218T161643Z
UID:10000129-1741521600-1741536000@arcadiaroundbarn.com
SUMMARY:Round Barn Rendezvous
DESCRIPTION:Round Barn Rendezvous Open JamFree \n\n\n\n\n\n\n\n2ND SUNDAY EVERY MONTHAll Acoustic Musicians Welcome. \n\n\n\nGET YOUR KICKS ON HISTORIC ROUTE 66 (107 E. HIGHWAY 66 ‹ ARCADIA\, OK)
URL:https://arcadiaroundbarn.com/event/round-barn-rendezvous-8/2025-03-09/
LOCATION:Arcadia Round Barn\, 107 OK-66\, Arcadia\, OK\, 73034\, United States
CATEGORIES:Music,Round Barn Rendezvous
ATTACH;FMTTYPE=image/jpeg:https://eadn-wc04-4235393.nxedge.io/wp-content/uploads/2025/04/Round-Barn-Rendezvous-LOGO_simplified_May-4_SM-1.jpg
END:VEVENT
BEGIN:VEVENT
DTSTART;TZID=America/Chicago:20250209T120000
DTEND;TZID=America/Chicago:20250209T160000
DTSTAMP:20260425T192156
CREATED:20250113T224648Z
LAST-MODIFIED:20250113T224650Z
UID:10000128-1739102400-1739116800@arcadiaroundbarn.com
SUMMARY:Round Barn Rendezvous
DESCRIPTION:Round Barn Rendezvous Open JamFree
URL:https://arcadiaroundbarn.com/event/round-barn-rendezvous-7/
LOCATION:Arcadia Round Barn\, 107 OK-66\, Arcadia\, OK\, 73034\, United States
CATEGORIES:Music,Round Barn Rendezvous
ATTACH;FMTTYPE=image/jpeg:https://eadn-wc04-4235393.nxedge.io/wp-content/uploads/2025/04/Round-Barn-Rendezvous-LOGO_simplified_May-4_SM.jpg
END:VEVENT
BEGIN:VEVENT
DTSTART;TZID=America/Chicago:20250112T120000
DTEND;TZID=America/Chicago:20250112T160000
DTSTAMP:20260425T192156
CREATED:20240201T184442Z
LAST-MODIFIED:20240216T200941Z
UID:10000127-1736683200-1736697600@arcadiaroundbarn.com
SUMMARY:Round Barn Rendezvous
DESCRIPTION:Free
URL:https://arcadiaroundbarn.com/event/round-barn-rendezvous-5/2025-01-12/
LOCATION:Arcadia Round Barn\, 107 OK-66\, Arcadia\, OK\, 73034\, United States
CATEGORIES:Music,Round Barn Rendezvous
ATTACH;FMTTYPE=image/jpeg:https://eadn-wc04-4235393.nxedge.io/wp-content/uploads/2025/04/Round-Barn-Rendezvous-LOGO_simplified_May-4_SM.jpg
END:VEVENT
BEGIN:VEVENT
DTSTART;TZID=America/Chicago:20241208T120000
DTEND;TZID=America/Chicago:20241208T160000
DTSTAMP:20260425T192156
CREATED:20240201T184442Z
LAST-MODIFIED:20240216T200941Z
UID:10000126-1733659200-1733673600@arcadiaroundbarn.com
SUMMARY:Round Barn Rendezvous
DESCRIPTION:Free
URL:https://arcadiaroundbarn.com/event/round-barn-rendezvous-5/2024-12-08/
LOCATION:Arcadia Round Barn\, 107 OK-66\, Arcadia\, OK\, 73034\, United States
CATEGORIES:Music,Round Barn Rendezvous
ATTACH;FMTTYPE=image/jpeg:https://eadn-wc04-4235393.nxedge.io/wp-content/uploads/2025/04/Round-Barn-Rendezvous-LOGO_simplified_May-4_SM.jpg
END:VEVENT
BEGIN:VEVENT
DTSTART;TZID=America/Chicago:20241110T120000
DTEND;TZID=America/Chicago:20241110T160000
DTSTAMP:20260425T192156
CREATED:20240201T184442Z
LAST-MODIFIED:20240216T200941Z
UID:10000125-1731240000-1731254400@arcadiaroundbarn.com
SUMMARY:Round Barn Rendezvous
DESCRIPTION:Free
URL:https://arcadiaroundbarn.com/event/round-barn-rendezvous-5/2024-11-10/
LOCATION:Arcadia Round Barn\, 107 OK-66\, Arcadia\, OK\, 73034\, United States
CATEGORIES:Music,Round Barn Rendezvous
ATTACH;FMTTYPE=image/jpeg:https://eadn-wc04-4235393.nxedge.io/wp-content/uploads/2025/04/Round-Barn-Rendezvous-LOGO_simplified_May-4_SM.jpg
END:VEVENT
BEGIN:VEVENT
DTSTART;TZID=America/Chicago:20241013T120000
DTEND;TZID=America/Chicago:20241013T160000
DTSTAMP:20260425T192156
CREATED:20240201T184442Z
LAST-MODIFIED:20240216T200941Z
UID:10000124-1728820800-1728835200@arcadiaroundbarn.com
SUMMARY:Round Barn Rendezvous
DESCRIPTION:Free
URL:https://arcadiaroundbarn.com/event/round-barn-rendezvous-5/2024-10-13/
LOCATION:Arcadia Round Barn\, 107 OK-66\, Arcadia\, OK\, 73034\, United States
CATEGORIES:Music,Round Barn Rendezvous
ATTACH;FMTTYPE=image/jpeg:https://eadn-wc04-4235393.nxedge.io/wp-content/uploads/2025/04/Round-Barn-Rendezvous-LOGO_simplified_May-4_SM.jpg
END:VEVENT
BEGIN:VEVENT
DTSTART;TZID=America/Chicago:20240908T120000
DTEND;TZID=America/Chicago:20240908T160000
DTSTAMP:20260425T192156
CREATED:20240201T184442Z
LAST-MODIFIED:20240216T200941Z
UID:10000123-1725796800-1725811200@arcadiaroundbarn.com
SUMMARY:Round Barn Rendezvous
DESCRIPTION:Free
URL:https://arcadiaroundbarn.com/event/round-barn-rendezvous-5/2024-09-08/
LOCATION:Arcadia Round Barn\, 107 OK-66\, Arcadia\, OK\, 73034\, United States
CATEGORIES:Music,Round Barn Rendezvous
ATTACH;FMTTYPE=image/jpeg:https://eadn-wc04-4235393.nxedge.io/wp-content/uploads/2025/04/Round-Barn-Rendezvous-LOGO_simplified_May-4_SM.jpg
END:VEVENT
BEGIN:VEVENT
DTSTART;TZID=America/Chicago:20240811T120000
DTEND;TZID=America/Chicago:20240811T160000
DTSTAMP:20260425T192156
CREATED:20240201T184442Z
LAST-MODIFIED:20240216T200941Z
UID:10000122-1723377600-1723392000@arcadiaroundbarn.com
SUMMARY:Round Barn Rendezvous
DESCRIPTION:Free
URL:https://arcadiaroundbarn.com/event/round-barn-rendezvous-5/2024-08-11/
LOCATION:Arcadia Round Barn\, 107 OK-66\, Arcadia\, OK\, 73034\, United States
CATEGORIES:Music,Round Barn Rendezvous
ATTACH;FMTTYPE=image/jpeg:https://eadn-wc04-4235393.nxedge.io/wp-content/uploads/2025/04/Round-Barn-Rendezvous-LOGO_simplified_May-4_SM.jpg
END:VEVENT
BEGIN:VEVENT
DTSTART;TZID=America/Chicago:20240714T120000
DTEND;TZID=America/Chicago:20240714T160000
DTSTAMP:20260425T192156
CREATED:20240201T184442Z
LAST-MODIFIED:20240216T200941Z
UID:10000121-1720958400-1720972800@arcadiaroundbarn.com
SUMMARY:Round Barn Rendezvous
DESCRIPTION:Free
URL:https://arcadiaroundbarn.com/event/round-barn-rendezvous-5/2024-07-14/
LOCATION:Arcadia Round Barn\, 107 OK-66\, Arcadia\, OK\, 73034\, United States
CATEGORIES:Music,Round Barn Rendezvous
ATTACH;FMTTYPE=image/jpeg:https://eadn-wc04-4235393.nxedge.io/wp-content/uploads/2025/04/Round-Barn-Rendezvous-LOGO_simplified_May-4_SM.jpg
END:VEVENT
BEGIN:VEVENT
DTSTART;TZID=America/Chicago:20240609T120000
DTEND;TZID=America/Chicago:20240609T160000
DTSTAMP:20260425T192156
CREATED:20240201T184442Z
LAST-MODIFIED:20240216T200941Z
UID:10000120-1717934400-1717948800@arcadiaroundbarn.com
SUMMARY:Round Barn Rendezvous
DESCRIPTION:Free
URL:https://arcadiaroundbarn.com/event/round-barn-rendezvous-5/2024-06-09/
LOCATION:Arcadia Round Barn\, 107 OK-66\, Arcadia\, OK\, 73034\, United States
CATEGORIES:Music,Round Barn Rendezvous
ATTACH;FMTTYPE=image/jpeg:https://eadn-wc04-4235393.nxedge.io/wp-content/uploads/2025/04/Round-Barn-Rendezvous-LOGO_simplified_May-4_SM.jpg
END:VEVENT
BEGIN:VEVENT
DTSTART;TZID=America/Chicago:20240512T120000
DTEND;TZID=America/Chicago:20240512T160000
DTSTAMP:20260425T192156
CREATED:20240201T184442Z
LAST-MODIFIED:20240216T200941Z
UID:10000119-1715515200-1715529600@arcadiaroundbarn.com
SUMMARY:Round Barn Rendezvous
DESCRIPTION:Free
URL:https://arcadiaroundbarn.com/event/round-barn-rendezvous-5/2024-05-12/
LOCATION:Arcadia Round Barn\, 107 OK-66\, Arcadia\, OK\, 73034\, United States
CATEGORIES:Music,Round Barn Rendezvous
ATTACH;FMTTYPE=image/jpeg:https://eadn-wc04-4235393.nxedge.io/wp-content/uploads/2025/04/Round-Barn-Rendezvous-LOGO_simplified_May-4_SM.jpg
END:VEVENT
BEGIN:VEVENT
DTSTART;TZID=America/Chicago:20240414T120000
DTEND;TZID=America/Chicago:20240414T160000
DTSTAMP:20260425T192156
CREATED:20240201T184442Z
LAST-MODIFIED:20240216T200941Z
UID:10000118-1713096000-1713110400@arcadiaroundbarn.com
SUMMARY:Round Barn Rendezvous
DESCRIPTION:Free
URL:https://arcadiaroundbarn.com/event/round-barn-rendezvous-5/2024-04-14/
LOCATION:Arcadia Round Barn\, 107 OK-66\, Arcadia\, OK\, 73034\, United States
CATEGORIES:Music,Round Barn Rendezvous
ATTACH;FMTTYPE=image/jpeg:https://eadn-wc04-4235393.nxedge.io/wp-content/uploads/2025/04/Round-Barn-Rendezvous-LOGO_simplified_May-4_SM.jpg
END:VEVENT
BEGIN:VEVENT
DTSTART;TZID=America/Chicago:20240310T120000
DTEND;TZID=America/Chicago:20240310T160000
DTSTAMP:20260425T192156
CREATED:20240201T184442Z
LAST-MODIFIED:20240216T200941Z
UID:10000117-1710072000-1710086400@arcadiaroundbarn.com
SUMMARY:Round Barn Rendezvous
DESCRIPTION:Free
URL:https://arcadiaroundbarn.com/event/round-barn-rendezvous-5/2024-03-10/
LOCATION:Arcadia Round Barn\, 107 OK-66\, Arcadia\, OK\, 73034\, United States
CATEGORIES:Music,Round Barn Rendezvous
ATTACH;FMTTYPE=image/jpeg:https://eadn-wc04-4235393.nxedge.io/wp-content/uploads/2025/04/Round-Barn-Rendezvous-LOGO_simplified_May-4_SM.jpg
END:VEVENT
BEGIN:VEVENT
DTSTART;TZID=America/Chicago:20240211T120000
DTEND;TZID=America/Chicago:20240211T160000
DTSTAMP:20260425T192156
CREATED:20240201T185100Z
LAST-MODIFIED:20240216T200941Z
UID:10000116-1707652800-1707667200@arcadiaroundbarn.com
SUMMARY:Round Barn Rendezvous
DESCRIPTION:Free \n\n\n\n\n\n Love songs and chocolate are on tap for the Sunday\, Feb. 12\, Round Barn Rendezvous at the Arcadia Round Barn. The Valentine’s Day jam session starts at noon and will continue until about 4 p.m.  Musicians of all skill levels are invited to bring their instruments and perform a favorite love song. Singer-songwriter Joe Baxter\, who coordinates the live music at the Round Barn\, will perform some of the award-winning love songs he has written and recorded through the years.  Admission is free but donations will be accepted for the maintenance of the barn\, which was built in 1898 and is currently being refreshed with new red-painted wooden siding. Coffee and bottled water will be provided\, and guests are welcome to bring a chocolate treat.  The Round Barn Rendezvous is held on the second Sunday of every month. Members of the Round Barn Ramblers\, which is Baxter’s acoustic Americana band\, perform every Saturday from 10:30 a.m. to 12:30 p.m. in the downstairs museum.   The Round Barn is six miles east of Interstate 35 on historic Route 66 and is open every day from 10 a.m. to 5 p.m. The museum is staffed by volunteers\, and the barn currently has openings for volunteers.   For more information about live music at the barn\, call Baxter at 405-833-1350. For information about becoming a volunteer\, call Volunteer Coordinator Kimberly Burk at 405-651-0240.
URL:https://arcadiaroundbarn.com/event/round-barn-rendezvous-6/
LOCATION:Arcadia Round Barn\, 107 OK-66\, Arcadia\, OK\, 73034\, United States
CATEGORIES:Music,Round Barn Rendezvous
ATTACH;FMTTYPE=image/jpeg:https://eadn-wc04-4235393.nxedge.io/wp-content/uploads/2025/04/Round-Barn-Rendezvous-LOGO_simplified_May-4_SM.jpg
END:VEVENT
BEGIN:VEVENT
DTSTART;TZID=America/Chicago:20220911T120000
DTEND;TZID=America/Chicago:20220911T163000
DTSTAMP:20260425T192156
CREATED:20220301T221514Z
LAST-MODIFIED:20240216T200942Z
UID:10000016-1662897600-1662913800@arcadiaroundbarn.com
SUMMARY:5th Annual Round Barn UkeFest
DESCRIPTION:Ukulele Music All Afternoon! \n\n\n\nFree to the publicDonations appreciatedBring a chair or a blanket – BYOBWater available and restrooms open\n\n\n\nSponsored By The Arcadia Historical & Preservation Society
URL:https://arcadiaroundbarn.com/event/round-barn-rendezvoused-2022-09-11/
LOCATION:Arcadia Round Barn\, 107 OK-66\, Arcadia\, OK\, 73034\, United States
CATEGORIES:Music,Round Barn Rendezvous
ATTACH;FMTTYPE=image/jpeg:https://eadn-wc04-4235393.nxedge.io/wp-content/uploads/2022/03/UKEFEST-2022.jpg
END:VEVENT
BEGIN:VEVENT
DTSTART;TZID=America/Chicago:20220814T120000
DTEND;TZID=America/Chicago:20220814T160000
DTSTAMP:20260425T192156
CREATED:20220301T221514Z
LAST-MODIFIED:20240216T200942Z
UID:10000015-1660478400-1660492800@arcadiaroundbarn.com
SUMMARY:CANCELLED: Round Barn Rendezvous
DESCRIPTION:Open Acoustic Jam \n\n\n\nSponsored By The Arcadia Historical & Preservation Society
URL:https://arcadiaroundbarn.com/event/round-barn-rendezvoused-2022-08-14/
LOCATION:Arcadia Round Barn\, 107 OK-66\, Arcadia\, OK\, 73034\, United States
CATEGORIES:Music,Round Barn Rendezvous
END:VEVENT
BEGIN:VEVENT
DTSTART;TZID=America/Chicago:20210509T120000
DTEND;TZID=America/Chicago:20210509T160000
DTSTAMP:20260425T192156
CREATED:20210428T152214Z
LAST-MODIFIED:20240216T200942Z
UID:10000010-1620561600-1620576000@arcadiaroundbarn.com
SUMMARY:Round Barn Rendezvous
DESCRIPTION:Come by this iconic Route 66 stop as local artists fill the Round Barn in Arcadia with the sound of acoustic music once a month. The Round Barn Rendezvous features a free live concert in a unique setting\, a hayloft on the second floor of the barn. Enjoy jam sessions featuring country\, bluegrass\, folk and Americana singing and playing. Hot drinks and cookies will be provided. Take a drive along Route 66 every second Sunday for an afternoon performance inside this unique historic venue.
URL:https://arcadiaroundbarn.com/event/round-barn-rendezvous-3/
LOCATION:Arcadia Round Barn\, 107 OK-66\, Arcadia\, OK\, 73034\, United States
CATEGORIES:Round Barn Rendezvous
END:VEVENT
BEGIN:VEVENT
DTSTART;TZID=America/Chicago:20201011T120000
DTEND;TZID=America/Chicago:20201011T153000
DTSTAMP:20260425T192156
CREATED:20201008T214655Z
LAST-MODIFIED:20240216T200943Z
UID:10000043-1602417600-1602430200@arcadiaroundbarn.com
SUMMARY:Last 2020 Round Barn Rendezvous
DESCRIPTION:LAST 2020 Round Barn Rendezvous! We won’t be able to move the Rendezvous indoors this winter due to the Covid. This Sunday promises pretty weather\, so we will meet in the Round Barn Elm Tree picnic area. We mask up and stay separated. All acoustic musicians are welcome. Come play us a song! \nThe format is a song circle\, with all players taking turns. The public is welcome and donations are accepted. Music is acoustic only.
URL:https://arcadiaroundbarn.com/event/round-barn-rendezvous-2/
LOCATION:Arcadia Round Barn\, 107 OK-66\, Arcadia\, OK\, 73034\, United States
CATEGORIES:Music,Round Barn Rendezvous
ATTACH;FMTTYPE=image/jpeg:https://eadn-wc04-4235393.nxedge.io/wp-content/uploads/2020/06/roundbarn_loft_update_2020.jpg
END:VEVENT
END:VCALENDAR