BEGIN:VCALENDAR
VERSION:2.0
PRODID:-//Arcadia Round Barn - ECPv6.15.20//NONSGML v1.0//EN
CALSCALE:GREGORIAN
METHOD:PUBLISH
X-WR-CALNAME:Arcadia Round Barn
X-ORIGINAL-URL:https://arcadiaroundbarn.com
X-WR-CALDESC:Events for Arcadia Round Barn
REFRESH-INTERVAL;VALUE=DURATION:PT1H
X-Robots-Tag:noindex
X-PUBLISHED-TTL:PT1H
BEGIN:VTIMEZONE
TZID:America/Chicago
BEGIN:DAYLIGHT
TZOFFSETFROM:-0600
TZOFFSETTO:-0500
TZNAME:CDT
DTSTART:20240310T080000
END:DAYLIGHT
BEGIN:STANDARD
TZOFFSETFROM:-0500
TZOFFSETTO:-0600
TZNAME:CST
DTSTART:20241103T070000
END:STANDARD
BEGIN:DAYLIGHT
TZOFFSETFROM:-0600
TZOFFSETTO:-0500
TZNAME:CDT
DTSTART:20250309T080000
END:DAYLIGHT
BEGIN:STANDARD
TZOFFSETFROM:-0500
TZOFFSETTO:-0600
TZNAME:CST
DTSTART:20251102T070000
END:STANDARD
BEGIN:DAYLIGHT
TZOFFSETFROM:-0600
TZOFFSETTO:-0500
TZNAME:CDT
DTSTART:20260308T080000
END:DAYLIGHT
BEGIN:STANDARD
TZOFFSETFROM:-0500
TZOFFSETTO:-0600
TZNAME:CST
DTSTART:20261101T070000
END:STANDARD
END:VTIMEZONE
BEGIN:VEVENT
DTSTART;TZID=America/Chicago:20250622T143000
DTEND;TZID=America/Chicago:20250622T163000
DTSTAMP:20260425T072534
CREATED:20250218T234842Z
LAST-MODIFIED:20250610T223406Z
UID:10000490-1750602600-1750609800@arcadiaroundbarn.com
SUMMARY:Edgar Cruz — Virtuoso Guitar — Elm Tree Concerts
DESCRIPTION:Live Acoustic Shows / In the Shade \n\n\n\nSponsored by The Arcadia Historical & Preservation Society
URL:https://arcadiaroundbarn.com/event/edgar-cruz-elm-tree-concerts/
LOCATION:OK
CATEGORIES:Elm Tree Concerts,Music
ATTACH;FMTTYPE=image/jpeg:https://eadn-wc04-4235393.nxedge.io/wp-content/uploads/2025/06/Elm-Tree-Concerts-logo_with-Arcadia-Round-Barn-TYPE_April-23_2025_flat.jpeg
END:VEVENT
BEGIN:VEVENT
DTSTART;TZID=America/Chicago:20250628T103000
DTEND;TZID=America/Chicago:20250628T123000
DTSTAMP:20260425T072534
CREATED:20250114T160439Z
LAST-MODIFIED:20250114T160440Z
UID:10000299-1751106600-1751113800@arcadiaroundbarn.com
SUMMARY:Joe Baxter & The Lost Cause — Saturday Morning Music Sessions
DESCRIPTION:Joe Baxter & The Lost Cause \n\n\n\n(Gift Shop)
URL:https://arcadiaroundbarn.com/event/saturday-morning-music-sessions-3/
LOCATION:OK
CATEGORIES:Music
END:VEVENT
END:VCALENDAR