BEGIN:VCALENDAR
VERSION:2.0
PRODID:-//Arcadia Round Barn - ECPv6.15.20//NONSGML v1.0//EN
CALSCALE:GREGORIAN
METHOD:PUBLISH
X-WR-CALNAME:Arcadia Round Barn
X-ORIGINAL-URL:https://arcadiaroundbarn.com
X-WR-CALDESC:Events for Arcadia Round Barn
REFRESH-INTERVAL;VALUE=DURATION:PT1H
X-Robots-Tag:noindex
X-PUBLISHED-TTL:PT1H
BEGIN:VTIMEZONE
TZID:America/Chicago
BEGIN:DAYLIGHT
TZOFFSETFROM:-0600
TZOFFSETTO:-0500
TZNAME:CDT
DTSTART:20240310T080000
END:DAYLIGHT
BEGIN:STANDARD
TZOFFSETFROM:-0500
TZOFFSETTO:-0600
TZNAME:CST
DTSTART:20241103T070000
END:STANDARD
BEGIN:DAYLIGHT
TZOFFSETFROM:-0600
TZOFFSETTO:-0500
TZNAME:CDT
DTSTART:20250309T080000
END:DAYLIGHT
BEGIN:STANDARD
TZOFFSETFROM:-0500
TZOFFSETTO:-0600
TZNAME:CST
DTSTART:20251102T070000
END:STANDARD
BEGIN:DAYLIGHT
TZOFFSETFROM:-0600
TZOFFSETTO:-0500
TZNAME:CDT
DTSTART:20260308T080000
END:DAYLIGHT
BEGIN:STANDARD
TZOFFSETFROM:-0500
TZOFFSETTO:-0600
TZNAME:CST
DTSTART:20261101T070000
END:STANDARD
END:VTIMEZONE
BEGIN:VEVENT
DTSTART;TZID=America/Chicago:20250330T140000
DTEND;TZID=America/Chicago:20250330T160000
DTSTAMP:20260425T072548
CREATED:20250218T162428Z
LAST-MODIFIED:20250325T185919Z
UID:10000488-1743343200-1743350400@arcadiaroundbarn.com
SUMMARY:2025 Elm Tree Season Kickoff Show — Talk Of The Town (Loft)
DESCRIPTION:Talk of the Town Big Band Orchestra to Open Arcadia Round Barn Spring Concert Series\n\n\n\nARCADIA\, OK – The sights and sounds of the big band era will fill the air on Sunday\, March 30\, from 2-4 p.m.\, as Talk of the Town \, Oklahoma City’s premier big band orchestra\, kicks off the first-ever Round Barn Spring Concert at the historic Arcadia Round Barn on Route 66. \n\n\n\n\nRead the full press release.\n\n\n\n\n \n\n\n\nSponsored by The Arcadia Historical & Preservation Society
URL:https://arcadiaroundbarn.com/event/2025-elm-tree-season-kickoff-show/
LOCATION:OK
CATEGORIES:Elm Tree Concerts,Loft,Music
ATTACH;FMTTYPE=image/jpeg:https://eadn-wc04-4235393.nxedge.io/wp-content/uploads/2025/02/1_Talk-of-the-Town-Orchestra_angled_SM-scaled.jpg
END:VEVENT
BEGIN:VEVENT
DTSTART;TZID=America/Chicago:20250405T103000
DTEND;TZID=America/Chicago:20250405T123000
DTSTAMP:20260425T072548
CREATED:20250113T225724Z
LAST-MODIFIED:20250811T213109Z
UID:10000287-1743849000-1743856200@arcadiaroundbarn.com
SUMMARY:Saturday Morning Music Sessions
DESCRIPTION:“Saturday Morning Music Sessions” features revolving weekly acoustic music performances by guest musicians\, by our own house bands\, Joe Baxter & The Lost Cause\, and the Round Barn Music’s new project\, “The RoundAbouts”. There is a professional invite-only songwriters group that meets monthly on 4th Saturdays. The Public is Invited to ALL music events.
URL:https://arcadiaroundbarn.com/event/saturday-morning-music-sessions-2/2025-04-05/
LOCATION:Arcadia Round Barn\, 107 OK-66\, Arcadia\, OK\, 73034\, United States
CATEGORIES:Music
ATTACH;FMTTYPE=image/jpeg:https://eadn-wc04-4235393.nxedge.io/wp-content/uploads/2025/01/Saturday-Morning-Music-Sessions-logo-idea_SM.jpg
END:VEVENT
END:VCALENDAR