BEGIN:VCALENDAR
VERSION:2.0
PRODID:-//Arcadia Round Barn - ECPv6.15.20//NONSGML v1.0//EN
CALSCALE:GREGORIAN
METHOD:PUBLISH
X-WR-CALNAME:Arcadia Round Barn
X-ORIGINAL-URL:https://arcadiaroundbarn.com
X-WR-CALDESC:Events for Arcadia Round Barn
REFRESH-INTERVAL;VALUE=DURATION:PT1H
X-Robots-Tag:noindex
X-PUBLISHED-TTL:PT1H
BEGIN:VTIMEZONE
TZID:America/Chicago
BEGIN:DAYLIGHT
TZOFFSETFROM:-0600
TZOFFSETTO:-0500
TZNAME:CDT
DTSTART:20190310T080000
END:DAYLIGHT
BEGIN:STANDARD
TZOFFSETFROM:-0500
TZOFFSETTO:-0600
TZNAME:CST
DTSTART:20191103T070000
END:STANDARD
BEGIN:DAYLIGHT
TZOFFSETFROM:-0600
TZOFFSETTO:-0500
TZNAME:CDT
DTSTART:20200308T080000
END:DAYLIGHT
BEGIN:STANDARD
TZOFFSETFROM:-0500
TZOFFSETTO:-0600
TZNAME:CST
DTSTART:20201101T070000
END:STANDARD
BEGIN:DAYLIGHT
TZOFFSETFROM:-0600
TZOFFSETTO:-0500
TZNAME:CDT
DTSTART:20210314T080000
END:DAYLIGHT
BEGIN:STANDARD
TZOFFSETFROM:-0500
TZOFFSETTO:-0600
TZNAME:CST
DTSTART:20211107T070000
END:STANDARD
BEGIN:DAYLIGHT
TZOFFSETFROM:-0600
TZOFFSETTO:-0500
TZNAME:CDT
DTSTART:20220313T080000
END:DAYLIGHT
BEGIN:STANDARD
TZOFFSETFROM:-0500
TZOFFSETTO:-0600
TZNAME:CST
DTSTART:20221106T070000
END:STANDARD
BEGIN:DAYLIGHT
TZOFFSETFROM:-0600
TZOFFSETTO:-0500
TZNAME:CDT
DTSTART:20230312T080000
END:DAYLIGHT
BEGIN:STANDARD
TZOFFSETFROM:-0500
TZOFFSETTO:-0600
TZNAME:CST
DTSTART:20231105T070000
END:STANDARD
BEGIN:DAYLIGHT
TZOFFSETFROM:-0600
TZOFFSETTO:-0500
TZNAME:CDT
DTSTART:20240310T080000
END:DAYLIGHT
BEGIN:STANDARD
TZOFFSETFROM:-0500
TZOFFSETTO:-0600
TZNAME:CST
DTSTART:20241103T070000
END:STANDARD
BEGIN:DAYLIGHT
TZOFFSETFROM:-0600
TZOFFSETTO:-0500
TZNAME:CDT
DTSTART:20250309T080000
END:DAYLIGHT
BEGIN:STANDARD
TZOFFSETFROM:-0500
TZOFFSETTO:-0600
TZNAME:CST
DTSTART:20251102T070000
END:STANDARD
END:VTIMEZONE
BEGIN:VEVENT
DTSTART;TZID=America/Chicago:20240323T103000
DTEND;TZID=America/Chicago:20240323T123000
DTSTAMP:20260425T222127
CREATED:20240219T174557Z
LAST-MODIFIED:20240219T175327Z
UID:10000199-1711189800-1711197000@arcadiaroundbarn.com
SUMMARY:Saturday Morning Music Sessions
DESCRIPTION:Live Acoustic Music – In the Gift Shopwith the Round Barn RamblersSaturdays / 10:30 AM – 12:30 PM
URL:https://arcadiaroundbarn.com/event/saturday-morning-music-sessions/2024-03-23/
CATEGORIES:Music,Saturday Morning Music Sessions
ATTACH;FMTTYPE=image/png:https://eadn-wc04-4235393.nxedge.io/wp-content/uploads/2022/03/THE-ROUND-BARN-RAMBLERS-sign.png
END:VEVENT
BEGIN:VEVENT
DTSTART;TZID=America/Chicago:20240316T103000
DTEND;TZID=America/Chicago:20240316T123000
DTSTAMP:20260425T222127
CREATED:20240219T174557Z
LAST-MODIFIED:20240219T175327Z
UID:10000198-1710585000-1710592200@arcadiaroundbarn.com
SUMMARY:Saturday Morning Music Sessions
DESCRIPTION:Live Acoustic Music – In the Gift Shopwith the Round Barn RamblersSaturdays / 10:30 AM – 12:30 PM
URL:https://arcadiaroundbarn.com/event/saturday-morning-music-sessions/2024-03-16/
CATEGORIES:Music,Saturday Morning Music Sessions
ATTACH;FMTTYPE=image/png:https://eadn-wc04-4235393.nxedge.io/wp-content/uploads/2022/03/THE-ROUND-BARN-RAMBLERS-sign.png
END:VEVENT
BEGIN:VEVENT
DTSTART;TZID=America/Chicago:20240309T103000
DTEND;TZID=America/Chicago:20240309T123000
DTSTAMP:20260425T222127
CREATED:20240219T174557Z
LAST-MODIFIED:20240219T175327Z
UID:10000197-1709980200-1709987400@arcadiaroundbarn.com
SUMMARY:Saturday Morning Music Sessions
DESCRIPTION:Live Acoustic Music – In the Gift Shopwith the Round Barn RamblersSaturdays / 10:30 AM – 12:30 PM
URL:https://arcadiaroundbarn.com/event/saturday-morning-music-sessions/2024-03-09/
CATEGORIES:Music,Saturday Morning Music Sessions
ATTACH;FMTTYPE=image/png:https://eadn-wc04-4235393.nxedge.io/wp-content/uploads/2022/03/THE-ROUND-BARN-RAMBLERS-sign.png
END:VEVENT
BEGIN:VEVENT
DTSTART;TZID=America/Chicago:20240302T103000
DTEND;TZID=America/Chicago:20240302T123000
DTSTAMP:20260425T222127
CREATED:20240219T174557Z
LAST-MODIFIED:20240219T175327Z
UID:10000196-1709375400-1709382600@arcadiaroundbarn.com
SUMMARY:Saturday Morning Music Sessions
DESCRIPTION:Live Acoustic Music – In the Gift Shopwith the Round Barn RamblersSaturdays / 10:30 AM – 12:30 PM
URL:https://arcadiaroundbarn.com/event/saturday-morning-music-sessions/2024-03-02/
CATEGORIES:Music,Saturday Morning Music Sessions
ATTACH;FMTTYPE=image/png:https://eadn-wc04-4235393.nxedge.io/wp-content/uploads/2022/03/THE-ROUND-BARN-RAMBLERS-sign.png
END:VEVENT
BEGIN:VEVENT
DTSTART;TZID=America/Chicago:20240224T103000
DTEND;TZID=America/Chicago:20240224T123000
DTSTAMP:20260425T222127
CREATED:20240219T174557Z
LAST-MODIFIED:20240219T175327Z
UID:10000195-1708770600-1708777800@arcadiaroundbarn.com
SUMMARY:Saturday Morning Music Sessions
DESCRIPTION:Live Acoustic Music – In the Gift Shopwith the Round Barn RamblersSaturdays / 10:30 AM – 12:30 PM
URL:https://arcadiaroundbarn.com/event/saturday-morning-music-sessions/2024-02-24/
CATEGORIES:Music,Saturday Morning Music Sessions
ATTACH;FMTTYPE=image/png:https://eadn-wc04-4235393.nxedge.io/wp-content/uploads/2022/03/THE-ROUND-BARN-RAMBLERS-sign.png
END:VEVENT
BEGIN:VEVENT
DTSTART;TZID=America/Chicago:20220702T103000
DTEND;TZID=America/Chicago:20220702T130000
DTSTAMP:20260425T222127
CREATED:20220301T221014Z
LAST-MODIFIED:20240216T200942Z
UID:10000014-1656757800-1656766800@arcadiaroundbarn.com
SUMMARY:Saturday Morning Music Sessions
DESCRIPTION:Live Acoustic Music — The Round Barn Ramblers \n\n\n\nSaturday Morning Music Sessions take place at 10:30A.M. to 1:00P.M. every Saturday\, yearlong\, and feature bluegrass and acoustic string band music by the Round Barn’s own Round Barn Ramblers. \n\n\n\nThe Ramblers will be relocating a block east down the Arcadia farmers Market for the remainder of Summer Season\, weather permitting. The Ramblers will set up in the shade on Saturday mornings\, from 10AM to Noon to provide fun bluegrass and string band music and to represent The Round Barn for Farmers Market visitors. \n\n\n\nSponsored By The Arcadia Historical & Preservation Society \n\n\n\n\n\n\nSummer Location – Weather Permitting
URL:https://arcadiaroundbarn.com/event/saturday-morning-music-sessions-2022-11-19-2022-07-02/
LOCATION:Arcadia Outdoor Farmer’s Market\, Route 66 and Division Street\, Arcadia\, OK\, 73007\, United States
CATEGORIES:Music,Saturday Morning Music Sessions
ATTACH;FMTTYPE=image/png:https://eadn-wc04-4235393.nxedge.io/wp-content/uploads/2022/03/THE-ROUND-BARN-RAMBLERS-sign.png
END:VEVENT
BEGIN:VEVENT
DTSTART;TZID=America/Chicago:20201024T103000
DTEND;TZID=America/Chicago:20201024T123000
DTSTAMP:20260425T222127
CREATED:20200922T145624Z
LAST-MODIFIED:20240216T200943Z
UID:10000027-1603535400-1603542600@arcadiaroundbarn.com
SUMMARY:Janice Francis Smith — Saturday Morning Music Sessions
DESCRIPTION:Sponsored by the Arcadia Historical & Preservation Society. All shows are outdoors\, weather permitting. Donations are appreciated. Shows are FREE to the public.
URL:https://arcadiaroundbarn.com/event/janice-francis-smith-saturday-morning-music-sessions/
LOCATION:Arcadia Round Barn\, 107 OK-66\, Arcadia\, OK\, 73034\, United States
CATEGORIES:Music,Saturday Morning Music Sessions
END:VEVENT
BEGIN:VEVENT
DTSTART;TZID=America/Chicago:20201017T103000
DTEND;TZID=America/Chicago:20201017T123000
DTSTAMP:20260425T222127
CREATED:20200701T201358Z
LAST-MODIFIED:20240216T200943Z
UID:10000029-1602930600-1602937800@arcadiaroundbarn.com
SUMMARY:Dan Seibert — Saturday Morning Music Sessions
DESCRIPTION:Sponsored by the Arcadia Historical & Preservation Society. All shows are outdoors\, weather permitting. Donations are appreciated. Shows are FREE to the public.
URL:https://arcadiaroundbarn.com/event/dan-seibert-saturday-morning-music-sessions/
LOCATION:Arcadia Round Barn\, 107 OK-66\, Arcadia\, OK\, 73034\, United States
CATEGORIES:Music,Saturday Morning Music Sessions
END:VEVENT
BEGIN:VEVENT
DTSTART;TZID=America/Chicago:20201010T103000
DTEND;TZID=America/Chicago:20201010T123000
DTSTAMP:20260425T222127
CREATED:20200701T201256Z
LAST-MODIFIED:20240216T200943Z
UID:10000024-1602325800-1602333000@arcadiaroundbarn.com
SUMMARY:Middle Sister — Saturday Morning Music Sessions
DESCRIPTION:Sponsored by the Arcadia Historical & Preservation Society. All shows are outdoors\, weather permitting. Donations are appreciated. Shows are FREE to the public.
URL:https://arcadiaroundbarn.com/event/middle-sister-saturday-morning-music-sessions/
LOCATION:Arcadia Round Barn\, 107 OK-66\, Arcadia\, OK\, 73034\, United States
CATEGORIES:Music,Saturday Morning Music Sessions
ATTACH;FMTTYPE=image/jpeg:https://eadn-wc04-4235393.nxedge.io/wp-content/uploads/2020/07/middle-sister.jpeg
END:VEVENT
BEGIN:VEVENT
DTSTART;TZID=America/Chicago:20201003T103000
DTEND;TZID=America/Chicago:20201003T123000
DTSTAMP:20260425T222127
CREATED:20200701T201158Z
LAST-MODIFIED:20240216T200943Z
UID:10000023-1601721000-1601728200@arcadiaroundbarn.com
SUMMARY:Ben & Alycia Goeke — Saturday Morning Music Sessions
DESCRIPTION:Sponsored by the Arcadia Historical & Preservation Society. All shows are outdoors\, weather permitting. Donations are appreciated. Shows are FREE to the public.
URL:https://arcadiaroundbarn.com/event/ben-alycia-goeke-saturday-morning-music-sessions/
LOCATION:Arcadia Round Barn\, 107 OK-66\, Arcadia\, OK\, 73034\, United States
CATEGORIES:Music,Saturday Morning Music Sessions
END:VEVENT
BEGIN:VEVENT
DTSTART;TZID=America/Chicago:20200926T103000
DTEND;TZID=America/Chicago:20200926T123000
DTSTAMP:20260425T222127
CREATED:20200701T201012Z
LAST-MODIFIED:20240216T200943Z
UID:10000022-1601116200-1601123400@arcadiaroundbarn.com
SUMMARY:Sunshine Scherer — Saturday Morning Music Sessions
DESCRIPTION:Sponsored by the Arcadia Historical & Preservation Society. All shows are outdoors\, weather permitting. Donations are appreciated. Shows are FREE to the public.
URL:https://arcadiaroundbarn.com/event/sunshine-scherer-saturday-morning-music-sessions/
LOCATION:Arcadia Round Barn\, 107 OK-66\, Arcadia\, OK\, 73034\, United States
CATEGORIES:Music,Saturday Morning Music Sessions
END:VEVENT
BEGIN:VEVENT
DTSTART;TZID=America/Chicago:20200919T103000
DTEND;TZID=America/Chicago:20200919T123000
DTSTAMP:20260425T222127
CREATED:20200701T194309Z
LAST-MODIFIED:20240216T200943Z
UID:10000066-1600511400-1600518600@arcadiaroundbarn.com
SUMMARY:Taylor Atkinson — Saturday Morning Music Sessions
DESCRIPTION:Sponsored by the Arcadia Historical & Preservation Society. All shows are outdoors\, weather permitting. Donations are appreciated. Shows are FREE to the public.
URL:https://arcadiaroundbarn.com/event/taylor-atkinson-saturday-morning-music-sessions/
LOCATION:Arcadia Round Barn\, 107 OK-66\, Arcadia\, OK\, 73034\, United States
CATEGORIES:Music,Saturday Morning Music Sessions
END:VEVENT
BEGIN:VEVENT
DTSTART;TZID=America/Chicago:20200912T103000
DTEND;TZID=America/Chicago:20200912T123000
DTSTAMP:20260425T222127
CREATED:20200701T194201Z
LAST-MODIFIED:20240216T200943Z
UID:10000065-1599906600-1599913800@arcadiaroundbarn.com
SUMMARY:Michael Music — Saturday Morning Music Sessions
DESCRIPTION:Sponsored by the Arcadia Historical & Preservation Society. All shows are outdoors\, weather permitting. Donations are appreciated. Shows are FREE to the public. \n\nOutdoors in the shade\nPlenty of space\nMasks required\nRestrooms open\nBring your chair\nBottled water and disposable masks are available
URL:https://arcadiaroundbarn.com/event/michael-music-saturday-morning-music-sessions/
LOCATION:Arcadia Round Barn\, 107 OK-66\, Arcadia\, OK\, 73034\, United States
CATEGORIES:Music,Saturday Morning Music Sessions
ATTACH;FMTTYPE=image/jpeg:https://eadn-wc04-4235393.nxedge.io/wp-content/uploads/2020/07/Michael-Music-Friends-2020-09-12.jpeg
END:VEVENT
BEGIN:VEVENT
DTSTART;TZID=America/Chicago:20200905T103000
DTEND;TZID=America/Chicago:20200905T123000
DTSTAMP:20260425T222127
CREATED:20200701T194110Z
LAST-MODIFIED:20240216T200943Z
UID:10000064-1599301800-1599309000@arcadiaroundbarn.com
SUMMARY:Joel Melton — Saturday Morning Music Sessions
DESCRIPTION:Sponsored by the Arcadia Historical & Preservation Society. All shows are outdoors\, weather permitting. Donations are appreciated. Shows are FREE to the public.
URL:https://arcadiaroundbarn.com/event/joel-melton-saturday-morning-music-sessions/
LOCATION:Arcadia Round Barn\, 107 OK-66\, Arcadia\, OK\, 73034\, United States
CATEGORIES:Music,Saturday Morning Music Sessions
END:VEVENT
BEGIN:VEVENT
DTSTART;TZID=America/Chicago:20200829T103000
DTEND;TZID=America/Chicago:20200829T123000
DTSTAMP:20260425T222127
CREATED:20200701T193948Z
LAST-MODIFIED:20240216T200943Z
UID:10000063-1598697000-1598704200@arcadiaroundbarn.com
SUMMARY:Deana Rotromel — Saturday Morning Music Sessions
DESCRIPTION:Sponsored by the Arcadia Historical & Preservation Society. All shows are outdoors\, weather permitting. Donations are appreciated. Shows are FREE to the public.
URL:https://arcadiaroundbarn.com/event/deana-rotromel-saturday-morning-music-sessions/
LOCATION:Arcadia Round Barn\, 107 OK-66\, Arcadia\, OK\, 73034\, United States
CATEGORIES:Music,Saturday Morning Music Sessions
END:VEVENT
BEGIN:VEVENT
DTSTART;TZID=America/Chicago:20200822T103000
DTEND;TZID=America/Chicago:20200822T123000
DTSTAMP:20260425T222127
CREATED:20200701T193817Z
LAST-MODIFIED:20200701T201424Z
UID:10000062-1598092200-1598099400@arcadiaroundbarn.com
SUMMARY:Gordon McKinney — Saturday Morning Music Sessions
DESCRIPTION:Sponsored by the Arcadia Historical & Preservation Society. All shows are outdoors\, weather permitting. Donations are appreciated. Shows are FREE to the public.
URL:https://arcadiaroundbarn.com/event/gordon-mckinney-saturday-morning-music-sessions/
LOCATION:Arcadia Round Barn\, 107 OK-66\, Arcadia\, OK\, 73034\, United States
CATEGORIES:Music,Saturday Morning Music Sessions
END:VEVENT
BEGIN:VEVENT
DTSTART;TZID=America/Chicago:20200815T103000
DTEND;TZID=America/Chicago:20200815T123000
DTSTAMP:20260425T222127
CREATED:20200701T193624Z
LAST-MODIFIED:20200701T201424Z
UID:10000061-1597487400-1597494600@arcadiaroundbarn.com
SUMMARY:Fred Hill — Saturday Morning Music Sessions
DESCRIPTION:Sponsored by the Arcadia Historical & Preservation Society. All shows are outdoors\, weather permitting. Donations are appreciated. Shows are FREE to the public.
URL:https://arcadiaroundbarn.com/event/fred-hill-saturday-morning-music-sessions/
LOCATION:Arcadia Round Barn\, 107 OK-66\, Arcadia\, OK\, 73034\, United States
CATEGORIES:Music,Saturday Morning Music Sessions
END:VEVENT
BEGIN:VEVENT
DTSTART;TZID=America/Chicago:20200808T103000
DTEND;TZID=America/Chicago:20200808T123000
DTSTAMP:20260425T222127
CREATED:20200701T193347Z
LAST-MODIFIED:20200804T225903Z
UID:10000060-1596882600-1596889800@arcadiaroundbarn.com
SUMMARY:Michele Goodman — Saturday Morning Music Sessions
DESCRIPTION:Pawnee musician Michelle Goodman will bring a classic country and gospel music concert to the Arcadia Round Barn on Saturday\, Aug. 8. \nGoodman sings and plays acoustic guitar\, and her brother\, Tim Goodman\, will join her on bass guitar. \nMorning Music is from 10:30 a.m. to 12:30 pm. every Saturday\, beneath the shade of the giant elm tree on the north side of the barn. Admission is free but donations are accepted. \nThe Round Barn Rendezvous is set for noon to 4 p.m. Sunday\, Aug. 9\, with local musicians welcome to join the monthly jam session. \nThe Round Barn is 6 miles east of Interstate 35 on Historic Route 66. Due to the pandemic\, the barn is currently open from Friday though Monday. Check the Arcadia Round Barn website and Facebook page for hours of operation\, which vary based on volunteer availability. Masks are required. \nFor more information about live music at the barn\, call Oklahoma City singer-songwriter Joe Baxter at 405-833-1350. \n  \n  \nSponsored by the Arcadia Historical & Preservation Society. All shows are outdoors\, weather permitting. Donations are appreciated. Shows are FREE to the public.
URL:https://arcadiaroundbarn.com/event/michele-goodman-saturday-morning-music-sessions/
LOCATION:Arcadia Round Barn\, 107 OK-66\, Arcadia\, OK\, 73034\, United States
CATEGORIES:Music,Saturday Morning Music Sessions
END:VEVENT
BEGIN:VEVENT
DTSTART;TZID=America/Chicago:20200801T103000
DTEND;TZID=America/Chicago:20200801T123000
DTSTAMP:20260425T222127
CREATED:20200727T153138Z
LAST-MODIFIED:20240216T201002Z
UID:10000030-1596277800-1596285000@arcadiaroundbarn.com
SUMMARY:Brad Fielder to bring Morning Music to Round Barn
DESCRIPTION:ARCADIA – Norman singer-songwriter Brad Fielder will present a Morning Music concert of original and traditional music from 10:30 a.m. to 12:30 p.m. Saturday\, Aug. 1\, at the Arcadia Round Barn. \nFielder said his music is inspired by old time\, country blues\, ragtime and bluegrass and brought to life on acoustic guitar\, banjo and resonator guitar. He also augments his melodies with kazoo\, harmonica and mouth horn. \nAll concerts are held outdoors on the north side of the barn\, beneath the shade of the giant elm tree. Admission is free but donations are accepted for the maintenance of the barn\, which was built in 1898. \nThe Round Barn is six miles east of Interstate 35 on Historic Route 66. The barn is currently open from 10 a.m. to 1 p.m. Friday through Monday. \nFor more information about live music at the barn\, call Joe Baxter at 405-833-1350.
URL:https://arcadiaroundbarn.com/event/brad-fielder-to-bring-morning-music-to-round-barn/
LOCATION:Arcadia Round Barn\, 107 OK-66\, Arcadia\, OK\, 73034\, United States
CATEGORIES:Music,Saturday Morning Music Sessions
ATTACH;FMTTYPE=image/jpeg:https://eadn-wc04-4235393.nxedge.io/wp-content/uploads/2020/07/Brad-Fielder-scaled.jpg
END:VEVENT
BEGIN:VEVENT
DTSTART;TZID=America/Chicago:20200801T103000
DTEND;TZID=America/Chicago:20200801T123000
DTSTAMP:20260425T222127
CREATED:20200701T193127Z
LAST-MODIFIED:20200701T201424Z
UID:10000059-1596277800-1596285000@arcadiaroundbarn.com
SUMMARY:Brad Fielder — Saturday Morning Music Sessions
DESCRIPTION:Sponsored by the Arcadia Historical & Preservation Society. All shows are outdoors\, weather permitting. Donations are appreciated. Shows are FREE to the public.
URL:https://arcadiaroundbarn.com/event/brad-fielder-saturday-morning-music-sessions/
LOCATION:Arcadia Round Barn\, 107 OK-66\, Arcadia\, OK\, 73034\, United States
CATEGORIES:Music,Saturday Morning Music Sessions
END:VEVENT
BEGIN:VEVENT
DTSTART;TZID=America/Chicago:20200725T103000
DTEND;TZID=America/Chicago:20200725T123000
DTSTAMP:20260425T222127
CREATED:20200701T192811Z
LAST-MODIFIED:20200701T201424Z
UID:10000058-1595673000-1595680200@arcadiaroundbarn.com
SUMMARY:Kelsey Avants & Tim Gent — Saturday Morning Sessions
DESCRIPTION:Sponsored by the Arcadia Historical & Preservation Society. All shows are outdoors\, weather permitting. Donations are appreciated. Shows are FREE to the public.
URL:https://arcadiaroundbarn.com/event/kelsey-avants-tim-gent-saturday-morning-sessions/
LOCATION:Arcadia Round Barn\, 107 OK-66\, Arcadia\, OK\, 73034\, United States
CATEGORIES:Music,Saturday Morning Music Sessions
END:VEVENT
BEGIN:VEVENT
DTSTART;TZID=America/Chicago:20200718T103000
DTEND;TZID=America/Chicago:20200718T123000
DTSTAMP:20260425T222127
CREATED:20200701T192637Z
LAST-MODIFIED:20200701T201424Z
UID:10000057-1595068200-1595075400@arcadiaroundbarn.com
SUMMARY:Gypsy Twang — Saturday Morning Sessions
DESCRIPTION:Sponsored by the Arcadia Historical & Preservation Society. All shows are outdoors\, weather permitting. Donations are appreciated. Shows are FREE to the public.
URL:https://arcadiaroundbarn.com/event/gypsy-twang-saturday-morning-sessions/
LOCATION:Arcadia Round Barn\, 107 OK-66\, Arcadia\, OK\, 73034\, United States
CATEGORIES:Music,Saturday Morning Music Sessions
END:VEVENT
BEGIN:VEVENT
DTSTART;TZID=America/Chicago:20200711T103000
DTEND;TZID=America/Chicago:20200711T123000
DTSTAMP:20260425T222127
CREATED:20200701T184444Z
LAST-MODIFIED:20200702T191115Z
UID:10000056-1594463400-1594470600@arcadiaroundbarn.com
SUMMARY:Bill Kropf — Saturday Morning Sessions
DESCRIPTION:Sponsored by the Arcadia Historical & Preservation Society. All shows are outdoors\, weather permitting. Donations are appreciated. Shows are FREE to the public. \n  \nPhoto of Bill Kropf by Time Blake – Arcadia Round Barn Morning Sessions
URL:https://arcadiaroundbarn.com/event/bill-kropf-saturday-morning-sessions/
LOCATION:Arcadia Round Barn\, 107 OK-66\, Arcadia\, OK\, 73034\, United States
CATEGORIES:Music,Saturday Morning Music Sessions
ATTACH;FMTTYPE=image/jpeg:https://eadn-wc04-4235393.nxedge.io/wp-content/uploads/2020/07/BillKropf_photo_by_Tim-Blake.jpg
END:VEVENT
BEGIN:VEVENT
DTSTART;TZID=America/Chicago:20200703T103000
DTEND;TZID=America/Chicago:20200703T123000
DTSTAMP:20260425T222127
CREATED:20200617T161115Z
LAST-MODIFIED:20200701T201424Z
UID:10000052-1593772200-1593779400@arcadiaroundbarn.com
SUMMARY:Martin & Pearson — Saturday Morning Sessions
DESCRIPTION:Sponsored by the Arcadia Historical & Preservation Society. All shows are outdoors\, weather permitting. Donations are appreciated. Shows are FREE to the public.
URL:https://arcadiaroundbarn.com/event/martin-pearson-saturday-morning-sessions/
LOCATION:Arcadia Round Barn\, 107 OK-66\, Arcadia\, OK\, 73034\, United States
CATEGORIES:Saturday Morning Music Sessions
END:VEVENT
BEGIN:VEVENT
DTSTART;TZID=America/Chicago:20200627T103000
DTEND;TZID=America/Chicago:20200627T123000
DTSTAMP:20260425T222127
CREATED:20200617T160348Z
LAST-MODIFIED:20200701T201424Z
UID:10000051-1593253800-1593261000@arcadiaroundbarn.com
SUMMARY:Joe Baxter — Saturday Morning Music Sessions
DESCRIPTION:Sponsored by the Arcadia Historical & Preservation Society. All shows are outdoors\, weather permitting. Donations are appreciated. Shows are FREE to the public.
URL:https://arcadiaroundbarn.com/event/joe-baxter-saturday-morning-music-sessions/
LOCATION:Arcadia Round Barn\, 107 OK-66\, Arcadia\, OK\, 73034\, United States
CATEGORIES:Music,Saturday Morning Music Sessions
END:VEVENT
END:VCALENDAR