BEGIN:VCALENDAR
VERSION:2.0
PRODID:-//Arcadia Round Barn - ECPv6.15.20//NONSGML v1.0//EN
CALSCALE:GREGORIAN
METHOD:PUBLISH
X-ORIGINAL-URL:https://arcadiaroundbarn.com
X-WR-CALDESC:Events for Arcadia Round Barn
REFRESH-INTERVAL;VALUE=DURATION:PT1H
X-Robots-Tag:noindex
X-PUBLISHED-TTL:PT1H
BEGIN:VTIMEZONE
TZID:America/Chicago
BEGIN:DAYLIGHT
TZOFFSETFROM:-0600
TZOFFSETTO:-0500
TZNAME:CDT
DTSTART:20190310T080000
END:DAYLIGHT
BEGIN:STANDARD
TZOFFSETFROM:-0500
TZOFFSETTO:-0600
TZNAME:CST
DTSTART:20191103T070000
END:STANDARD
BEGIN:DAYLIGHT
TZOFFSETFROM:-0600
TZOFFSETTO:-0500
TZNAME:CDT
DTSTART:20200308T080000
END:DAYLIGHT
BEGIN:STANDARD
TZOFFSETFROM:-0500
TZOFFSETTO:-0600
TZNAME:CST
DTSTART:20201101T070000
END:STANDARD
BEGIN:DAYLIGHT
TZOFFSETFROM:-0600
TZOFFSETTO:-0500
TZNAME:CDT
DTSTART:20210314T080000
END:DAYLIGHT
BEGIN:STANDARD
TZOFFSETFROM:-0500
TZOFFSETTO:-0600
TZNAME:CST
DTSTART:20211107T070000
END:STANDARD
BEGIN:DAYLIGHT
TZOFFSETFROM:-0600
TZOFFSETTO:-0500
TZNAME:CDT
DTSTART:20220313T080000
END:DAYLIGHT
BEGIN:STANDARD
TZOFFSETFROM:-0500
TZOFFSETTO:-0600
TZNAME:CST
DTSTART:20221106T070000
END:STANDARD
BEGIN:DAYLIGHT
TZOFFSETFROM:-0600
TZOFFSETTO:-0500
TZNAME:CDT
DTSTART:20230312T080000
END:DAYLIGHT
BEGIN:STANDARD
TZOFFSETFROM:-0500
TZOFFSETTO:-0600
TZNAME:CST
DTSTART:20231105T070000
END:STANDARD
BEGIN:DAYLIGHT
TZOFFSETFROM:-0600
TZOFFSETTO:-0500
TZNAME:CDT
DTSTART:20240310T080000
END:DAYLIGHT
BEGIN:STANDARD
TZOFFSETFROM:-0500
TZOFFSETTO:-0600
TZNAME:CST
DTSTART:20241103T070000
END:STANDARD
BEGIN:DAYLIGHT
TZOFFSETFROM:-0600
TZOFFSETTO:-0500
TZNAME:CDT
DTSTART:20250309T080000
END:DAYLIGHT
BEGIN:STANDARD
TZOFFSETFROM:-0500
TZOFFSETTO:-0600
TZNAME:CST
DTSTART:20251102T070000
END:STANDARD
END:VTIMEZONE
BEGIN:VEVENT
DTSTART;TZID=America/Chicago:20240810T103000
DTEND;TZID=America/Chicago:20240810T123000
DTSTAMP:20260425T072008
CREATED:20240219T174557Z
LAST-MODIFIED:20240219T175327Z
UID:10000219-1723285800-1723293000@arcadiaroundbarn.com
SUMMARY:Saturday Morning Music Sessions
DESCRIPTION:Live Acoustic Music – In the Gift Shopwith the Round Barn RamblersSaturdays / 10:30 AM – 12:30 PM
URL:https://arcadiaroundbarn.com/event/saturday-morning-music-sessions/2024-08-10/
CATEGORIES:Music,Saturday Morning Music Sessions
ATTACH;FMTTYPE=image/png:https://eadn-wc04-4235393.nxedge.io/wp-content/uploads/2022/03/THE-ROUND-BARN-RAMBLERS-sign.png
END:VEVENT
BEGIN:VEVENT
DTSTART;TZID=America/Chicago:20240803T103000
DTEND;TZID=America/Chicago:20240803T123000
DTSTAMP:20260425T072008
CREATED:20240219T174557Z
LAST-MODIFIED:20240219T175327Z
UID:10000218-1722681000-1722688200@arcadiaroundbarn.com
SUMMARY:Saturday Morning Music Sessions
DESCRIPTION:Live Acoustic Music – In the Gift Shopwith the Round Barn RamblersSaturdays / 10:30 AM – 12:30 PM
URL:https://arcadiaroundbarn.com/event/saturday-morning-music-sessions/2024-08-03/
CATEGORIES:Music,Saturday Morning Music Sessions
ATTACH;FMTTYPE=image/png:https://eadn-wc04-4235393.nxedge.io/wp-content/uploads/2022/03/THE-ROUND-BARN-RAMBLERS-sign.png
END:VEVENT
BEGIN:VEVENT
DTSTART;TZID=America/Chicago:20240727T103000
DTEND;TZID=America/Chicago:20240727T123000
DTSTAMP:20260425T072008
CREATED:20240219T174557Z
LAST-MODIFIED:20240219T175327Z
UID:10000217-1722076200-1722083400@arcadiaroundbarn.com
SUMMARY:Saturday Morning Music Sessions
DESCRIPTION:Live Acoustic Music – In the Gift Shopwith the Round Barn RamblersSaturdays / 10:30 AM – 12:30 PM
URL:https://arcadiaroundbarn.com/event/saturday-morning-music-sessions/2024-07-27/
CATEGORIES:Music,Saturday Morning Music Sessions
ATTACH;FMTTYPE=image/png:https://eadn-wc04-4235393.nxedge.io/wp-content/uploads/2022/03/THE-ROUND-BARN-RAMBLERS-sign.png
END:VEVENT
BEGIN:VEVENT
DTSTART;TZID=America/Chicago:20240720T103000
DTEND;TZID=America/Chicago:20240720T123000
DTSTAMP:20260425T072008
CREATED:20240219T174557Z
LAST-MODIFIED:20240219T175327Z
UID:10000216-1721471400-1721478600@arcadiaroundbarn.com
SUMMARY:Saturday Morning Music Sessions
DESCRIPTION:Live Acoustic Music – In the Gift Shopwith the Round Barn RamblersSaturdays / 10:30 AM – 12:30 PM
URL:https://arcadiaroundbarn.com/event/saturday-morning-music-sessions/2024-07-20/
CATEGORIES:Music,Saturday Morning Music Sessions
ATTACH;FMTTYPE=image/png:https://eadn-wc04-4235393.nxedge.io/wp-content/uploads/2022/03/THE-ROUND-BARN-RAMBLERS-sign.png
END:VEVENT
BEGIN:VEVENT
DTSTART;TZID=America/Chicago:20240713T103000
DTEND;TZID=America/Chicago:20240713T123000
DTSTAMP:20260425T072008
CREATED:20240219T174557Z
LAST-MODIFIED:20240219T175327Z
UID:10000215-1720866600-1720873800@arcadiaroundbarn.com
SUMMARY:Saturday Morning Music Sessions
DESCRIPTION:Live Acoustic Music – In the Gift Shopwith the Round Barn RamblersSaturdays / 10:30 AM – 12:30 PM
URL:https://arcadiaroundbarn.com/event/saturday-morning-music-sessions/2024-07-13/
CATEGORIES:Music,Saturday Morning Music Sessions
ATTACH;FMTTYPE=image/png:https://eadn-wc04-4235393.nxedge.io/wp-content/uploads/2022/03/THE-ROUND-BARN-RAMBLERS-sign.png
END:VEVENT
BEGIN:VEVENT
DTSTART;TZID=America/Chicago:20240706T103000
DTEND;TZID=America/Chicago:20240706T123000
DTSTAMP:20260425T072008
CREATED:20240219T174557Z
LAST-MODIFIED:20240219T175327Z
UID:10000214-1720261800-1720269000@arcadiaroundbarn.com
SUMMARY:Saturday Morning Music Sessions
DESCRIPTION:Live Acoustic Music – In the Gift Shopwith the Round Barn RamblersSaturdays / 10:30 AM – 12:30 PM
URL:https://arcadiaroundbarn.com/event/saturday-morning-music-sessions/2024-07-06/
CATEGORIES:Music,Saturday Morning Music Sessions
ATTACH;FMTTYPE=image/png:https://eadn-wc04-4235393.nxedge.io/wp-content/uploads/2022/03/THE-ROUND-BARN-RAMBLERS-sign.png
END:VEVENT
BEGIN:VEVENT
DTSTART;TZID=America/Chicago:20240629T103000
DTEND;TZID=America/Chicago:20240629T123000
DTSTAMP:20260425T072008
CREATED:20240219T174557Z
LAST-MODIFIED:20240219T175327Z
UID:10000213-1719657000-1719664200@arcadiaroundbarn.com
SUMMARY:Saturday Morning Music Sessions
DESCRIPTION:Live Acoustic Music – In the Gift Shopwith the Round Barn RamblersSaturdays / 10:30 AM – 12:30 PM
URL:https://arcadiaroundbarn.com/event/saturday-morning-music-sessions/2024-06-29/
CATEGORIES:Music,Saturday Morning Music Sessions
ATTACH;FMTTYPE=image/png:https://eadn-wc04-4235393.nxedge.io/wp-content/uploads/2022/03/THE-ROUND-BARN-RAMBLERS-sign.png
END:VEVENT
BEGIN:VEVENT
DTSTART;TZID=America/Chicago:20240622T103000
DTEND;TZID=America/Chicago:20240622T123000
DTSTAMP:20260425T072008
CREATED:20240219T174557Z
LAST-MODIFIED:20240219T175327Z
UID:10000212-1719052200-1719059400@arcadiaroundbarn.com
SUMMARY:Saturday Morning Music Sessions
DESCRIPTION:Live Acoustic Music – In the Gift Shopwith the Round Barn RamblersSaturdays / 10:30 AM – 12:30 PM
URL:https://arcadiaroundbarn.com/event/saturday-morning-music-sessions/2024-06-22/
CATEGORIES:Music,Saturday Morning Music Sessions
ATTACH;FMTTYPE=image/png:https://eadn-wc04-4235393.nxedge.io/wp-content/uploads/2022/03/THE-ROUND-BARN-RAMBLERS-sign.png
END:VEVENT
BEGIN:VEVENT
DTSTART;TZID=America/Chicago:20240615T103000
DTEND;TZID=America/Chicago:20240615T123000
DTSTAMP:20260425T072008
CREATED:20240219T174557Z
LAST-MODIFIED:20240219T175327Z
UID:10000211-1718447400-1718454600@arcadiaroundbarn.com
SUMMARY:Saturday Morning Music Sessions
DESCRIPTION:Live Acoustic Music – In the Gift Shopwith the Round Barn RamblersSaturdays / 10:30 AM – 12:30 PM
URL:https://arcadiaroundbarn.com/event/saturday-morning-music-sessions/2024-06-15/
CATEGORIES:Music,Saturday Morning Music Sessions
ATTACH;FMTTYPE=image/png:https://eadn-wc04-4235393.nxedge.io/wp-content/uploads/2022/03/THE-ROUND-BARN-RAMBLERS-sign.png
END:VEVENT
BEGIN:VEVENT
DTSTART;TZID=America/Chicago:20240608T103000
DTEND;TZID=America/Chicago:20240608T123000
DTSTAMP:20260425T072008
CREATED:20240219T174557Z
LAST-MODIFIED:20240219T175327Z
UID:10000210-1717842600-1717849800@arcadiaroundbarn.com
SUMMARY:Saturday Morning Music Sessions
DESCRIPTION:Live Acoustic Music – In the Gift Shopwith the Round Barn RamblersSaturdays / 10:30 AM – 12:30 PM
URL:https://arcadiaroundbarn.com/event/saturday-morning-music-sessions/2024-06-08/
CATEGORIES:Music,Saturday Morning Music Sessions
ATTACH;FMTTYPE=image/png:https://eadn-wc04-4235393.nxedge.io/wp-content/uploads/2022/03/THE-ROUND-BARN-RAMBLERS-sign.png
END:VEVENT
BEGIN:VEVENT
DTSTART;TZID=America/Chicago:20240601T103000
DTEND;TZID=America/Chicago:20240601T123000
DTSTAMP:20260425T072008
CREATED:20240219T174557Z
LAST-MODIFIED:20240219T175327Z
UID:10000209-1717237800-1717245000@arcadiaroundbarn.com
SUMMARY:Saturday Morning Music Sessions
DESCRIPTION:Live Acoustic Music – In the Gift Shopwith the Round Barn RamblersSaturdays / 10:30 AM – 12:30 PM
URL:https://arcadiaroundbarn.com/event/saturday-morning-music-sessions/2024-06-01/
CATEGORIES:Music,Saturday Morning Music Sessions
ATTACH;FMTTYPE=image/png:https://eadn-wc04-4235393.nxedge.io/wp-content/uploads/2022/03/THE-ROUND-BARN-RAMBLERS-sign.png
END:VEVENT
BEGIN:VEVENT
DTSTART;TZID=America/Chicago:20240525T103000
DTEND;TZID=America/Chicago:20240525T123000
DTSTAMP:20260425T072008
CREATED:20240219T174557Z
LAST-MODIFIED:20240219T175327Z
UID:10000208-1716633000-1716640200@arcadiaroundbarn.com
SUMMARY:Saturday Morning Music Sessions
DESCRIPTION:Live Acoustic Music – In the Gift Shopwith the Round Barn RamblersSaturdays / 10:30 AM – 12:30 PM
URL:https://arcadiaroundbarn.com/event/saturday-morning-music-sessions/2024-05-25/
CATEGORIES:Music,Saturday Morning Music Sessions
ATTACH;FMTTYPE=image/png:https://eadn-wc04-4235393.nxedge.io/wp-content/uploads/2022/03/THE-ROUND-BARN-RAMBLERS-sign.png
END:VEVENT
BEGIN:VEVENT
DTSTART;TZID=America/Chicago:20240518T103000
DTEND;TZID=America/Chicago:20240518T123000
DTSTAMP:20260425T072008
CREATED:20240219T174557Z
LAST-MODIFIED:20240219T175327Z
UID:10000207-1716028200-1716035400@arcadiaroundbarn.com
SUMMARY:Saturday Morning Music Sessions
DESCRIPTION:Live Acoustic Music – In the Gift Shopwith the Round Barn RamblersSaturdays / 10:30 AM – 12:30 PM
URL:https://arcadiaroundbarn.com/event/saturday-morning-music-sessions/2024-05-18/
CATEGORIES:Music,Saturday Morning Music Sessions
ATTACH;FMTTYPE=image/png:https://eadn-wc04-4235393.nxedge.io/wp-content/uploads/2022/03/THE-ROUND-BARN-RAMBLERS-sign.png
END:VEVENT
BEGIN:VEVENT
DTSTART;TZID=America/Chicago:20240511T103000
DTEND;TZID=America/Chicago:20240511T123000
DTSTAMP:20260425T072008
CREATED:20240219T174557Z
LAST-MODIFIED:20240219T175327Z
UID:10000206-1715423400-1715430600@arcadiaroundbarn.com
SUMMARY:Saturday Morning Music Sessions
DESCRIPTION:Live Acoustic Music – In the Gift Shopwith the Round Barn RamblersSaturdays / 10:30 AM – 12:30 PM
URL:https://arcadiaroundbarn.com/event/saturday-morning-music-sessions/2024-05-11/
CATEGORIES:Music,Saturday Morning Music Sessions
ATTACH;FMTTYPE=image/png:https://eadn-wc04-4235393.nxedge.io/wp-content/uploads/2022/03/THE-ROUND-BARN-RAMBLERS-sign.png
END:VEVENT
BEGIN:VEVENT
DTSTART;TZID=America/Chicago:20240504T103000
DTEND;TZID=America/Chicago:20240504T123000
DTSTAMP:20260425T072008
CREATED:20240219T174557Z
LAST-MODIFIED:20240219T175327Z
UID:10000205-1714818600-1714825800@arcadiaroundbarn.com
SUMMARY:Saturday Morning Music Sessions
DESCRIPTION:Live Acoustic Music – In the Gift Shopwith the Round Barn RamblersSaturdays / 10:30 AM – 12:30 PM
URL:https://arcadiaroundbarn.com/event/saturday-morning-music-sessions/2024-05-04/
CATEGORIES:Music,Saturday Morning Music Sessions
ATTACH;FMTTYPE=image/png:https://eadn-wc04-4235393.nxedge.io/wp-content/uploads/2022/03/THE-ROUND-BARN-RAMBLERS-sign.png
END:VEVENT
BEGIN:VEVENT
DTSTART;TZID=America/Chicago:20240427T103000
DTEND;TZID=America/Chicago:20240427T123000
DTSTAMP:20260425T072008
CREATED:20240219T174557Z
LAST-MODIFIED:20240219T175327Z
UID:10000204-1714213800-1714221000@arcadiaroundbarn.com
SUMMARY:Saturday Morning Music Sessions
DESCRIPTION:Live Acoustic Music – In the Gift Shopwith the Round Barn RamblersSaturdays / 10:30 AM – 12:30 PM
URL:https://arcadiaroundbarn.com/event/saturday-morning-music-sessions/2024-04-27/
CATEGORIES:Music,Saturday Morning Music Sessions
ATTACH;FMTTYPE=image/png:https://eadn-wc04-4235393.nxedge.io/wp-content/uploads/2022/03/THE-ROUND-BARN-RAMBLERS-sign.png
END:VEVENT
BEGIN:VEVENT
DTSTART;TZID=America/Chicago:20240420T103000
DTEND;TZID=America/Chicago:20240420T123000
DTSTAMP:20260425T072008
CREATED:20240219T174557Z
LAST-MODIFIED:20240219T175327Z
UID:10000203-1713609000-1713616200@arcadiaroundbarn.com
SUMMARY:Saturday Morning Music Sessions
DESCRIPTION:Live Acoustic Music – In the Gift Shopwith the Round Barn RamblersSaturdays / 10:30 AM – 12:30 PM
URL:https://arcadiaroundbarn.com/event/saturday-morning-music-sessions/2024-04-20/
CATEGORIES:Music,Saturday Morning Music Sessions
ATTACH;FMTTYPE=image/png:https://eadn-wc04-4235393.nxedge.io/wp-content/uploads/2022/03/THE-ROUND-BARN-RAMBLERS-sign.png
END:VEVENT
BEGIN:VEVENT
DTSTART;TZID=America/Chicago:20240413T103000
DTEND;TZID=America/Chicago:20240413T123000
DTSTAMP:20260425T072008
CREATED:20240219T174557Z
LAST-MODIFIED:20240219T175327Z
UID:10000202-1713004200-1713011400@arcadiaroundbarn.com
SUMMARY:Saturday Morning Music Sessions
DESCRIPTION:Live Acoustic Music – In the Gift Shopwith the Round Barn RamblersSaturdays / 10:30 AM – 12:30 PM
URL:https://arcadiaroundbarn.com/event/saturday-morning-music-sessions/2024-04-13/
CATEGORIES:Music,Saturday Morning Music Sessions
ATTACH;FMTTYPE=image/png:https://eadn-wc04-4235393.nxedge.io/wp-content/uploads/2022/03/THE-ROUND-BARN-RAMBLERS-sign.png
END:VEVENT
BEGIN:VEVENT
DTSTART;TZID=America/Chicago:20240406T103000
DTEND;TZID=America/Chicago:20240406T123000
DTSTAMP:20260425T072008
CREATED:20240219T174557Z
LAST-MODIFIED:20240219T175327Z
UID:10000201-1712399400-1712406600@arcadiaroundbarn.com
SUMMARY:Saturday Morning Music Sessions
DESCRIPTION:Live Acoustic Music – In the Gift Shopwith the Round Barn RamblersSaturdays / 10:30 AM – 12:30 PM
URL:https://arcadiaroundbarn.com/event/saturday-morning-music-sessions/2024-04-06/
CATEGORIES:Music,Saturday Morning Music Sessions
ATTACH;FMTTYPE=image/png:https://eadn-wc04-4235393.nxedge.io/wp-content/uploads/2022/03/THE-ROUND-BARN-RAMBLERS-sign.png
END:VEVENT
BEGIN:VEVENT
DTSTART;TZID=America/Chicago:20240330T103000
DTEND;TZID=America/Chicago:20240330T123000
DTSTAMP:20260425T072008
CREATED:20240219T174557Z
LAST-MODIFIED:20240219T175327Z
UID:10000200-1711794600-1711801800@arcadiaroundbarn.com
SUMMARY:Saturday Morning Music Sessions
DESCRIPTION:Live Acoustic Music – In the Gift Shopwith the Round Barn RamblersSaturdays / 10:30 AM – 12:30 PM
URL:https://arcadiaroundbarn.com/event/saturday-morning-music-sessions/2024-03-30/
CATEGORIES:Music,Saturday Morning Music Sessions
ATTACH;FMTTYPE=image/png:https://eadn-wc04-4235393.nxedge.io/wp-content/uploads/2022/03/THE-ROUND-BARN-RAMBLERS-sign.png
END:VEVENT
BEGIN:VEVENT
DTSTART;TZID=America/Chicago:20240323T103000
DTEND;TZID=America/Chicago:20240323T123000
DTSTAMP:20260425T072008
CREATED:20240219T174557Z
LAST-MODIFIED:20240219T175327Z
UID:10000199-1711189800-1711197000@arcadiaroundbarn.com
SUMMARY:Saturday Morning Music Sessions
DESCRIPTION:Live Acoustic Music – In the Gift Shopwith the Round Barn RamblersSaturdays / 10:30 AM – 12:30 PM
URL:https://arcadiaroundbarn.com/event/saturday-morning-music-sessions/2024-03-23/
CATEGORIES:Music,Saturday Morning Music Sessions
ATTACH;FMTTYPE=image/png:https://eadn-wc04-4235393.nxedge.io/wp-content/uploads/2022/03/THE-ROUND-BARN-RAMBLERS-sign.png
END:VEVENT
BEGIN:VEVENT
DTSTART;TZID=America/Chicago:20240316T103000
DTEND;TZID=America/Chicago:20240316T123000
DTSTAMP:20260425T072008
CREATED:20240219T174557Z
LAST-MODIFIED:20240219T175327Z
UID:10000198-1710585000-1710592200@arcadiaroundbarn.com
SUMMARY:Saturday Morning Music Sessions
DESCRIPTION:Live Acoustic Music – In the Gift Shopwith the Round Barn RamblersSaturdays / 10:30 AM – 12:30 PM
URL:https://arcadiaroundbarn.com/event/saturday-morning-music-sessions/2024-03-16/
CATEGORIES:Music,Saturday Morning Music Sessions
ATTACH;FMTTYPE=image/png:https://eadn-wc04-4235393.nxedge.io/wp-content/uploads/2022/03/THE-ROUND-BARN-RAMBLERS-sign.png
END:VEVENT
BEGIN:VEVENT
DTSTART;TZID=America/Chicago:20240309T103000
DTEND;TZID=America/Chicago:20240309T123000
DTSTAMP:20260425T072008
CREATED:20240219T174557Z
LAST-MODIFIED:20240219T175327Z
UID:10000197-1709980200-1709987400@arcadiaroundbarn.com
SUMMARY:Saturday Morning Music Sessions
DESCRIPTION:Live Acoustic Music – In the Gift Shopwith the Round Barn RamblersSaturdays / 10:30 AM – 12:30 PM
URL:https://arcadiaroundbarn.com/event/saturday-morning-music-sessions/2024-03-09/
CATEGORIES:Music,Saturday Morning Music Sessions
ATTACH;FMTTYPE=image/png:https://eadn-wc04-4235393.nxedge.io/wp-content/uploads/2022/03/THE-ROUND-BARN-RAMBLERS-sign.png
END:VEVENT
BEGIN:VEVENT
DTSTART;TZID=America/Chicago:20240302T103000
DTEND;TZID=America/Chicago:20240302T123000
DTSTAMP:20260425T072008
CREATED:20240219T174557Z
LAST-MODIFIED:20240219T175327Z
UID:10000196-1709375400-1709382600@arcadiaroundbarn.com
SUMMARY:Saturday Morning Music Sessions
DESCRIPTION:Live Acoustic Music – In the Gift Shopwith the Round Barn RamblersSaturdays / 10:30 AM – 12:30 PM
URL:https://arcadiaroundbarn.com/event/saturday-morning-music-sessions/2024-03-02/
CATEGORIES:Music,Saturday Morning Music Sessions
ATTACH;FMTTYPE=image/png:https://eadn-wc04-4235393.nxedge.io/wp-content/uploads/2022/03/THE-ROUND-BARN-RAMBLERS-sign.png
END:VEVENT
BEGIN:VEVENT
DTSTART;TZID=America/Chicago:20240224T103000
DTEND;TZID=America/Chicago:20240224T123000
DTSTAMP:20260425T072008
CREATED:20240219T174557Z
LAST-MODIFIED:20240219T175327Z
UID:10000195-1708770600-1708777800@arcadiaroundbarn.com
SUMMARY:Saturday Morning Music Sessions
DESCRIPTION:Live Acoustic Music – In the Gift Shopwith the Round Barn RamblersSaturdays / 10:30 AM – 12:30 PM
URL:https://arcadiaroundbarn.com/event/saturday-morning-music-sessions/2024-02-24/
CATEGORIES:Music,Saturday Morning Music Sessions
ATTACH;FMTTYPE=image/png:https://eadn-wc04-4235393.nxedge.io/wp-content/uploads/2022/03/THE-ROUND-BARN-RAMBLERS-sign.png
END:VEVENT
BEGIN:VEVENT
DTSTART;TZID=America/Chicago:20220702T103000
DTEND;TZID=America/Chicago:20220702T130000
DTSTAMP:20260425T072008
CREATED:20220301T221014Z
LAST-MODIFIED:20240216T200942Z
UID:10000014-1656757800-1656766800@arcadiaroundbarn.com
SUMMARY:Saturday Morning Music Sessions
DESCRIPTION:Live Acoustic Music — The Round Barn Ramblers \n\n\n\nSaturday Morning Music Sessions take place at 10:30A.M. to 1:00P.M. every Saturday\, yearlong\, and feature bluegrass and acoustic string band music by the Round Barn’s own Round Barn Ramblers. \n\n\n\nThe Ramblers will be relocating a block east down the Arcadia farmers Market for the remainder of Summer Season\, weather permitting. The Ramblers will set up in the shade on Saturday mornings\, from 10AM to Noon to provide fun bluegrass and string band music and to represent The Round Barn for Farmers Market visitors. \n\n\n\nSponsored By The Arcadia Historical & Preservation Society \n\n\n\n\n\n\nSummer Location – Weather Permitting
URL:https://arcadiaroundbarn.com/event/saturday-morning-music-sessions-2022-11-19-2022-07-02/
LOCATION:Arcadia Outdoor Farmer’s Market\, Route 66 and Division Street\, Arcadia\, OK\, 73007\, United States
CATEGORIES:Music,Saturday Morning Music Sessions
ATTACH;FMTTYPE=image/png:https://eadn-wc04-4235393.nxedge.io/wp-content/uploads/2022/03/THE-ROUND-BARN-RAMBLERS-sign.png
END:VEVENT
BEGIN:VEVENT
DTSTART;TZID=America/Chicago:20201024T103000
DTEND;TZID=America/Chicago:20201024T123000
DTSTAMP:20260425T072008
CREATED:20200922T145624Z
LAST-MODIFIED:20240216T200943Z
UID:10000027-1603535400-1603542600@arcadiaroundbarn.com
SUMMARY:Janice Francis Smith — Saturday Morning Music Sessions
DESCRIPTION:Sponsored by the Arcadia Historical & Preservation Society. All shows are outdoors\, weather permitting. Donations are appreciated. Shows are FREE to the public.
URL:https://arcadiaroundbarn.com/event/janice-francis-smith-saturday-morning-music-sessions/
LOCATION:Arcadia Round Barn\, 107 OK-66\, Arcadia\, OK\, 73034\, United States
CATEGORIES:Music,Saturday Morning Music Sessions
END:VEVENT
BEGIN:VEVENT
DTSTART;TZID=America/Chicago:20201017T103000
DTEND;TZID=America/Chicago:20201017T123000
DTSTAMP:20260425T072008
CREATED:20200701T201358Z
LAST-MODIFIED:20240216T200943Z
UID:10000029-1602930600-1602937800@arcadiaroundbarn.com
SUMMARY:Dan Seibert — Saturday Morning Music Sessions
DESCRIPTION:Sponsored by the Arcadia Historical & Preservation Society. All shows are outdoors\, weather permitting. Donations are appreciated. Shows are FREE to the public.
URL:https://arcadiaroundbarn.com/event/dan-seibert-saturday-morning-music-sessions/
LOCATION:Arcadia Round Barn\, 107 OK-66\, Arcadia\, OK\, 73034\, United States
CATEGORIES:Music,Saturday Morning Music Sessions
END:VEVENT
BEGIN:VEVENT
DTSTART;TZID=America/Chicago:20201010T103000
DTEND;TZID=America/Chicago:20201010T123000
DTSTAMP:20260425T072008
CREATED:20200701T201256Z
LAST-MODIFIED:20240216T200943Z
UID:10000024-1602325800-1602333000@arcadiaroundbarn.com
SUMMARY:Middle Sister — Saturday Morning Music Sessions
DESCRIPTION:Sponsored by the Arcadia Historical & Preservation Society. All shows are outdoors\, weather permitting. Donations are appreciated. Shows are FREE to the public.
URL:https://arcadiaroundbarn.com/event/middle-sister-saturday-morning-music-sessions/
LOCATION:Arcadia Round Barn\, 107 OK-66\, Arcadia\, OK\, 73034\, United States
CATEGORIES:Music,Saturday Morning Music Sessions
ATTACH;FMTTYPE=image/jpeg:https://eadn-wc04-4235393.nxedge.io/wp-content/uploads/2020/07/middle-sister.jpeg
END:VEVENT
BEGIN:VEVENT
DTSTART;TZID=America/Chicago:20201003T103000
DTEND;TZID=America/Chicago:20201003T123000
DTSTAMP:20260425T072008
CREATED:20200701T201158Z
LAST-MODIFIED:20240216T200943Z
UID:10000023-1601721000-1601728200@arcadiaroundbarn.com
SUMMARY:Ben & Alycia Goeke — Saturday Morning Music Sessions
DESCRIPTION:Sponsored by the Arcadia Historical & Preservation Society. All shows are outdoors\, weather permitting. Donations are appreciated. Shows are FREE to the public.
URL:https://arcadiaroundbarn.com/event/ben-alycia-goeke-saturday-morning-music-sessions/
LOCATION:Arcadia Round Barn\, 107 OK-66\, Arcadia\, OK\, 73034\, United States
CATEGORIES:Music,Saturday Morning Music Sessions
END:VEVENT
END:VCALENDAR