BEGIN:VCALENDAR
VERSION:2.0
PRODID:-//Arcadia Round Barn - ECPv6.15.20//NONSGML v1.0//EN
CALSCALE:GREGORIAN
METHOD:PUBLISH
X-WR-CALNAME:Arcadia Round Barn
X-ORIGINAL-URL:https://arcadiaroundbarn.com
X-WR-CALDESC:Events for Arcadia Round Barn
REFRESH-INTERVAL;VALUE=DURATION:PT1H
X-Robots-Tag:noindex
X-PUBLISHED-TTL:PT1H
BEGIN:VTIMEZONE
TZID:America/Chicago
BEGIN:DAYLIGHT
TZOFFSETFROM:-0600
TZOFFSETTO:-0500
TZNAME:CDT
DTSTART:20240310T080000
END:DAYLIGHT
BEGIN:STANDARD
TZOFFSETFROM:-0500
TZOFFSETTO:-0600
TZNAME:CST
DTSTART:20241103T070000
END:STANDARD
BEGIN:DAYLIGHT
TZOFFSETFROM:-0600
TZOFFSETTO:-0500
TZNAME:CDT
DTSTART:20250309T080000
END:DAYLIGHT
BEGIN:STANDARD
TZOFFSETFROM:-0500
TZOFFSETTO:-0600
TZNAME:CST
DTSTART:20251102T070000
END:STANDARD
BEGIN:DAYLIGHT
TZOFFSETFROM:-0600
TZOFFSETTO:-0500
TZNAME:CDT
DTSTART:20260308T080000
END:DAYLIGHT
BEGIN:STANDARD
TZOFFSETFROM:-0500
TZOFFSETTO:-0600
TZNAME:CST
DTSTART:20261101T070000
END:STANDARD
END:VTIMEZONE
BEGIN:VEVENT
DTSTART;TZID=America/Chicago:20251101T103000
DTEND;TZID=America/Chicago:20251101T123000
DTSTAMP:20260424T115059
CREATED:20250113T225724Z
LAST-MODIFIED:20250811T213109Z
UID:10000317-1761993000-1762000200@arcadiaroundbarn.com
SUMMARY:Saturday Morning Music Sessions
DESCRIPTION:“Saturday Morning Music Sessions” features revolving weekly acoustic music performances by guest musicians\, by our own house bands\, Joe Baxter & The Lost Cause\, and the Round Barn Music’s new project\, “The RoundAbouts”. There is a professional invite-only songwriters group that meets monthly on 4th Saturdays. The Public is Invited to ALL music events.
URL:https://arcadiaroundbarn.com/event/saturday-morning-music-sessions-2/2025-11-01/
LOCATION:Arcadia Round Barn\, 107 OK-66\, Arcadia\, OK\, 73034\, United States
CATEGORIES:Music
ATTACH;FMTTYPE=image/jpeg:https://eadn-wc04-4235393.nxedge.io/wp-content/uploads/2025/01/Saturday-Morning-Music-Sessions-logo-idea_SM.jpg
END:VEVENT
BEGIN:VEVENT
DTSTART;TZID=America/Chicago:20251108T103000
DTEND;TZID=America/Chicago:20251108T123000
DTSTAMP:20260424T115059
CREATED:20250113T225724Z
LAST-MODIFIED:20250811T213109Z
UID:10000318-1762597800-1762605000@arcadiaroundbarn.com
SUMMARY:Saturday Morning Music Sessions
DESCRIPTION:“Saturday Morning Music Sessions” features revolving weekly acoustic music performances by guest musicians\, by our own house bands\, Joe Baxter & The Lost Cause\, and the Round Barn Music’s new project\, “The RoundAbouts”. There is a professional invite-only songwriters group that meets monthly on 4th Saturdays. The Public is Invited to ALL music events.
URL:https://arcadiaroundbarn.com/event/saturday-morning-music-sessions-2/2025-11-08/
LOCATION:Arcadia Round Barn\, 107 OK-66\, Arcadia\, OK\, 73034\, United States
CATEGORIES:Music
ATTACH;FMTTYPE=image/jpeg:https://eadn-wc04-4235393.nxedge.io/wp-content/uploads/2025/01/Saturday-Morning-Music-Sessions-logo-idea_SM.jpg
END:VEVENT
BEGIN:VEVENT
DTSTART;TZID=America/Chicago:20251109T120000
DTEND;TZID=America/Chicago:20251109T160000
DTSTAMP:20260424T115059
CREATED:20250218T161346Z
LAST-MODIFIED:20250218T161643Z
UID:10000137-1762689600-1762704000@arcadiaroundbarn.com
SUMMARY:Round Barn Rendezvous
DESCRIPTION:Round Barn Rendezvous Open JamFree \n\n\n\n\n\n\n\n2ND SUNDAY EVERY MONTHAll Acoustic Musicians Welcome. \n\n\n\nGET YOUR KICKS ON HISTORIC ROUTE 66 (107 E. HIGHWAY 66 ‹ ARCADIA\, OK)
URL:https://arcadiaroundbarn.com/event/round-barn-rendezvous-8/2025-11-09/
LOCATION:Arcadia Round Barn\, 107 OK-66\, Arcadia\, OK\, 73034\, United States
CATEGORIES:Music,Round Barn Rendezvous
ATTACH;FMTTYPE=image/jpeg:https://eadn-wc04-4235393.nxedge.io/wp-content/uploads/2025/04/Round-Barn-Rendezvous-LOGO_simplified_May-4_SM-1.jpg
END:VEVENT
BEGIN:VEVENT
DTSTART;TZID=America/Chicago:20251115T103000
DTEND;TZID=America/Chicago:20251115T123000
DTSTAMP:20260424T115059
CREATED:20250113T225724Z
LAST-MODIFIED:20250811T213109Z
UID:10000319-1763202600-1763209800@arcadiaroundbarn.com
SUMMARY:Saturday Morning Music Sessions
DESCRIPTION:“Saturday Morning Music Sessions” features revolving weekly acoustic music performances by guest musicians\, by our own house bands\, Joe Baxter & The Lost Cause\, and the Round Barn Music’s new project\, “The RoundAbouts”. There is a professional invite-only songwriters group that meets monthly on 4th Saturdays. The Public is Invited to ALL music events.
URL:https://arcadiaroundbarn.com/event/saturday-morning-music-sessions-2/2025-11-15/
LOCATION:Arcadia Round Barn\, 107 OK-66\, Arcadia\, OK\, 73034\, United States
CATEGORIES:Music
ATTACH;FMTTYPE=image/jpeg:https://eadn-wc04-4235393.nxedge.io/wp-content/uploads/2025/01/Saturday-Morning-Music-Sessions-logo-idea_SM.jpg
END:VEVENT
BEGIN:VEVENT
DTSTART;TZID=America/Chicago:20251122T103000
DTEND;TZID=America/Chicago:20251122T123000
DTSTAMP:20260424T115059
CREATED:20250113T225724Z
LAST-MODIFIED:20250811T213109Z
UID:10000320-1763807400-1763814600@arcadiaroundbarn.com
SUMMARY:Saturday Morning Music Sessions
DESCRIPTION:“Saturday Morning Music Sessions” features revolving weekly acoustic music performances by guest musicians\, by our own house bands\, Joe Baxter & The Lost Cause\, and the Round Barn Music’s new project\, “The RoundAbouts”. There is a professional invite-only songwriters group that meets monthly on 4th Saturdays. The Public is Invited to ALL music events.
URL:https://arcadiaroundbarn.com/event/saturday-morning-music-sessions-2/2025-11-22/
LOCATION:Arcadia Round Barn\, 107 OK-66\, Arcadia\, OK\, 73034\, United States
CATEGORIES:Music
ATTACH;FMTTYPE=image/jpeg:https://eadn-wc04-4235393.nxedge.io/wp-content/uploads/2025/01/Saturday-Morning-Music-Sessions-logo-idea_SM.jpg
END:VEVENT
BEGIN:VEVENT
DTSTART;TZID=America/Chicago:20251129T103000
DTEND;TZID=America/Chicago:20251129T123000
DTSTAMP:20260424T115059
CREATED:20250113T225724Z
LAST-MODIFIED:20250811T213109Z
UID:10000321-1764412200-1764419400@arcadiaroundbarn.com
SUMMARY:Saturday Morning Music Sessions
DESCRIPTION:“Saturday Morning Music Sessions” features revolving weekly acoustic music performances by guest musicians\, by our own house bands\, Joe Baxter & The Lost Cause\, and the Round Barn Music’s new project\, “The RoundAbouts”. There is a professional invite-only songwriters group that meets monthly on 4th Saturdays. The Public is Invited to ALL music events.
URL:https://arcadiaroundbarn.com/event/saturday-morning-music-sessions-2/2025-11-29/
LOCATION:Arcadia Round Barn\, 107 OK-66\, Arcadia\, OK\, 73034\, United States
CATEGORIES:Music
ATTACH;FMTTYPE=image/jpeg:https://eadn-wc04-4235393.nxedge.io/wp-content/uploads/2025/01/Saturday-Morning-Music-Sessions-logo-idea_SM.jpg
END:VEVENT
BEGIN:VEVENT
DTSTART;TZID=America/Chicago:20251130T130000
DTEND;TZID=America/Chicago:20251130T150000
DTSTAMP:20260424T115059
CREATED:20250113T222650Z
LAST-MODIFIED:20250610T223335Z
UID:10000249-1764507600-1764514800@arcadiaroundbarn.com
SUMMARY:Elm Tree Concerts
DESCRIPTION:Live Acoustic Shows / In the Shade \n\n\n\nSponsored by The Arcadia Historical & Preservation Society
URL:https://arcadiaroundbarn.com/event/elm-tree-concerts-16/2025-11-30/
LOCATION:Arcadia Round Barn\, 107 OK-66\, Arcadia\, OK\, 73034\, United States
CATEGORIES:Elm Tree Concerts,Live Concerts,Music
ATTACH;FMTTYPE=image/jpeg:https://eadn-wc04-4235393.nxedge.io/wp-content/uploads/2025/06/Elm-Tree-Concerts-logo_with-Arcadia-Round-Barn-TYPE_April-23_2025_flat.jpeg
END:VEVENT
END:VCALENDAR