BEGIN:VCALENDAR
VERSION:2.0
PRODID:-//Arcadia Round Barn - ECPv6.15.20//NONSGML v1.0//EN
CALSCALE:GREGORIAN
METHOD:PUBLISH
X-WR-CALNAME:Arcadia Round Barn
X-ORIGINAL-URL:https://arcadiaroundbarn.com
X-WR-CALDESC:Events for Arcadia Round Barn
REFRESH-INTERVAL;VALUE=DURATION:PT1H
X-Robots-Tag:noindex
X-PUBLISHED-TTL:PT1H
BEGIN:VTIMEZONE
TZID:America/Chicago
BEGIN:DAYLIGHT
TZOFFSETFROM:-0600
TZOFFSETTO:-0500
TZNAME:CDT
DTSTART:20250309T080000
END:DAYLIGHT
BEGIN:STANDARD
TZOFFSETFROM:-0500
TZOFFSETTO:-0600
TZNAME:CST
DTSTART:20251102T070000
END:STANDARD
BEGIN:DAYLIGHT
TZOFFSETFROM:-0600
TZOFFSETTO:-0500
TZNAME:CDT
DTSTART:20260308T080000
END:DAYLIGHT
BEGIN:STANDARD
TZOFFSETFROM:-0500
TZOFFSETTO:-0600
TZNAME:CST
DTSTART:20261101T070000
END:STANDARD
BEGIN:DAYLIGHT
TZOFFSETFROM:-0600
TZOFFSETTO:-0500
TZNAME:CDT
DTSTART:20270314T080000
END:DAYLIGHT
BEGIN:STANDARD
TZOFFSETFROM:-0500
TZOFFSETTO:-0600
TZNAME:CST
DTSTART:20271107T070000
END:STANDARD
END:VTIMEZONE
BEGIN:VEVENT
DTSTART;TZID=America/Chicago:20260726T130000
DTEND;TZID=America/Chicago:20260726T150000
DTSTAMP:20260425T071755
CREATED:20260211T205203Z
LAST-MODIFIED:20260211T205205Z
UID:10000257-1785070800-1785078000@arcadiaroundbarn.com
SUMMARY:The McKedys concert — Good Country Music
DESCRIPTION:Live Acoustic Shows / In the Shade \n\n\n\nSponsored by The Arcadia Historical & Preservation Society
URL:https://arcadiaroundbarn.com/event/the-mckedys-concert-good-country-music/
LOCATION:Arcadia Round Barn\, 107 OK-66\, Arcadia\, OK\, 73034\, United States
CATEGORIES:Elm Tree Concerts,Live Concerts,Music
ATTACH;FMTTYPE=image/jpeg:https://eadn-wc04-4235393.nxedge.io/wp-content/uploads/2025/06/Elm-Tree-Concerts-logo_with-Arcadia-Round-Barn-TYPE_April-23_2025_flat.jpeg
END:VEVENT
BEGIN:VEVENT
DTSTART;TZID=America/Chicago:20260802T130000
DTEND;TZID=America/Chicago:20260802T150000
DTSTAMP:20260425T071755
CREATED:20260211T205203Z
LAST-MODIFIED:20260211T205517Z
UID:10000510-1785675600-1785682800@arcadiaroundbarn.com
SUMMARY:Mary Battiata concert — Progressive Country
DESCRIPTION:Live Acoustic Shows / In the Shade \n\n\n\nSponsored by The Arcadia Historical & Preservation Society
URL:https://arcadiaroundbarn.com/event/mary-battiata-concert-progressive-country/
LOCATION:Arcadia Round Barn\, 107 OK-66\, Arcadia\, OK\, 73034\, United States
CATEGORIES:Elm Tree Concerts,Live Concerts,Music
ATTACH;FMTTYPE=image/jpeg:https://eadn-wc04-4235393.nxedge.io/wp-content/uploads/2025/06/Elm-Tree-Concerts-logo_with-Arcadia-Round-Barn-TYPE_April-23_2025_flat.jpeg
END:VEVENT
BEGIN:VEVENT
DTSTART;TZID=America/Chicago:20260816T130000
DTEND;TZID=America/Chicago:20260816T150000
DTSTAMP:20260425T071755
CREATED:20260211T205203Z
LAST-MODIFIED:20260211T210056Z
UID:10000512-1786885200-1786892400@arcadiaroundbarn.com
SUMMARY:Middle Sister concert — Acoustic Duo
DESCRIPTION:Live Acoustic Shows / In the Shade \n\n\n\nSponsored by The Arcadia Historical & Preservation Society
URL:https://arcadiaroundbarn.com/event/middle-sister-concert-acoustic-duo/
LOCATION:Arcadia Round Barn\, 107 OK-66\, Arcadia\, OK\, 73034\, United States
CATEGORIES:Elm Tree Concerts,Live Concerts,Music
ATTACH;FMTTYPE=image/jpeg:https://eadn-wc04-4235393.nxedge.io/wp-content/uploads/2025/06/Elm-Tree-Concerts-logo_with-Arcadia-Round-Barn-TYPE_April-23_2025_flat.jpeg
END:VEVENT
BEGIN:VEVENT
DTSTART;TZID=America/Chicago:20260823T130000
DTEND;TZID=America/Chicago:20260823T150000
DTSTAMP:20260425T071755
CREATED:20260211T205203Z
LAST-MODIFIED:20260211T205952Z
UID:10000511-1787490000-1787497200@arcadiaroundbarn.com
SUMMARY:The Variables concert — Tulsa Roots
DESCRIPTION:Live Acoustic Shows / In the Shade \n\n\n\nSponsored by The Arcadia Historical & Preservation Society
URL:https://arcadiaroundbarn.com/event/the-variables-concert-tulsa-roots/
LOCATION:Arcadia Round Barn\, 107 OK-66\, Arcadia\, OK\, 73034\, United States
CATEGORIES:Elm Tree Concerts,Live Concerts,Music
ATTACH;FMTTYPE=image/jpeg:https://eadn-wc04-4235393.nxedge.io/wp-content/uploads/2025/06/Elm-Tree-Concerts-logo_with-Arcadia-Round-Barn-TYPE_April-23_2025_flat.jpeg
END:VEVENT
BEGIN:VEVENT
DTSTART;TZID=America/Chicago:20260830T130000
DTEND;TZID=America/Chicago:20260830T150000
DTSTAMP:20260425T071755
CREATED:20260211T210156Z
LAST-MODIFIED:20260211T210157Z
UID:10000258-1788094800-1788102000@arcadiaroundbarn.com
SUMMARY:Susan Herndon concert — Songwriter
DESCRIPTION:Live Acoustic Shows / In the Shade \n\n\n\nSponsored by The Arcadia Historical & Preservation Society
URL:https://arcadiaroundbarn.com/event/susan-herndon-concert-songwriter/
LOCATION:Arcadia Round Barn\, 107 OK-66\, Arcadia\, OK\, 73034\, United States
CATEGORIES:Elm Tree Concerts,Live Concerts,Music
ATTACH;FMTTYPE=image/jpeg:https://eadn-wc04-4235393.nxedge.io/wp-content/uploads/2025/06/Elm-Tree-Concerts-logo_with-Arcadia-Round-Barn-TYPE_April-23_2025_flat.jpeg
END:VEVENT
BEGIN:VEVENT
DTSTART;TZID=America/Chicago:20260906T130000
DTEND;TZID=America/Chicago:20260906T150000
DTSTAMP:20260425T071755
CREATED:20260211T210156Z
LAST-MODIFIED:20260211T210725Z
UID:10000513-1788699600-1788706800@arcadiaroundbarn.com
SUMMARY:Talk of the Town — Big Band Swing — Labor Day Concert
DESCRIPTION:Live Acoustic Shows / In the Shade \n\n\n\nSponsored by The Arcadia Historical & Preservation Society
URL:https://arcadiaroundbarn.com/event/talk-of-the-town-big-band-swing-labor-day-concert/
LOCATION:Arcadia Round Barn\, 107 OK-66\, Arcadia\, OK\, 73034\, United States
CATEGORIES:Elm Tree Concerts,Live Concerts,Music
ATTACH;FMTTYPE=image/jpeg:https://eadn-wc04-4235393.nxedge.io/wp-content/uploads/2025/06/Elm-Tree-Concerts-logo_with-Arcadia-Round-Barn-TYPE_April-23_2025_flat.jpeg
END:VEVENT
BEGIN:VEVENT
DTSTART;TZID=America/Chicago:20260920T130000
DTEND;TZID=America/Chicago:20260920T150000
DTSTAMP:20260425T071755
CREATED:20260211T210156Z
LAST-MODIFIED:20260211T211108Z
UID:10000514-1789909200-1789916400@arcadiaroundbarn.com
SUMMARY:Miss Brown To You concert — Folk & Jazz Duo
DESCRIPTION:Live Acoustic Shows / In the Shade \n\n\n\nSponsored by The Arcadia Historical & Preservation Society
URL:https://arcadiaroundbarn.com/event/miss-brown-to-you-concert-folk-jazz-duo/
LOCATION:Arcadia Round Barn\, 107 OK-66\, Arcadia\, OK\, 73034\, United States
CATEGORIES:Elm Tree Concerts,Live Concerts,Music
ATTACH;FMTTYPE=image/jpeg:https://eadn-wc04-4235393.nxedge.io/wp-content/uploads/2025/06/Elm-Tree-Concerts-logo_with-Arcadia-Round-Barn-TYPE_April-23_2025_flat.jpeg
END:VEVENT
BEGIN:VEVENT
DTSTART;TZID=America/Chicago:20260927T130000
DTEND;TZID=America/Chicago:20260927T150000
DTSTAMP:20260425T071755
CREATED:20260211T211214Z
LAST-MODIFIED:20260211T211215Z
UID:10000259-1790514000-1790521200@arcadiaroundbarn.com
SUMMARY:The Sunday Flyers concert — Original Folk Rock
DESCRIPTION:Live Acoustic Shows / In the Shade \n\n\n\nSponsored by The Arcadia Historical & Preservation Society
URL:https://arcadiaroundbarn.com/event/the-sunday-flyers-concert-original-folk-rock/
LOCATION:Arcadia Round Barn\, 107 OK-66\, Arcadia\, OK\, 73034\, United States
CATEGORIES:Elm Tree Concerts,Live Concerts,Music
ATTACH;FMTTYPE=image/jpeg:https://eadn-wc04-4235393.nxedge.io/wp-content/uploads/2025/06/Elm-Tree-Concerts-logo_with-Arcadia-Round-Barn-TYPE_April-23_2025_flat.jpeg
END:VEVENT
END:VCALENDAR