BEGIN:VCALENDAR
VERSION:2.0
PRODID:-//Arcadia Round Barn - ECPv6.15.20//NONSGML v1.0//EN
CALSCALE:GREGORIAN
METHOD:PUBLISH
X-WR-CALNAME:Arcadia Round Barn
X-ORIGINAL-URL:https://arcadiaroundbarn.com
X-WR-CALDESC:Events for Arcadia Round Barn
REFRESH-INTERVAL;VALUE=DURATION:PT1H
X-Robots-Tag:noindex
X-PUBLISHED-TTL:PT1H
BEGIN:VTIMEZONE
TZID:America/Chicago
BEGIN:DAYLIGHT
TZOFFSETFROM:-0600
TZOFFSETTO:-0500
TZNAME:CDT
DTSTART:20240310T080000
END:DAYLIGHT
BEGIN:STANDARD
TZOFFSETFROM:-0500
TZOFFSETTO:-0600
TZNAME:CST
DTSTART:20241103T070000
END:STANDARD
BEGIN:DAYLIGHT
TZOFFSETFROM:-0600
TZOFFSETTO:-0500
TZNAME:CDT
DTSTART:20250309T080000
END:DAYLIGHT
BEGIN:STANDARD
TZOFFSETFROM:-0500
TZOFFSETTO:-0600
TZNAME:CST
DTSTART:20251102T070000
END:STANDARD
BEGIN:DAYLIGHT
TZOFFSETFROM:-0600
TZOFFSETTO:-0500
TZNAME:CDT
DTSTART:20260308T080000
END:DAYLIGHT
BEGIN:STANDARD
TZOFFSETFROM:-0500
TZOFFSETTO:-0600
TZNAME:CST
DTSTART:20261101T070000
END:STANDARD
END:VTIMEZONE
BEGIN:VEVENT
DTSTART;TZID=America/Chicago:20251008T173000
DTEND;TZID=America/Chicago:20251008T213000
DTSTAMP:20260423T144443
CREATED:20250520T194517Z
LAST-MODIFIED:20250926T153150Z
UID:10000494-1759944600-1759959000@arcadiaroundbarn.com
SUMMARY:Classic Americana Road Show — Dance & Concert
DESCRIPTION:Do you like the exciting history and culture of Route 66? Then Join us for the “Classic Americana Roadshow” on Wednesday\, OCTOBER 8\, 2025 at the Round Barn on Route 66! \n\n\n\nWe’re having a fun\, family friendly event with a live band\, line dancing\, wholesome entertainment. You don’t have to be a great dancer to join the fun. Be part of a great\, entertaining Route 66 event. Some will enjoy the dancing\, others will enjoy the music\, some will enjoy the classic cars! All are welcome visit the Round Barn from 5:30 p.m. until 9:30 p.m. \n\n\n\nThis roadshow stops in the different communities along Route 66 from Chicago to Los Angeles during the month of October.  During a 14-day journey of planned and spontaneous stops along the Mother Road by drivers of classic and vintage motor vehicles. \n\n\n\nEach evening\, there will be a car rally\, Americana exhibition and dance party that will combine elements of a traveling show with the local flavor of each town where travelers will rest for the night.  \n\n\n\nJOIN US at the Arcadia Round Barn on Wednesday\, October 8th for dancing\, live music and car show! One night only Wednesday October 8th!  \n\n\n\nThe Round Barn107 E. Highway 66Arcadia\, OK 73007 \n\n\n\nFor more information\, contact Andrea Moon Round Barn events (405) 822-6156‬. \n\n\n\nClassic American Road Show\n\nFacebook
URL:https://arcadiaroundbarn.com/event/classic-americana-road-show-dance-concert/
LOCATION:OK
CATEGORIES:Annual Event
ATTACH;FMTTYPE=image/png:https://eadn-wc04-4235393.nxedge.io/wp-content/uploads/2025/09/Round-Barn-Classic-American-Road-Show-Logo.png
END:VEVENT
END:VCALENDAR