BEGIN:VCALENDAR
VERSION:2.0
PRODID:-//Arcadia Round Barn - ECPv6.15.20//NONSGML v1.0//EN
CALSCALE:GREGORIAN
METHOD:PUBLISH
X-ORIGINAL-URL:https://arcadiaroundbarn.com
X-WR-CALDESC:Events for Arcadia Round Barn
REFRESH-INTERVAL;VALUE=DURATION:PT1H
X-Robots-Tag:noindex
X-PUBLISHED-TTL:PT1H
BEGIN:VTIMEZONE
TZID:America/Chicago
BEGIN:DAYLIGHT
TZOFFSETFROM:-0600
TZOFFSETTO:-0500
TZNAME:CDT
DTSTART:20240310T080000
END:DAYLIGHT
BEGIN:STANDARD
TZOFFSETFROM:-0500
TZOFFSETTO:-0600
TZNAME:CST
DTSTART:20241103T070000
END:STANDARD
BEGIN:DAYLIGHT
TZOFFSETFROM:-0600
TZOFFSETTO:-0500
TZNAME:CDT
DTSTART:20250309T080000
END:DAYLIGHT
BEGIN:STANDARD
TZOFFSETFROM:-0500
TZOFFSETTO:-0600
TZNAME:CST
DTSTART:20251102T070000
END:STANDARD
BEGIN:DAYLIGHT
TZOFFSETFROM:-0600
TZOFFSETTO:-0500
TZNAME:CDT
DTSTART:20260308T080000
END:DAYLIGHT
BEGIN:STANDARD
TZOFFSETFROM:-0500
TZOFFSETTO:-0600
TZNAME:CST
DTSTART:20261101T070000
END:STANDARD
END:VTIMEZONE
BEGIN:VEVENT
DTSTART;TZID=America/Chicago:20250920T103000
DTEND;TZID=America/Chicago:20250920T123000
DTSTAMP:20260423T162944
CREATED:20250113T225724Z
LAST-MODIFIED:20250811T213109Z
UID:10000311-1758364200-1758371400@arcadiaroundbarn.com
SUMMARY:Saturday Morning Music Sessions
DESCRIPTION:“Saturday Morning Music Sessions” features revolving weekly acoustic music performances by guest musicians\, by our own house bands\, Joe Baxter & The Lost Cause\, and the Round Barn Music’s new project\, “The RoundAbouts”. There is a professional invite-only songwriters group that meets monthly on 4th Saturdays. The Public is Invited to ALL music events.
URL:https://arcadiaroundbarn.com/event/saturday-morning-music-sessions-2/2025-09-20/
LOCATION:Arcadia Round Barn\, 107 OK-66\, Arcadia\, OK\, 73034\, United States
CATEGORIES:Music
ATTACH;FMTTYPE=image/jpeg:https://eadn-wc04-4235393.nxedge.io/wp-content/uploads/2025/01/Saturday-Morning-Music-Sessions-logo-idea_SM.jpg
END:VEVENT
BEGIN:VEVENT
DTSTART;TZID=America/Chicago:20250920T103000
DTEND;TZID=America/Chicago:20250920T150000
DTSTAMP:20260423T162944
CREATED:20250219T181635Z
LAST-MODIFIED:20250821T192018Z
UID:10000491-1758364200-1758380400@arcadiaroundbarn.com
SUMMARY:Sounds on 66 Live Music from Edmond to Wellston
DESCRIPTION:The first annual Sounds on 66 live music collaboration is highlighting musicians and bands along The Mother Road. The Greatest 100 Miles of Route 66 is the Midpoint Corridor: 11 cities from Edmond to Sapulpa. Four of these cities along the Midpoint Corridor are teaming up to entertain travelers. Enjoy 12 live music events and 24 different musicians and bands in Edmond\, Arcadia\, Luther and Wellston from Thursday\, September 18 through Sunday\, September 21. \n\n\n\n“Main Street America is Route 66\,” said Jennifer Thornton\, Tourism Director of Visit Edmond. “Live music attracts families\, couples and college students and retirees for an enjoyable weekend spent on this stretch of Route 66.” This is just the beginning of multicity partnerships and new events along Mother Road as we prepare for Route 66 Centennial in 2026. \n\n\n\n\n\n\n\nLive Music Details by Day:\n\n\n\n\n\n\n\nTHURSDAY\, SEPT 18\n\n\n\n\nEdmond Stephenson Park\n\n6–8:30 p.m. — Old Bulldog Band (Classic Rock)\n\n\n\n\n\nArcadia Chicken Shack\n\n6–9 p.m. — Matt Cowell\n\n\n\n\n\n\n\n\n\n\nFRIDAY\, SEPTEMBER 19\n\n\n\n\nArcadia Chicken Shack\n\n5–8 p.m. — Mitch Hayes\n\n\n\n8–11 p.m. — Bottom of the Barrel Band\n\n\n\n\n\nEdmond Old Icehouse\n\n7–10 p.m. — Hosty (Blues\, Rock County and Funk)\n\n\n\n\n\n\n\n\n\n\nSATURDAY\, SEPTEMBER 20\n\n\n\n\nLuther Shack on 66\n\n8–10 a.m. — Cali Sickler\n\n\n\n10 a.m.–noon — Nikki Jackson\n\n\n\n12–3 p.m. — Jonathan Meraz Band\n\n\n\n3–5 p.m. — Matt Cowell\n\n\n\n5–7 p.m. — Justin Modjeski Band\n\n\n\n\n\nArcadia Round Barn\n\n10:30 a.m.–12:30 p.m. — Joe Baxter and The Lost Cause (Original Americana)\n\n\n\n1–3 p.m. — Mighty Green (Reggae and Rock)\n\n\n\n\n\nEdmond Old Icehouse\n\n12–3 p.m. — Zac Copeland (Americana)\n\n\n\n\n\nArcadia Chicken Shack\n\n11 a.m.–1 p.m. — Rocky Kanaga\n\n\n\n1–3 p.m. — Kasey Dillon\n\n\n\n3–6 p.m. — Mitch Hayes\n\n\n\n8–11 p.m. — Adam Aguilar Band\n\n\n\n\n\nEdmond Frenzy Brewing\n\n2–4 p.m. — Masopust (Polka)\n\n\n\n5–7 p.m. — Bohemian Knights (Oom-pah Band)\n\n\n\n8–11 p.m. — Steve Brann (Acoustic Rock from 70’s\, 80’s & 90’s)\n\n\n\n\n\nWellston Butcher BBQ Stand\n\n6–9 p.m. — Tom Pevear (Americana Blue Grass)\n\n\n\n\n\nEdmond Heard on Hurd\n\n6–7 p.m. — BLY (R&B and Pop)\n\n\n\n7:20–8:20 p.m. — Stephen Salewon (Modern Pop\, Folk and African Rhythms)\n\n\n\n8:40–10 p.m. — KALO (electric guitar)\n\n\n\n\n\n\n\n\n\n\nSUNDAY\, SEPTEMBER 21\n\n\n\n\nArcadia Chicken Shack\n\n3–8 p.m. — Energetic Gospel Music\n\n\n\n\n\n\nEdmond\, Arcadia\, Luther and Wellston are ready to welcome music lovers along the Route 66 Midpoint Corridor with a dozen live music events from Thursday\, September 18 through Sunday\, September 21. A variety of music genres will thrill locals and visitors. \n\n\n\nFor more information visit www.visitedmondok.com and Sounds on 66 and follow Visit Edmond\, City of Edmond Parks and Recreation\, Arcadia Round Barn\, Frenzy Brewing Company\, The Chicken Shack\, The Old Icehouse\, The Butcher BBQ Stand\, Heard on Hurd\, and Midpoint Corridor on social media.
URL:https://arcadiaroundbarn.com/event/route-66-corridor-festival/
LOCATION:OK
CATEGORIES:Music
ATTACH;FMTTYPE=image/jpeg:https://eadn-wc04-4235393.nxedge.io/wp-content/uploads/2025/04/Sept_18-21_Sounds_on_66_Flyer-scaled.jpg
END:VEVENT
BEGIN:VEVENT
DTSTART;TZID=America/Chicago:20250920T130000
DTEND;TZID=America/Chicago:20250920T133000
DTSTAMP:20260423T162944
CREATED:20250115T182804Z
LAST-MODIFIED:20250123T204425Z
UID:10000469-1758373200-1758375000@arcadiaroundbarn.com
SUMMARY:Arcadia Round Barn Public Tours — Saturdays
DESCRIPTION:Would you like to learn more about one of the most photographed icon on Route 66 in Oklahoma? Join  us for a free\, guided public tour every Saturday afternoon at 1 p.m. at the Arcadia Round Barn. \n\n\n\nOur tour guides are trained in the history of the 1898 landmark that is also listed on the National Register of Historic Places. \n\n\n\nTours will take place from 1 to 1:30 p.m. at 107 E. Highway 66 inside the Arcadia Round Barn. Please arrive five minutes before the start time in the lower level gift shop of the barn. Allow 30 minutes for the guided tour and then browse the grounds\, gift shop and museum at your leisure. The Round Barn is six miles east of Interstate 35 on historic Route 66 and is open every day from 10 a.m. to 5 p.m. Please park in the designated parking lot behind the Arcadia Round Barn. For more information about the public tours at the Round Barn\, call Andrea at 405-822-6156 or 405-396-0824. \n\n\n\nReserve Your Spot\n\n\n\nThis is a free\, guided public tour. \n\n\n\n\n                \n                        \n                            This is a free\, guided public tour. \n                        \n                        Name(Required)\n                            \n                            \n                                                    \n                                                    First\n                                                \n                            \n                            \n                                                    \n                                                    Last\n                                                \n                            \n                        Email(Required)\n                            \n                        Phone(Required)Date(Required)Pick your Saturday.\n                            \n                            MM slash DD slash YYYY\n                        \n                        Number in Party(Required)\n          \n            \n            \n            \n            \n            \n            \n            \n            \n            \n            \n            \n            \n            \n        \n                        \n                        \n\n\n\nArcadia Round Barn Tour (photo by Shellee Graham)Pictured: Andrea Moon (Round Barn Events Coordinator) with visitors from Vermont and Ohio.\n\n\n\nFOR PHOTOGRAPHYContact Shellee Graham • PR at the Arcadia Round Barn • 405-650-3309 • shellee66@earthlink.net \n\n\n\nArcadia Round Barn on Route 66(photo by Shellee Graham)
URL:https://arcadiaroundbarn.com/event/r-b-public-tour/2025-09-20/
LOCATION:Arcadia Round Barn\, 107 OK-66\, Arcadia\, OK\, 73034\, United States
ATTACH;FMTTYPE=image/jpeg:https://eadn-wc04-4235393.nxedge.io/wp-content/uploads/2025/01/IMG_7699_Andrea-Moon-giving-a-tour-to-visitors-Jonathan-Elliot-Reuben-kneeling_Jan-15_2025_SM_Shellee-Graham-photo.jpg
END:VEVENT
END:VCALENDAR