BEGIN:VCALENDAR
VERSION:2.0
PRODID:-//Arcadia Round Barn - ECPv6.15.20//NONSGML v1.0//EN
CALSCALE:GREGORIAN
METHOD:PUBLISH
X-WR-CALNAME:Arcadia Round Barn
X-ORIGINAL-URL:https://arcadiaroundbarn.com
X-WR-CALDESC:Events for Arcadia Round Barn
REFRESH-INTERVAL;VALUE=DURATION:PT1H
X-Robots-Tag:noindex
X-PUBLISHED-TTL:PT1H
BEGIN:VTIMEZONE
TZID:America/Chicago
BEGIN:DAYLIGHT
TZOFFSETFROM:-0600
TZOFFSETTO:-0500
TZNAME:CDT
DTSTART:20240310T080000
END:DAYLIGHT
BEGIN:STANDARD
TZOFFSETFROM:-0500
TZOFFSETTO:-0600
TZNAME:CST
DTSTART:20241103T070000
END:STANDARD
BEGIN:DAYLIGHT
TZOFFSETFROM:-0600
TZOFFSETTO:-0500
TZNAME:CDT
DTSTART:20250309T080000
END:DAYLIGHT
BEGIN:STANDARD
TZOFFSETFROM:-0500
TZOFFSETTO:-0600
TZNAME:CST
DTSTART:20251102T070000
END:STANDARD
BEGIN:DAYLIGHT
TZOFFSETFROM:-0600
TZOFFSETTO:-0500
TZNAME:CDT
DTSTART:20260308T080000
END:DAYLIGHT
BEGIN:STANDARD
TZOFFSETFROM:-0500
TZOFFSETTO:-0600
TZNAME:CST
DTSTART:20261101T070000
END:STANDARD
END:VTIMEZONE
BEGIN:VEVENT
DTSTART;TZID=America/Chicago:20250629T130000
DTEND;TZID=America/Chicago:20250629T150000
DTSTAMP:20260423T194231
CREATED:20250218T234915Z
LAST-MODIFIED:20250613T205847Z
UID:10000244-1751202000-1751209200@arcadiaroundbarn.com
SUMMARY:Joe Baxter — Barn Music — Elm Tree Concerts
DESCRIPTION:JOE BAXTER is an excellent storyteller. That’s why he’s also prolific songwriter and performer. We get to hear Joe Baxter tell stories and sing songs on Sunday\, June 29th at 1 p.m. \n\n\n\nBaxter is a fourth-generation Okie; a proud descendent of original hard-scrabble homesteaders. He’s retired from doing any actual WORK\, but continues to perform as much as possible.  \n\n\n\nJoe has been knocking around the Oklahoma music scene for several decades. Known as a capable and copius songwriter\, Joe’s songs deal with Everyman’s Every Day. Love\, hate\, pain\, joy\, silly\, and serious. All of Joe’s followers\, friends\, and family have a “favorite” JB song.  A few of his songs have won awards. My personal favorite is “Romeo’s Girl.” \n\n\n\nThe discography spans thirty years\, and includes 11 all­ original albums from 1994’s “ Blue Tape” through 2023’s “ Interesting Times”. Joe’s songwriting mantra is “We record\, therefore we are! ” \n\n\n\nIn Joe Baxter’s own words\, he is: “A long-suffering\, little-known\, hometown\, pre-Americana\, redneck\, short-haired\, red-faced\, irreverent\, irresponsible\, quirkily well-read\, bombastic yet insightful\, mouth-breathing\, loud-laughing\, dog-loving\, nap-taking\, no-workin’\, fish-catching\, backroad-driving … Okie song writer.”    \n\n\n\nYou’ll find Baxter at the Round Barn 2-3 times a week\, often he plays with his friends Curt and Richard\, who play mandolin and fiddle. Together they are the Round Barn Ramblers. When Baxter was interviewed (by KFOR’s Galen Culver)\, Joe explained that “BARN MUSIC is a subgenre of OKIE NOIR.”  I loved that JB quote and I learned that Okie Noir is sub-genre created by Oklahoma’s best-selling auhor Faith Phillips.  \n\n\n\nLucky for the Round Barn\, Baxter also happens to be the Music Director. He’s responsible for recruiting professional musicians for dozens of FREE concerts at the Barn every year. “We’re so fortunate to have him\, Joe is a fantastic volunteeer in addition to being a dynamic songwriter and musician\,” said Linda Simonton\, President of Arcadia Historical & Preservation Society.  \n\n\n\nCheck out JOE BAXTER and the Lost Cause under the shade of the historic Elm tree\, outside of the 1898 Round Barn in Arcadia. You’ll be glad you did. \n\n\n\n\n\n\n\n•• JOE BAXTER Concert Details •• \n\n\n\n\nWHEN: Sunday\, June 29th @ 1 p.m.\n\n\n\nWHERE: The Arcadia Round Barn is located in Arcadia\, OK. 107 OK-66\, Arcadia\, OK  73007 •  Six miles east of Interstate 35 on Route 66.  \n\n\n\nADMISSION: FREE\, but donations for the upkeep of the Round Barn are appreciated\n\n\n\nEXTRAS: Bring a lawn chair in the back of the car\, or grab one of the picnic tables. The show always goes on—rain or shine; we just move upstairs into the loft. \n\n\n\n\n \n\n\n\nSponsored by The Arcadia Historical & Preservation Society
URL:https://arcadiaroundbarn.com/event/joe-baxter-barn-music-elm-tree-concerts/
LOCATION:Arcadia Round Barn\, 107 OK-66\, Arcadia\, OK\, 73034\, United States
CATEGORIES:Elm Tree Concerts,Live Concerts,Music
ATTACH;FMTTYPE=image/png:https://eadn-wc04-4235393.nxedge.io/wp-content/uploads/2025/06/Joe-Baxter.png
END:VEVENT
END:VCALENDAR