BEGIN:VCALENDAR
VERSION:2.0
PRODID:-//Arcadia Round Barn - ECPv6.15.20//NONSGML v1.0//EN
CALSCALE:GREGORIAN
METHOD:PUBLISH
X-ORIGINAL-URL:https://arcadiaroundbarn.com
X-WR-CALDESC:Events for Arcadia Round Barn
REFRESH-INTERVAL;VALUE=DURATION:PT1H
X-Robots-Tag:noindex
X-PUBLISHED-TTL:PT1H
BEGIN:VTIMEZONE
TZID:America/Chicago
BEGIN:DAYLIGHT
TZOFFSETFROM:-0600
TZOFFSETTO:-0500
TZNAME:CDT
DTSTART:20240310T080000
END:DAYLIGHT
BEGIN:STANDARD
TZOFFSETFROM:-0500
TZOFFSETTO:-0600
TZNAME:CST
DTSTART:20241103T070000
END:STANDARD
BEGIN:DAYLIGHT
TZOFFSETFROM:-0600
TZOFFSETTO:-0500
TZNAME:CDT
DTSTART:20250309T080000
END:DAYLIGHT
BEGIN:STANDARD
TZOFFSETFROM:-0500
TZOFFSETTO:-0600
TZNAME:CST
DTSTART:20251102T070000
END:STANDARD
BEGIN:DAYLIGHT
TZOFFSETFROM:-0600
TZOFFSETTO:-0500
TZNAME:CDT
DTSTART:20260308T080000
END:DAYLIGHT
BEGIN:STANDARD
TZOFFSETFROM:-0500
TZOFFSETTO:-0600
TZNAME:CST
DTSTART:20261101T070000
END:STANDARD
END:VTIMEZONE
BEGIN:VEVENT
DTSTART;TZID=America/Chicago:20250518T130000
DTEND;TZID=America/Chicago:20250518T150000
DTSTAMP:20260423T232809
CREATED:20250218T224616Z
LAST-MODIFIED:20250502T202431Z
UID:10000489-1747573200-1747580400@arcadiaroundbarn.com
SUMMARY:The McKedys — Classic Country — Elm Tree Concerts
DESCRIPTION:ARCADIA\, OK—Are you a fan of country music? We’re talkin’ Traditional Country and Western  Swing. The McKedy Band is a family band that has been making great music for years.  “We are passionate about country music and our performances have been a hit with audiences of all ages\,” said Mackynsie McKedy by phone. \n\n\n\nTheir unique sound comes from a father-daughter-son trio with father\, Byron McKedy\, on steel guitar & vocals\, 21-year-old daughter Mackynsie McKedy\, on fiddle & vocals\, and 18-year-old son\, Austin McKedy\,  on lead guitar & vocals. The McKedys hometown is McLoud\, Oklahoma. \n\n\n\nWhile chatting with Mackynsie\, I learned some fun facts: Austin McKedy is also a bull rider on the rodeo circuit. He loves it. Mackynsie is a music therapy major in college and the reigning Miss Lincoln County.  She qualified for the Miss Oklahoma Pageant.  \n\n\n\nAll three of the McKedys have solo careers and have several singles on all musical platforms. Both Mackynsie and Austin are represented by Clarksville Creative Sound in Nashville.  \n\n\n\nThe Arcadia Round Barn has been a second home to the McKedy family. They’ve been playing as a family for about 15 years and going to musical jams at the Round Barn for nine years.  Round Barn music director  Joe Baxter said\, “The McKedy kids practically grew up at the Round Barn\, playing here at every opportunity\, honing their skills.” \n\n\n\nThe McKedy Band has won several awards\, including the Oklahoma Country Music Singers Association and the Josie Music Awards. \n\n\n\nSo you like country music? We’ve got your concert right here at the Round Barn on May 18th! \n\n\n\nThe McKedy Band CONCERT DETAILS : \n\n\n\n\nWhen: Sunday\, May 18th @ 1 p.m.\n\n\n\nWhere: Arcadia Round Barn\,  north side  (6 miles east of I-35 on Route 66)\n\n\n\nAdmission: FREE  (donations accepted)\n\n\n\nExtras: Bring a lawn chair or grab a picnic table; the museum is open 10 a.m. – 5 p.m.\n\n\n\n\nFor updates\, call 405-833-1350 or visit the Round Barn’s website.  \n\n\n\n\nDownload Flyer
URL:https://arcadiaroundbarn.com/event/the-mckedys-elm-tree-concerts/
LOCATION:OK
CATEGORIES:Elm Tree Concerts,Music
ATTACH;FMTTYPE=image/jpeg:https://eadn-wc04-4235393.nxedge.io/wp-content/uploads/2025/05/The-McKedys-band-photo-with-logo_SM.jpg
END:VEVENT
END:VCALENDAR