BEGIN:VCALENDAR
VERSION:2.0
PRODID:-//Arcadia Round Barn - ECPv6.15.20//NONSGML v1.0//EN
CALSCALE:GREGORIAN
METHOD:PUBLISH
X-WR-CALNAME:Arcadia Round Barn
X-ORIGINAL-URL:https://arcadiaroundbarn.com
X-WR-CALDESC:Events for Arcadia Round Barn
REFRESH-INTERVAL;VALUE=DURATION:PT1H
X-Robots-Tag:noindex
X-PUBLISHED-TTL:PT1H
BEGIN:VTIMEZONE
TZID:America/Chicago
BEGIN:DAYLIGHT
TZOFFSETFROM:-0600
TZOFFSETTO:-0500
TZNAME:CDT
DTSTART:20230312T080000
END:DAYLIGHT
BEGIN:STANDARD
TZOFFSETFROM:-0500
TZOFFSETTO:-0600
TZNAME:CST
DTSTART:20231105T070000
END:STANDARD
BEGIN:DAYLIGHT
TZOFFSETFROM:-0600
TZOFFSETTO:-0500
TZNAME:CDT
DTSTART:20240310T080000
END:DAYLIGHT
BEGIN:STANDARD
TZOFFSETFROM:-0500
TZOFFSETTO:-0600
TZNAME:CST
DTSTART:20241103T070000
END:STANDARD
BEGIN:DAYLIGHT
TZOFFSETFROM:-0600
TZOFFSETTO:-0500
TZNAME:CDT
DTSTART:20250309T080000
END:DAYLIGHT
BEGIN:STANDARD
TZOFFSETFROM:-0500
TZOFFSETTO:-0600
TZNAME:CST
DTSTART:20251102T070000
END:STANDARD
END:VTIMEZONE
BEGIN:VEVENT
DTSTART;TZID=America/Chicago:20241214T100000
DTEND;TZID=America/Chicago:20241214T163000
DTSTAMP:20260424T091541
CREATED:20241125T165034Z
LAST-MODIFIED:20241125T165133Z
UID:10000241-1734170400-1734193800@arcadiaroundbarn.com
SUMMARY:Arcadia Christmas Event set for December 14 at Windmill Shops and Arcadia Round Barn
DESCRIPTION:ARCADIA – The Windmill Shops and The Arcadia Round Barn will celebrate Christmas with joint events for the public held from 10am to 4:30pm on Saturday\, December 14. \n\n\n\nCarolers\, Coffee\, Cider\, Storytelling\, plus a Christmas Scene Photo OP are just some of the activities planned.  \n\n\n\nSATURDAY\, DECEMBER 14th \n\n\n\nThe Windmill Shops – HW66 and Odor Street \n\n\n\n10am – 2pm – Farmers Market Vendors12:30pm – 2pm – Carolers\, Coffee\, & Cider – Hope City Church and Hebrews Coffee Shop12:30pm – 2pm – Serving popcorn – courtesy of Arcadia Tag Agency \n\n\n\nThe Arcadia “ROUND BARN” – 107 E HW66 \n\n\n\n2pm – 4:30pm – Storytelling\, Sharing Memories PLUS incredible Christmas scene for Photo OP. \n\n\n\nThe Round barn was built in 1898 by William Odor and J.H. Keely.  The town of Arcadia was founded by Odor and other landowners in 1902 after the Missouri\, Kansas and Texas Railroad was built to the south of the barn. A dirt road designated as State Highway 7 was built between the barn and the railroad tracks in 1914\, and in 1926 the still-unpaved road became U.S. Highway 66. \n\n\n\nThe barn is located six miles east of Interstate 35 on historical Route 66 and is open every day from 10 a.m. to 5 p.m. Admission is free but donations are accepted for the maintenance of the barn.  Visit www.arcadiaroundbarn.com for more information. \n\n\n\nThe Windmill Shops are located 1 block east of the Round Barn in Arcadia.  \n\n\n\nMidpoint Corridor is an organization whose goal is to promote the towns/cities that span from Edmond to Sapulpa\, and are promoted as the 100 Greatest Miles along Route 66.  Visit www.midpointcorridor.com for more information.  \n\n\n\nPlease join us as we promote the Midpoint Corridor events along Route 66 – see ALL events at www.midpointcorridor.com/event-list. \n\n\n\nFor more information about the Christmas event\, call Andrea Moon at (405) 822-6156.
URL:https://arcadiaroundbarn.com/event/arcadia-christmas-event-set-for-december-14-at-windmill-shops-and-arcadia-round-barn/
LOCATION:OK
CATEGORIES:Annual Event
ATTACH;FMTTYPE=image/jpeg:https://eadn-wc04-4235393.nxedge.io/wp-content/uploads/2024/11/Old-Time-Christmas-Round-Barn-2024-LOGO_plus-WMS-graphic.jpg
END:VEVENT
BEGIN:VEVENT
DTSTART;TZID=America/Chicago:20241214T103000
DTEND;TZID=America/Chicago:20241214T123000
DTSTAMP:20260424T091541
CREATED:20240219T174557Z
LAST-MODIFIED:20240219T175327Z
UID:10000237-1734172200-1734179400@arcadiaroundbarn.com
SUMMARY:Saturday Morning Music Sessions
DESCRIPTION:Live Acoustic Music – In the Gift Shopwith the Round Barn RamblersSaturdays / 10:30 AM – 12:30 PM
URL:https://arcadiaroundbarn.com/event/saturday-morning-music-sessions/2024-12-14/
LOCATION:OK
CATEGORIES:Music,Saturday Morning Music Sessions
ATTACH;FMTTYPE=image/png:https://eadn-wc04-4235393.nxedge.io/wp-content/uploads/2022/03/THE-ROUND-BARN-RAMBLERS-sign.png
END:VEVENT
END:VCALENDAR